{"text_format":"3","workbook":"xlsx","n_sheets":6,"sheets":["Main","Future Intra","Cash Intra","MidCap Intra","Bulk Deals","Call Tracker (Equity & F&O)"],"not_rendered":{"images":4,"external_links":1,"defined_names":4},"read":"whole","date_system":"1900"}

{"sheet":"Main","index":0,"n_rows":27,"n_cols":11,"rows_kept":27}
[null,"                                                                                                 "]
{"$rows_empty":8}
[null,"2021-02-17"]
[]
[null,"Sheet No.","Template Name","Summary"]
[null,1,"Future Intra","For Intraday trading in F&O segment"]
[null,2,"Cash Intra","For Intraday trading in cash market segment"]
[null,3,"Mid-cap Intra","For Intraday trading in Mid-cap stocks"]
[null,4,"Bulk Deals","Reveals Bulk Deals carried on NSE & BSE"]
[null,5,"Call Tracker"]
{"$rows_empty":9}
[{"$nulls":10},"`"]

{"sheet":"Future Intra","index":1,"n_rows":190,"n_cols":16,"rows_kept":190,"merged":[[8,0,9,0],[8,1,9,1],[8,2,9,2],[8,3,9,3],[8,6,8,8],[8,9,8,11]]}
[]
[]
[]
[]
[{"$nulls":12},"Back to Main Page"]
["FOR INTRA DAY TRADING",{"$nulls":10},{"$f":"Main!B10","v":"2021-02-17"}]
[]
[]
["Sr.no","Sector","Scrip","Expiry Date","CLOSE RATE","Pivot Point","Supports",null,null,"Resistances"]
[null,"Sector",null,null,"Point","Point","S1","S2","S3","R1","R2","R3","HIGH","LOW","OI","% Change in OI"]
[1,"Index","BANKNIFTY","2021-02-25",37218.15,{"v":37273.583333333336,"d":"37273.58"},{"v":36777.16666666667,"d":"36777.17"},{"v":36336.183333333334,"d":"36336.18"},{"v":35839.76666666667,"d":"35839.77"},{"v":37714.56666666667,"d":"37714.57"},{"v":38210.983333333344,"d":"38210.98"},{"v":38651.966666666674,"d":"38651.97"},37770,36832.6,1934275,{"v":-0.12554391437516246,"d":"-12.55%"}]
[2,"Index","NIFTY","2021-02-25",15330.25,{"v":15335.449999999999,"d":"15335.45"},{"v":15240.899999999998,"d":"15240.90"},15151.55,{"v":15056.999999999998,"d":"15057.00"},{"v":15424.799999999997,"d":"15424.80"},{"v":15519.349999999997,"d":"15519.35"},{"v":15608.699999999997,"d":"15608.70"},15430,15246.1,12693375,{"v":-1.3099895554886793E-3,"d":"-0.13%"}]
[3,"Index","FINNIFTY","2021-02-25",{"v":17505.4,"d":"17505.40"},{"v":17550.583333333332,"d":"17550.58"},{"v":17304.816666666666,"d":"17304.82"},{"v":17104.233333333334,"d":"17104.23"},{"v":16858.466666666667,"d":"16858.47"},{"v":17751.166666666664,"d":"17751.17"},{"v":17996.933333333334,"d":"17996.93"},{"v":18197.516666666663,"d":"18197.52"},17796.35,17350,28920,{"v":-0.08596713021491782,"d":"-8.60%"}]
[4,"Others","AARTIIND","2021-02-25",1228.25,{"v":1222.3500000000001,"d":"1222.35"},{"v":1215.0500000000002,"d":"1215.05"},{"v":1201.8500000000001,"d":"1201.85"},{"v":1194.5500000000002,"d":"1194.55"},{"v":1235.5500000000002,"d":"1235.55"},1242.85,{"v":1256.0500000000002,"d":"1256.05"},1229.65,1209.15,549950,{"v":-0.05616338439095551,"d":"-5.62%"}]
[5,"Cement","ACC","2021-02-25",{"v":1826.2,"d":"1826.20"},{"v":1823,"d":"1823.00"},{"v":1797,"d":"1797.00"},{"v":1767.8,"d":"1767.80"},{"v":1741.8,"d":"1741.80"},{"v":1852.2,"d":"1852.20"},{"v":1878.2,"d":"1878.20"},{"v":1907.4,"d":"1907.40"},1849,1793.8,3362000,{"v":-0.03140305387496399,"d":"-3.14%"}]
[6,"Others","ADANIENT","2021-02-25",{"v":783.7,"d":"783.70"},{"v":781.7833333333333,"d":"781.78"},{"v":760.5666666666666,"d":"760.57"},{"v":737.4333333333333,"d":"737.43"},{"v":716.2166666666666,"d":"716.22"},{"v":804.9166666666666,"d":"804.92"},{"v":826.1333333333333,"d":"826.13"},{"v":849.2666666666667,"d":"849.27"},803,758.65,16560000,{"v":0.010865584177756073,"d":"1.09%"}]
[7,"Others","ADANIPORTS","2021-02-25",639.85,{"v":638.0833333333334,"d":"638.08"},{"v":631.2666666666668,"d":"631.27"},{"v":622.6833333333334,"d":"622.68"},{"v":615.8666666666668,"d":"615.87"},{"v":646.6666666666667,"d":"646.67"},{"v":653.4833333333333,"d":"653.48"},{"v":662.0666666666667,"d":"662.07"},644.9,629.5,53445000,{"v":0.028282828282828285,"d":"2.83%"}]
[8,"Automobile","AMARAJABAT","2021-02-25",898.85,{"v":904.4666666666667,"d":"904.47"},{"v":886.6333333333334,"d":"886.63"},{"v":874.4166666666667,"d":"874.42"},{"v":856.5833333333335,"d":"856.58"},{"v":916.6833333333334,"d":"916.68"},{"v":934.5166666666667,"d":"934.52"},{"v":946.7333333333333,"d":"946.73"},922.3,892.25,3426000,{"v":0.0910828025477707,"d":"9.11%"}]
[9,"Cement","AMBUJACEM","2021-02-25",{"v":285.2,"d":"285.20"},{"v":284.6166666666666,"d":"284.62"},{"v":281.3833333333332,"d":"281.38"},{"v":277.5666666666666,"d":"277.57"},{"v":274.3333333333332,"d":"274.33"},{"v":288.4333333333332,"d":"288.43"},{"v":291.6666666666667,"d":"291.67"},{"v":295.48333333333323,"d":"295.48"},287.85,280.8,18594000,{"v":-0.011640886620953595,"d":"-1.16%"}]
[10,"Others","APOLLOHOSP","2021-02-25",{"v":3203.2,"d":"3203.20"},{"v":3172.383333333333,"d":"3172.38"},{"v":3090.7666666666664,"d":"3090.77"},{"v":2978.333333333333,"d":"2978.33"},{"v":2896.7166666666662,"d":"2896.72"},{"v":3284.8166666666666,"d":"3284.82"},{"v":3366.4333333333334,"d":"3366.43"},{"v":3478.866666666667,"d":"3478.87"},3254,3059.95,2031500,{"v":-0.005628976994615761,"d":"-0.56%"}]
[11,"Automobile","APOLLOTYRE","2021-02-25",237.35,{"v":237.23333333333335,"d":"237.23"},{"v":233.4666666666667,"d":"233.47"},{"v":229.58333333333334,"d":"229.58"},{"v":225.8166666666667,"d":"225.82"},{"v":241.1166666666667,"d":"241.12"},{"v":244.88333333333335,"d":"244.88"},{"v":248.7666666666667,"d":"248.77"},241,233.35,19155000,{"v":0.024879614767255216,"d":"2.49%"}]
[12,"Automobile","ASHOKLEY","2021-02-25",{"v":129.3,"d":"129.30"},{"v":129.86666666666667,"d":"129.87"},{"v":127.43333333333334,"d":"127.43"},{"v":125.56666666666666,"d":"125.57"},{"v":123.13333333333333,"d":"123.13"},{"v":131.73333333333335,"d":"131.73"},{"v":134.16666666666669,"d":"134.17"},{"v":136.03333333333336,"d":"136.03"},132.3,128,45252000,{"v":0.06345177664974619,"d":"6.35%"}]
[13,"FMCG","ASIANPAINT","2021-02-25",2460.45,{"v":2455.7999999999997,"d":"2455.80"},{"v":2432.8499999999995,"d":"2432.85"},{"v":2405.2499999999995,"d":"2405.25"},{"v":2382.2999999999993,"d":"2382.30"},{"v":2483.3999999999996,"d":"2483.40"},{"v":2506.3499999999995,"d":"2506.35"},2533.95,2478.75,2428.2,6357300,{"v":0.024214596423392944,"d":"2.42%"}]
[14,"Pharma","AUROPHARMA","2021-02-25",{"v":938.6,"d":"938.60"},{"v":935.2833333333333,"d":"935.28"},{"v":926.7166666666666,"d":"926.72"},{"v":914.8333333333333,"d":"914.83"},{"v":906.2666666666665,"d":"906.27"},{"v":947.1666666666666,"d":"947.17"},{"v":955.7333333333332,"d":"955.73"},{"v":967.6166666666667,"d":"967.62"},943.85,923.4,9188400,{"v":0.003122338915696849,"d":"0.31%"}]
[15,"Banking","AXISBANK","2021-02-25",{"v":778.9,"d":"778.90"},{"v":782.9833333333332,"d":"782.98"},{"v":765.9666666666665,"d":"765.97"},{"v":753.0333333333332,"d":"753.03"},{"v":736.0166666666664,"d":"736.02"},{"v":795.9166666666665,"d":"795.92"},{"v":812.9333333333332,"d":"812.93"},{"v":825.8666666666666,"d":"825.87"},800,770.05,46724400,{"v":-0.0283725108549184,"d":"-2.84%"}]
[16,"Automobile","BAJAJ-AUTO","2021-02-25",{"v":4147.4,"d":"4147.40"},{"v":4156.116666666667,"d":"4156.12"},{"v":4121.183333333333,"d":"4121.18"},{"v":4094.9666666666662,"d":"4094.97"},{"v":4060.033333333333,"d":"4060.03"},{"v":4182.333333333334,"d":"4182.33"},{"v":4217.266666666668,"d":"4217.27"},{"v":4243.4833333333345,"d":"4243.48"},4191.05,4129.9,1738250,{"v":-0.01932299012693935,"d":"-1.93%"}]
[17,"Finance","BAJAJFINSV","2021-02-25",10494.95,{"v":10480.783333333333,"d":"10480.78"},{"v":10393.666666666666,"d":"10393.67"},{"v":10292.383333333333,"d":"10292.38"},{"v":10205.266666666666,"d":"10205.27"},{"v":10582.066666666666,"d":"10582.07"},{"v":10669.183333333334,"d":"10669.18"},{"v":10770.466666666665,"d":"10770.47"},10567.9,10379.5,741625,{"v":-0.023856531753866404,"d":"-2.39%"}]
[18,"Finance","BAJFINANCE","2021-02-25",5776.75,{"v":5771.150000000001,"d":"5771.15"},{"v":5712.300000000001,"d":"5712.30"},5647.85,{"v":5589.000000000001,"d":"5589.00"},{"v":5835.600000000001,"d":"5835.60"},{"v":5894.450000000002,"d":"5894.45"},{"v":5958.9000000000015,"d":"5958.90"},5830,5706.7,4282500,{"v":-0.04124923042480551,"d":"-4.12%"}]
[19,"Automobile","BALKRISIND","2021-02-25",1629.05,{"v":1634.6833333333334,"d":"1634.68"},{"v":1608.3666666666668,"d":"1608.37"},{"v":1587.6833333333334,"d":"1587.68"},{"v":1561.3666666666668,"d":"1561.37"},{"v":1655.3666666666668,"d":"1655.37"},{"v":1681.6833333333334,"d":"1681.68"},{"v":1702.3666666666668,"d":"1702.37"},1661,1614,3116400,{"v":0.035348837209302326,"d":"3.53%"}]
[20,"Banking","BANDHANBNK","2021-02-25",351.75,{"v":347.76666666666665,"d":"347.77"},{"v":341.4833333333333,"d":"341.48"},{"v":331.21666666666664,"d":"331.22"},{"v":324.9333333333333,"d":"324.93"},{"v":358.0333333333333,"d":"358.03"},{"v":364.3166666666666,"d":"364.32"},{"v":374.5833333333333,"d":"374.58"},354.05,337.5,25659000,{"v":-0.04680708793045804,"d":"-4.68%"}]
[21,"Banking","BANKBARODA","2021-02-25",79.45,{"v":79.89999999999999,"d":"79.90"},{"v":77.84999999999998,"d":"77.85"},{"v":76.24999999999999,"d":"76.25"},{"v":74.19999999999997,"d":"74.20"},{"v":81.49999999999999,"d":"81.50"},83.55,{"v":85.14999999999999,"d":"85.15"},81.95,78.3,95881500,{"v":-0.023474737845567206,"d":"-2.35%"}]
[22,"FMCG","BATAINDIA","2021-02-25",{"v":1529.2,"d":"1529.20"},{"v":1539.5166666666667,"d":"1539.52"},{"v":1512.4833333333333,"d":"1512.48"},{"v":1495.7666666666667,"d":"1495.77"},{"v":1468.7333333333333,"d":"1468.73"},{"v":1556.2333333333333,"d":"1556.23"},{"v":1583.2666666666667,"d":"1583.27"},{"v":1599.9833333333333,"d":"1599.98"},1566.55,1522.8,1800700,{"v":0.04300732717425932,"d":"4.30%"}]
[23,"Capital_Goods","BEL","2021-02-25",{"v":133.8,"d":"133.80"},{"v":135.20000000000002,"d":"135.20"},{"v":131.70000000000005,"d":"131.70"},{"v":129.60000000000002,"d":"129.60"},{"v":126.10000000000005,"d":"126.10"},{"v":137.30000000000004,"d":"137.30"},{"v":140.79999999999998,"d":"140.80"},{"v":142.90000000000003,"d":"142.90"},138.7,133.1,32642000,{"v":0.04171719621634732,"d":"4.17%"}]
[24,"FMCG","BERGEPAINT","2021-02-25",{"v":760.4,"d":"760.40"},{"v":760.9833333333332,"d":"760.98"},{"v":750.9166666666665,"d":"750.92"},{"v":741.4333333333333,"d":"741.43"},{"v":731.3666666666666,"d":"731.37"},{"v":770.4666666666665,"d":"770.47"},{"v":780.5333333333333,"d":"780.53"},{"v":790.0166666666664,"d":"790.02"},771.05,751.5,3463900,{"v":-0.04748941318814277,"d":"-4.75%"}]
[25,"Automobile","BHARATFORG","2021-02-25",633.65,{"v":632.8666666666667,"d":"632.87"},{"v":624.8333333333334,"d":"624.83"},{"v":616.0166666666667,"d":"616.02"},{"v":607.9833333333333,"d":"607.98"},{"v":641.6833333333334,"d":"641.68"},{"v":649.7166666666667,"d":"649.72"},{"v":658.5333333333334,"d":"658.53"},640.9,624.05,7042500,{"v":0.025109170305676855,"d":"2.51%"}]
[26,"Telecom","BHARTIARTL","2021-02-25",{"v":594.5,"d":"594.50"},{"v":596.8000000000001,"d":"596.80"},{"v":591.2000000000002,"d":"591.20"},{"v":587.9000000000001,"d":"587.90"},{"v":582.3000000000002,"d":"582.30"},{"v":600.1000000000001,"d":"600.10"},{"v":605.7,"d":"605.70"},{"v":609.0000000000001,"d":"609.00"},602.4,593.5,89780904,{"v":-0.031392283728732324,"d":"-3.14%"}]
[27,"Capital_Goods","BHEL","2021-02-25",40.05,{"v":39.4,"d":"39.40"},38.65,37.25,{"v":36.5,"d":"36.50"},{"v":40.8,"d":"40.80"},41.55,{"v":42.949999999999996,"d":"42.95"},40.15,38,115710000,{"v":-0.016598250936998037,"d":"-1.66%"}]
[28,"Pharma","BIOCON","2021-02-25",{"v":418.1,"d":"418.10"},415.05,410.75,{"v":403.4,"d":"403.40"},{"v":399.09999999999997,"d":"399.10"},{"v":422.40000000000003,"d":"422.40"},{"v":426.7000000000001,"d":"426.70"},{"v":434.05000000000007,"d":"434.05"},419.35,407.7,15467500,{"v":-0.02733584032398033,"d":"-2.73%"}]
[29,"Automobile","BOSCHLTD","2021-02-25",15650.75,{"v":15637.366666666667,"d":"15637.37"},{"v":15398.533333333333,"d":"15398.53"},{"v":15146.316666666666,"d":"15146.32"},{"v":14907.483333333332,"d":"14907.48"},{"v":15889.583333333334,"d":"15889.58"},{"v":16128.416666666666,"d":"16128.42"},{"v":16380.633333333335,"d":"16380.63"},15876.2,15385.15,100950,{"v":0.057621791513881616,"d":"5.76%"}]
[30,"Oil_Gas","BPCL","2021-02-25",404.05,{"v":404.7833333333333,"d":"404.78"},{"v":401.1166666666666,"d":"401.12"},{"v":398.18333333333334,"d":"398.18"},{"v":394.51666666666665,"d":"394.52"},{"v":407.7166666666666,"d":"407.72"},{"v":411.3833333333333,"d":"411.38"},{"v":414.31666666666655,"d":"414.32"},408.45,401.85,23997600,{"v":-0.008404611379695054,"d":"-0.84%"}]
[31,"FMCG","BRITANNIA","2021-02-25",{"v":3404,"d":"3404.00"},{"v":3411.6666666666665,"d":"3411.67"},{"v":3384.583333333333,"d":"3384.58"},{"v":3365.1666666666665,"d":"3365.17"},{"v":3338.083333333333,"d":"3338.08"},{"v":3431.083333333333,"d":"3431.08"},{"v":3458.166666666666,"d":"3458.17"},{"v":3477.583333333333,"d":"3477.58"},3438.75,3392.25,2951000,{"v":0.026577610798024072,"d":"2.66%"}]
[32,"Pharma","CADILAHC","2021-02-25",{"v":470.9,"d":"470.90"},{"v":470.48333333333335,"d":"470.48"},{"v":465.4166666666667,"d":"465.42"},{"v":459.93333333333334,"d":"459.93"},{"v":454.8666666666667,"d":"454.87"},{"v":475.9666666666667,"d":"475.97"},{"v":481.0333333333333,"d":"481.03"},{"v":486.5166666666667,"d":"486.52"},475.55,465,11440000,{"v":0.044596223382884694,"d":"4.46%"}]
[33,"Banking","CANBK","2021-02-25",163.15,{"v":163.21666666666667,"d":"163.22"},{"v":160.13333333333333,"d":"160.13"},{"v":157.11666666666665,"d":"157.12"},{"v":154.0333333333333,"d":"154.03"},{"v":166.23333333333335,"d":"166.23"},{"v":169.31666666666666,"d":"169.32"},{"v":172.33333333333337,"d":"172.33"},166.3,160.2,60642000,{"v":-1.9552079630287948E-3,"d":"-0.20%"}]
[34,"Finance","CHOLAFIN","2021-02-25",{"v":529.5,"d":"529.50"},{"v":528.6333333333333,"d":"528.63"},{"v":519.8666666666667,"d":"519.87"},{"v":510.23333333333335,"d":"510.23"},{"v":501.4666666666667,"d":"501.47"},{"v":538.2666666666667,"d":"538.27"},{"v":547.0333333333333,"d":"547.03"},{"v":556.6666666666666,"d":"556.67"},537.4,519,5692500,{"v":0.00975609756097561,"d":"0.98%"}]
[35,"Pharma","CIPLA","2021-02-25",{"v":852,"d":"852.00"},{"v":849.4166666666666,"d":"849.42"},{"v":844.5833333333333,"d":"844.58"},{"v":837.1666666666666,"d":"837.17"},{"v":832.3333333333333,"d":"832.33"},{"v":856.8333333333333,"d":"856.83"},{"v":861.6666666666665,"d":"861.67"},{"v":869.0833333333333,"d":"869.08"},854.25,842,12818000,{"v":0.00807688375421736,"d":"0.81%"}]
[36,"Others","COALINDIA","2021-02-25",134.25,{"v":133.9333333333333,"d":"133.93"},{"v":132.4666666666666,"d":"132.47"},{"v":130.6833333333333,"d":"130.68"},{"v":129.2166666666666,"d":"129.22"},{"v":135.7166666666666,"d":"135.72"},{"v":137.1833333333333,"d":"137.18"},{"v":138.9666666666666,"d":"138.97"},135.4,132.15,40504800,{"v":0.036654842523917014,"d":"3.67%"}]
[37,"Technology","COFORGE","2021-02-25",{"v":2618.8,"d":"2618.80"},{"v":2617.7833333333333,"d":"2617.78"},{"v":2585.5666666666666,"d":"2585.57"},{"v":2552.3333333333335,"d":"2552.33"},{"v":2520.116666666667,"d":"2520.12"},{"v":2651.0166666666664,"d":"2651.02"},{"v":2683.2333333333327,"d":"2683.23"},{"v":2716.4666666666662,"d":"2716.47"},2650,2584.55,419250,{"v":-0.014977973568281937,"d":"-1.50%"}]
[38,"FMCG","COLPAL","2021-02-25",{"v":1587.7,"d":"1587.70"},{"v":1589.4333333333332,"d":"1589.43"},{"v":1570.8666666666663,"d":"1570.87"},{"v":1554.033333333333,"d":"1554.03"},{"v":1535.4666666666662,"d":"1535.47"},{"v":1606.2666666666664,"d":"1606.27"},{"v":1624.8333333333335,"d":"1624.83"},{"v":1641.6666666666665,"d":"1641.67"},1608,1572.6,3271100,{"v":-5.109644453906749E-3,"d":"-0.51%"}]
[39,"Others","CONCOR","2021-02-25",537.25,{"v":536.7666666666667,"d":"536.77"},{"v":528.5333333333333,"d":"528.53"},{"v":519.8166666666666,"d":"519.82"},{"v":511.58333333333326,"d":"511.58"},{"v":545.4833333333333,"d":"545.48"},{"v":553.7166666666667,"d":"553.72"},{"v":562.4333333333334,"d":"562.43"},545,528.05,6523962,{"v":-0.08884523029906134,"d":"-8.88%"}]
[40,"Capital_Goods","CUMMINSIND","2021-02-25",768.45,{"v":769.7833333333333,"d":"769.78"},{"v":760.9166666666666,"d":"760.92"},{"v":753.3833333333333,"d":"753.38"},{"v":744.5166666666667,"d":"744.52"},{"v":777.3166666666666,"d":"777.32"},{"v":786.1833333333334,"d":"786.18"},{"v":793.7166666666666,"d":"793.72"},778.65,762.25,1528800,{"v":0.0249396621078037,"d":"2.49%"}]
[41,"FMCG","DABUR","2021-02-25",524.35,{"v":526.3,"d":"526.30"},{"v":519.8499999999999,"d":"519.85"},{"v":515.3499999999999,"d":"515.35"},{"v":508.89999999999986,"d":"508.90"},{"v":530.8,"d":"530.80"},537.25,541.75,532.75,521.8,11992500,{"v":0.023687580025608196,"d":"2.37%"}]
[42,"Pharma","DIVISLAB","2021-02-25",{"v":3698.8,"d":"3698.80"},{"v":3698.7666666666664,"d":"3698.77"},{"v":3674.533333333333,"d":"3674.53"},{"v":3650.2666666666664,"d":"3650.27"},{"v":3626.033333333333,"d":"3626.03"},{"v":3723.033333333333,"d":"3723.03"},{"v":3747.2666666666664,"d":"3747.27"},{"v":3771.533333333333,"d":"3771.53"},3723,3674.5,2956800,{"v":-0.004578507945057905,"d":"-0.46%"}]
[43,"Realty","DLF","2021-02-25",{"v":319.7,"d":"319.70"},{"v":321.4166666666667,"d":"321.42"},{"v":313.8833333333334,"d":"313.88"},{"v":308.0666666666667,"d":"308.07"},{"v":300.5333333333334,"d":"300.53"},{"v":327.23333333333335,"d":"327.23"},{"v":334.76666666666665,"d":"334.77"},{"v":340.5833333333333,"d":"340.58"},328.95,315.6,31039800,{"v":-7.282321899736148E-3,"d":"-0.73%"}]
[44,"Pharma","DRREDDY","2021-02-25",{"v":4716.2,"d":"4716.20"},{"v":4721.983333333333,"d":"4721.98"},{"v":4674.316666666666,"d":"4674.32"},{"v":4632.433333333333,"d":"4632.43"},{"v":4584.766666666666,"d":"4584.77"},{"v":4763.866666666665,"d":"4763.87"},{"v":4811.533333333331,"d":"4811.53"},{"v":4853.416666666664,"d":"4853.42"},4769.65,4680.1,2866375,{"v":-0.015372064064579844,"d":"-1.54%"}]
[45,"Automobile","EICHERMOT","2021-02-25",2739.15,2741.35,{"v":2703.1,"d":"2703.10"},2667.05,{"v":2628.8,"d":"2628.80"},{"v":2777.3999999999996,"d":"2777.40"},{"v":2815.6499999999996,"d":"2815.65"},{"v":2851.6999999999994,"d":"2851.70"},2779.6,2705.3,2449650,{"v":0.005458985777905473,"d":"0.55%"}]
[46,"Automobile","ESCORTS","2021-02-25",1392.55,{"v":1394.7833333333335,"d":"1394.78"},{"v":1379.566666666667,"d":"1379.57"},{"v":1366.5833333333335,"d":"1366.58"},{"v":1351.366666666667,"d":"1351.37"},{"v":1407.766666666667,"d":"1407.77"},{"v":1422.9833333333338,"d":"1422.98"},{"v":1435.9666666666672,"d":"1435.97"},1410,1381.8,3185050,{"v":-5.666208791208791E-3,"d":"-0.57%"}]
[47,"Automobile","EXIDEIND","2021-02-25",{"v":212.1,"d":"212.10"},{"v":211.8166666666667,"d":"211.82"},{"v":208.88333333333338,"d":"208.88"},{"v":205.66666666666669,"d":"205.67"},{"v":202.73333333333338,"d":"202.73"},{"v":215.0333333333334,"d":"215.03"},{"v":217.96666666666673,"d":"217.97"},{"v":221.1833333333334,"d":"221.18"},214.75,208.6,12171600,{"v":0.019601930036188178,"d":"1.96%"}]
[48,"Banking","FEDERALBNK","2021-02-25",85.55,{"v":85.78333333333335,"d":"85.78"},{"v":84.06666666666669,"d":"84.07"},{"v":82.58333333333334,"d":"82.58"},{"v":80.86666666666669,"d":"80.87"},{"v":87.2666666666667,"d":"87.27"},{"v":88.98333333333336,"d":"88.98"},{"v":90.4666666666667,"d":"90.47"},87.5,84.3,86990000,{"v":0.025946455949994104,"d":"2.59%"}]
[49,"Oil_Gas","GAIL","2021-02-25",{"v":133.3,"d":"133.30"},{"v":133.9,"d":"133.90"},{"v":132,"d":"132.00"},{"v":130.7,"d":"130.70"},{"v":128.79999999999998,"d":"128.80"},{"v":135.20000000000002,"d":"135.20"},{"v":137.10000000000005,"d":"137.10"},{"v":138.40000000000003,"d":"138.40"},135.8,132.6,36301100,{"v":0.026919758412424503,"d":"2.69%"}]
[50,"Pharma","GLENMARK","2021-02-25",{"v":505.3,"d":"505.30"},{"v":501.34999999999997,"d":"501.35"},{"v":494.69999999999993,"d":"494.70"},{"v":484.09999999999997,"d":"484.10"},{"v":477.44999999999993,"d":"477.45"},{"v":511.94999999999993,"d":"511.95"},{"v":518.5999999999999,"d":"518.60"},{"v":529.1999999999999,"d":"529.20"},508,490.75,5480900,{"v":0.058170515097690945,"d":"5.82%"}]
[51,"Infrastructure","GMRINFRA","2021-02-25",{"v":25.3,"d":"25.30"},{"v":25.433333333333337,"d":"25.43"},{"v":25.016666666666673,"d":"25.02"},{"v":24.733333333333334,"d":"24.73"},{"v":24.31666666666667,"d":"24.32"},{"v":25.716666666666676,"d":"25.72"},{"v":26.13333333333334,"d":"26.13"},{"v":26.41666666666668,"d":"26.42"},25.85,25.15,151020000,{"v":0.013438019024611203,"d":"1.34%"}]
[52,"FMCG","GODREJCP","2021-02-25",724.35,{"v":730.1999999999999,"d":"730.20"},{"v":715.0499999999998,"d":"715.05"},{"v":705.7499999999999,"d":"705.75"},{"v":690.5999999999998,"d":"690.60"},{"v":739.4999999999999,"d":"739.50"},754.65,{"v":763.9499999999999,"d":"763.95"},745.35,720.9,3983000,{"v":0.09845559845559845,"d":"9.85%"}]
[53,"Others","GODREJPROP","2021-02-25",{"v":1522.5,"d":"1522.50"},{"v":1519.6166666666668,"d":"1519.62"},{"v":1496.4833333333336,"d":"1496.48"},{"v":1470.4666666666667,"d":"1470.47"},{"v":1447.3333333333335,"d":"1447.33"},{"v":1545.6333333333337,"d":"1545.63"},{"v":1568.7666666666669,"d":"1568.77"},{"v":1594.7833333333338,"d":"1594.78"},1542.75,1493.6,2043600,{"v":0.00608,"d":"0.61%"}]
[54,"Cement","GRASIM","2021-02-25",{"v":1249.3,"d":"1249.30"},{"v":1247.0833333333333,"d":"1247.08"},{"v":1232.8166666666666,"d":"1232.82"},{"v":1216.3333333333333,"d":"1216.33"},{"v":1202.0666666666666,"d":"1202.07"},{"v":1263.5666666666666,"d":"1263.57"},{"v":1277.8333333333335,"d":"1277.83"},{"v":1294.3166666666666,"d":"1294.32"},1261.35,1230.6,17283350,{"v":0.006806862202545656,"d":"0.68%"}]
[55,"Others","HAVELLS","2021-02-25",1218.35,{"v":1201.7666666666667,"d":"1201.77"},{"v":1180.3833333333332,"d":"1180.38"},{"v":1142.4166666666665,"d":"1142.42"},{"v":1121.033333333333,"d":"1121.03"},{"v":1239.7333333333333,"d":"1239.73"},{"v":1261.116666666667,"d":"1261.12"},{"v":1299.0833333333335,"d":"1299.08"},1223.15,1163.8,4025000,{"v":0.05698529411764706,"d":"5.70%"}]
[56,"Technology","HCLTECH","2021-02-25",{"v":955.9,"d":"955.90"},{"v":954.8166666666666,"d":"954.82"},{"v":947.1333333333332,"d":"947.13"},{"v":938.3666666666666,"d":"938.37"},{"v":930.6833333333332,"d":"930.68"},{"v":963.5833333333333,"d":"963.58"},{"v":971.2666666666667,"d":"971.27"},{"v":980.0333333333333,"d":"980.03"},962.5,946.05,20296500,{"v":0.01565783942833123,"d":"1.57%"}]
[57,"Finance","HDFC","2021-02-25",{"v":2860.8,"d":"2860.80"},{"v":2866.683333333333,"d":"2866.68"},{"v":2835.166666666666,"d":"2835.17"},{"v":2809.5333333333333,"d":"2809.53"},{"v":2778.0166666666664,"d":"2778.02"},{"v":2892.3166666666657,"d":"2892.32"},{"v":2923.833333333333,"d":"2923.83"},{"v":2949.4666666666653,"d":"2949.47"},2898.2,2841.05,16750800,{"v":-0.02131388908364299,"d":"-2.13%"}]
[58,"Finance","HDFCAMC","2021-02-25",{"v":3003.4,"d":"3003.40"},{"v":3011.133333333333,"d":"3011.13"},{"v":2972.2666666666664,"d":"2972.27"},{"v":2941.133333333333,"d":"2941.13"},{"v":2902.2666666666664,"d":"2902.27"},{"v":3042.2666666666664,"d":"3042.27"},{"v":3081.133333333333,"d":"3081.13"},{"v":3112.2666666666664,"d":"3112.27"},3050,2980,487400,{"v":-2.4559967253376994E-3,"d":"-0.25%"}]
[59,"Banking","HDFCBANK","2021-02-25",1630.85,{"v":1629.4333333333334,"d":"1629.43"},{"v":1614.9166666666667,"d":"1614.92"},{"v":1598.9833333333333,"d":"1598.98"},{"v":1584.4666666666667,"d":"1584.47"},{"v":1645.3666666666668,"d":"1645.37"},{"v":1659.8833333333332,"d":"1659.88"},{"v":1675.8166666666668,"d":"1675.82"},1643.95,1613.5,25401750,{"v":-0.03505839583812131,"d":"-3.51%"}]
[60,"Finance","HDFCLIFE","2021-02-25",696.95,{"v":697.0500000000001,"d":"697.05"},{"v":689.4000000000001,"d":"689.40"},681.85,{"v":674.2,"d":"674.20"},{"v":704.6000000000001,"d":"704.60"},712.25,{"v":719.8000000000002,"d":"719.80"},704.7,689.5,8484300,{"v":-1.0361352156456418E-3,"d":"-0.10%"}]
[61,"Automobile","HEROMOTOCO","2021-02-25",{"v":3454.1,"d":"3454.10"},{"v":3453.9,"d":"3453.90"},{"v":3427.9500000000003,"d":"3427.95"},{"v":3401.8,"d":"3401.80"},{"v":3375.8500000000004,"d":"3375.85"},3480.05,{"v":3506,"d":"3506.00"},3532.15,3479.85,3427.75,3687000,{"v":0.013691850874298911,"d":"1.37%"}]
[62,"Metals","HINDALCO","2021-02-25",303.15,{"v":301.53333333333336,"d":"301.53"},{"v":294.9666666666667,"d":"294.97"},{"v":286.78333333333336,"d":"286.78"},{"v":280.2166666666667,"d":"280.22"},{"v":309.7166666666667,"d":"309.72"},{"v":316.2833333333334,"d":"316.28"},{"v":324.4666666666667,"d":"324.47"},308.1,293.35,31007300,{"v":0.03591438011779917,"d":"3.59%"}]
[63,"Oil_Gas","HINDPETRO","2021-02-25",226.25,{"v":225.23333333333335,"d":"225.23"},{"v":222.91666666666669,"d":"222.92"},{"v":219.58333333333334,"d":"219.58"},{"v":217.26666666666668,"d":"217.27"},{"v":228.5666666666667,"d":"228.57"},{"v":230.88333333333335,"d":"230.88"},{"v":234.2166666666667,"d":"234.22"},227.55,221.9,34989300,{"v":-0.014449768043197201,"d":"-1.44%"}]
[64,"FMCG","HINDUNILVR","2021-02-25",2204.75,{"v":2211.7333333333336,"d":"2211.73"},{"v":2189.6166666666672,"d":"2189.62"},{"v":2174.4833333333336,"d":"2174.48"},{"v":2152.3666666666672,"d":"2152.37"},{"v":2226.8666666666672,"d":"2226.87"},{"v":2248.983333333334,"d":"2248.98"},{"v":2264.1166666666672,"d":"2264.12"},2233.85,2196.6,9171900,{"v":0.03940300537159176,"d":"3.94%"}]
[65,"Finance","IBULHSGFIN","2021-02-25",226.85,{"v":225.29999999999998,"d":"225.30"},{"v":220.19999999999996,"d":"220.20"},{"v":213.54999999999998,"d":"213.55"},{"v":208.44999999999996,"d":"208.45"},{"v":231.94999999999996,"d":"231.95"},{"v":237.04999999999998,"d":"237.05"},{"v":243.69999999999996,"d":"243.70"},230.4,218.65,34453400,{"v":-0.010593786165761595,"d":"-1.06%"}]
[66,"Banking","ICICIBANK","2021-02-25",661.25,{"v":664.6333333333333,"d":"664.63"},{"v":648.8166666666666,"d":"648.82"},{"v":636.3833333333333,"d":"636.38"},{"v":620.5666666666666,"d":"620.57"},{"v":677.0666666666666,"d":"677.07"},{"v":692.8833333333334,"d":"692.88"},{"v":705.3166666666666,"d":"705.32"},680.45,652.2,116142125,{"v":-0.019467403417533433,"d":"-1.95%"}]
[67,"Finance","ICICIGI","2021-02-25",{"v":1507.3,"d":"1507.30"},{"v":1505.4833333333333,"d":"1505.48"},{"v":1490.0166666666667,"d":"1490.02"},{"v":1472.7333333333333,"d":"1472.73"},{"v":1457.2666666666667,"d":"1457.27"},{"v":1522.7666666666667,"d":"1522.77"},{"v":1538.2333333333333,"d":"1538.23"},{"v":1555.5166666666667,"d":"1555.52"},1520.95,1488.2,1000025,{"v":-0.00633445945945946,"d":"-0.63%"}]
[68,"Finance","ICICIPRULI","2021-02-25",491.65,{"v":491.2166666666667,"d":"491.22"},{"v":486.7833333333334,"d":"486.78"},{"v":481.91666666666674,"d":"481.92"},{"v":477.48333333333346,"d":"477.48"},{"v":496.08333333333337,"d":"496.08"},{"v":500.51666666666665,"d":"500.52"},{"v":505.3833333333333,"d":"505.38"},495.65,486.35,8800500,{"v":-0.06784238957737528,"d":"-6.78%"}]
[69,"Telecom","IDEA","2021-02-25",{"v":11.8,"d":"11.80"},{"v":11.916666666666666,"d":"11.92"},{"v":11.583333333333332,"d":"11.58"},{"v":11.366666666666665,"d":"11.37"},{"v":11.033333333333331,"d":"11.03"},{"v":12.133333333333333,"d":"12.13"},{"v":12.466666666666665,"d":"12.47"},{"v":12.683333333333334,"d":"12.68"},12.25,11.7,940170000,{"v":-0.011845203060623897,"d":"-1.18%"}]
[70,"Banking","IDFCFIRSTB","2021-02-25",{"v":53.8,"d":"53.80"},{"v":53.56666666666666,"d":"53.57"},{"v":52.73333333333333,"d":"52.73"},{"v":51.666666666666664,"d":"51.67"},{"v":50.83333333333333,"d":"50.83"},{"v":54.633333333333326,"d":"54.63"},{"v":55.46666666666667,"d":"55.47"},{"v":56.533333333333324,"d":"56.53"},54.4,52.5,181279000,{"v":0.03425474254742548,"d":"3.43%"}]
[71,"Oil_Gas","IGL","2021-02-25",550.15,{"v":549.4833333333333,"d":"549.48"},{"v":540.4666666666667,"d":"540.47"},{"v":530.7833333333333,"d":"530.78"},{"v":521.7666666666667,"d":"521.77"},{"v":559.1666666666667,"d":"559.17"},{"v":568.1833333333334,"d":"568.18"},{"v":577.8666666666668,"d":"577.87"},558.5,539.8,5984000,{"v":-0.00320659642693541,"d":"-0.32%"}]
[72,"Others","INDIGO","2021-02-25",{"v":1617.2,"d":"1617.20"},{"v":1621.6499999999999,"d":"1621.65"},{"v":1596.7999999999997,"d":"1596.80"},{"v":1576.3999999999999,"d":"1576.40"},{"v":1551.5499999999997,"d":"1551.55"},{"v":1642.0499999999997,"d":"1642.05"},{"v":1666.8999999999996,"d":"1666.90"},{"v":1687.2999999999997,"d":"1687.30"},1646.5,1601.25,2938000,{"v":0.018018018018018018,"d":"1.80%"}]
[73,"Banking","INDUSINDBK","2021-02-25",{"v":1060.9,"d":"1060.90"},1067.65,{"v":1035.6000000000001,"d":"1035.60"},{"v":1010.3,"d":"1010.30"},978.25,{"v":1092.9500000000003,"d":"1092.95"},{"v":1125.0000000000005,"d":"1125.00"},{"v":1150.3000000000004,"d":"1150.30"},1099.7,1042.35,25887600,{"v":-0.044290128584244276,"d":"-4.43%"}]
[74,"Telecom","INDUSTOWER","2021-02-25",{"v":247.3,"d":"247.30"},{"v":247.9,"d":"247.90"},243.65,{"v":240,"d":"240.00"},235.75,251.55,{"v":255.8,"d":"255.80"},{"v":259.45000000000005,"d":"259.45"},252.15,244.25,11536000,{"v":-0.031044214487300093,"d":"-3.10%"}]
[75,"Technology","INFY","2021-02-25",{"v":1296.3,"d":"1296.30"},{"v":1302.6666666666667,"d":"1302.67"},{"v":1284.6833333333334,"d":"1284.68"},{"v":1273.0666666666666,"d":"1273.07"},{"v":1255.0833333333333,"d":"1255.08"},{"v":1314.2833333333335,"d":"1314.28"},{"v":1332.2666666666667,"d":"1332.27"},{"v":1343.8833333333337,"d":"1343.88"},1320.65,1291.05,34615800,{"v":0.012335497455693982,"d":"1.23%"}]
[76,"Oil_Gas","IOC","2021-02-25",{"v":96.1,"d":"96.10"},{"v":95.83333333333333,"d":"95.83"},{"v":94.76666666666665,"d":"94.77"},{"v":93.43333333333332,"d":"93.43"},{"v":92.36666666666665,"d":"92.37"},{"v":97.16666666666666,"d":"97.17"},{"v":98.23333333333335,"d":"98.23"},{"v":99.56666666666666,"d":"99.57"},96.9,94.5,63492000,{"v":-0.0382987102490893,"d":"-3.83%"}]
[77,"FMCG","ITC","2021-02-25",214.25,{"v":214.83333333333334,"d":"214.83"},{"v":212.4666666666667,"d":"212.47"},{"v":210.68333333333337,"d":"210.68"},{"v":208.31666666666672,"d":"208.32"},{"v":216.61666666666667,"d":"216.62"},{"v":218.9833333333333,"d":"218.98"},{"v":220.76666666666665,"d":"220.77"},217.2,213.05,157427200,{"v":-0.0206632957757694,"d":"-2.07%"}]
[78,"Metals","JINDALSTEL","2021-02-25",333.35,327.05,{"v":316.70000000000005,"d":"316.70"},300.05,{"v":289.70000000000005,"d":"289.70"},{"v":343.70000000000005,"d":"343.70"},{"v":354.05000000000007,"d":"354.05"},{"v":370.70000000000005,"d":"370.70"},337.4,310.4,25755000,{"v":0.2220640569395018,"d":"22.21%"}]
[79,"Metals","JSWSTEEL","2021-02-25",{"v":408.6,"d":"408.60"},{"v":411.8,"d":"411.80"},{"v":400.6,"d":"400.60"},{"v":392.6,"d":"392.60"},{"v":381.40000000000003,"d":"381.40"},{"v":419.8,"d":"419.80"},{"v":430.99999999999994,"d":"431.00"},{"v":439,"d":"439.00"},423,403.8,33409800,{"v":-0.01832606108687029,"d":"-1.83%"}]
[80,"Others","JUBLFOOD","2021-02-25",{"v":2883.6,"d":"2883.60"},{"v":2889.4166666666665,"d":"2889.42"},{"v":2854.233333333333,"d":"2854.23"},{"v":2824.866666666667,"d":"2824.87"},{"v":2789.6833333333334,"d":"2789.68"},{"v":2918.783333333333,"d":"2918.78"},{"v":2953.9666666666662,"d":"2953.97"},{"v":2983.3333333333326,"d":"2983.33"},2924.6,2860.05,1651000,{"v":-0.024519940915805023,"d":"-2.45%"}]
[81,"Banking","KOTAKBANK","2021-02-25",2020.35,{"v":2024.4833333333333,"d":"2024.48"},{"v":1997.8666666666668,"d":"1997.87"},{"v":1975.3833333333334,"d":"1975.38"},{"v":1948.7666666666669,"d":"1948.77"},{"v":2046.9666666666667,"d":"2046.97"},{"v":2073.583333333333,"d":"2073.58"},{"v":2096.0666666666666,"d":"2096.07"},2051.1,2002,14904800,{"v":0.003528049338827395,"d":"0.35%"}]
[82,"Finance","L&TFH","2021-02-25",98.55,{"v":98.73333333333333,"d":"98.73"},{"v":96.66666666666667,"d":"96.67"},{"v":94.78333333333333,"d":"94.78"},{"v":92.71666666666667,"d":"92.72"},{"v":100.61666666666667,"d":"100.62"},{"v":102.68333333333334,"d":"102.68"},{"v":104.56666666666668,"d":"104.57"},100.8,96.85,41567992,{"v":-0.004062433183664742,"d":"-0.41%"}]
[83,"Others","LALPATHLAB","2021-02-25",2391.85,{"v":2407.2000000000003,"d":"2407.20"},{"v":2373.2500000000005,"d":"2373.25"},2354.65,{"v":2320.7000000000003,"d":"2320.70"},{"v":2425.8000000000006,"d":"2425.80"},{"v":2459.7500000000005,"d":"2459.75"},{"v":2478.350000000001,"d":"2478.35"},2441.15,2388.6,95500,{"v":-0.015463917525773196,"d":"-1.55%"}]
[84,"Finance","LICHSGFIN","2021-02-25",{"v":471.4,"d":"471.40"},{"v":473.90000000000003,"d":"473.90"},{"v":464.05000000000007,"d":"464.05"},{"v":456.70000000000005,"d":"456.70"},{"v":446.8500000000001,"d":"446.85"},{"v":481.25000000000006,"d":"481.25"},{"v":491.1000000000001,"d":"491.10"},{"v":498.45000000000005,"d":"498.45"},483.75,466.55,9344000,{"v":-0.017661900756938603,"d":"-1.77%"}]
[85,"Capital_Goods","LT","2021-02-25",{"v":1551,"d":"1551.00"},{"v":1557.0833333333333,"d":"1557.08"},{"v":1537.1666666666665,"d":"1537.17"},{"v":1523.3333333333333,"d":"1523.33"},{"v":1503.4166666666665,"d":"1503.42"},{"v":1570.9166666666665,"d":"1570.92"},{"v":1590.833333333333,"d":"1590.83"},{"v":1604.6666666666665,"d":"1604.67"},1577,1543.25,13590125,{"v":-0.028485695494902992,"d":"-2.85%"}]
[86,"Pharma","LUPIN","2021-02-25",1101.35,{"v":1086.5666666666666,"d":"1086.57"},{"v":1066.3833333333332,"d":"1066.38"},{"v":1031.4166666666665,"d":"1031.42"},{"v":1011.2333333333331,"d":"1011.23"},{"v":1121.5333333333333,"d":"1121.53"},{"v":1141.7166666666667,"d":"1141.72"},{"v":1176.6833333333334,"d":"1176.68"},1106.75,1051.6,8517850,{"v":0.13372553456273334,"d":"13.37%"}]
[87,"Automobile","M&M","2021-02-25",915.85,914.85,{"v":905.5500000000001,"d":"905.55"},895.25,885.95,{"v":925.1500000000001,"d":"925.15"},934.45,{"v":944.7500000000001,"d":"944.75"},924.15,904.55,10963400,{"v":-3.5627942486321416E-3,"d":"-0.36%"}]
[88,"Finance","M&MFIN","2021-02-25",{"v":220.8,"d":"220.80"},{"v":217.5,"d":"217.50"},212.55,{"v":204.3,"d":"204.30"},{"v":199.35000000000002,"d":"199.35"},225.75,{"v":230.7,"d":"230.70"},238.95,222.45,209.25,15408000,{"v":0.02066772655007949,"d":"2.07%"}]
[89,"Finance","MANAPPURAM","2021-02-25",176.55,{"v":176.86666666666665,"d":"176.87"},{"v":173.8833333333333,"d":"173.88"},{"v":171.21666666666664,"d":"171.22"},{"v":168.2333333333333,"d":"168.23"},{"v":179.5333333333333,"d":"179.53"},{"v":182.51666666666665,"d":"182.52"},{"v":185.1833333333333,"d":"185.18"},179.85,174.2,18828000,{"v":0.017839766461239054,"d":"1.78%"}]
[90,"FMCG","MARICO","2021-02-25",409.95,409.75,{"v":406.1,"d":"406.10"},402.25,{"v":398.6,"d":"398.60"},{"v":413.6,"d":"413.60"},417.25,{"v":421.1,"d":"421.10"},413.4,405.9,8768000,{"v":-0.03964950711938664,"d":"-3.96%"}]
[91,"Automobile","MARUTI","2021-02-25",{"v":7708.3,"d":"7708.30"},{"v":7728.033333333334,"d":"7728.03"},{"v":7623.216666666667,"d":"7623.22"},{"v":7538.133333333333,"d":"7538.13"},{"v":7433.316666666667,"d":"7433.32"},{"v":7813.116666666668,"d":"7813.12"},{"v":7917.933333333335,"d":"7917.93"},{"v":8003.016666666668,"d":"8003.02"},7832.85,7642.95,2516200,{"v":-0.010460909233915369,"d":"-1.05%"}]
[92,"FMCG","MCDOWELL-N","2021-02-25",570.05,{"v":571.1999999999999,"d":"571.20"},{"v":566.4499999999998,"d":"566.45"},{"v":562.8499999999999,"d":"562.85"},{"v":558.0999999999998,"d":"558.10"},{"v":574.7999999999998,"d":"574.80"},{"v":579.5500000000001,"d":"579.55"},{"v":583.1499999999999,"d":"583.15"},575.95,567.6,14042500,{"v":-6.807532490495977E-3,"d":"-0.68%"}]
[93,"Finance","MFSL","2021-02-25",853.55,{"v":846.4333333333333,"d":"846.43"},{"v":832.9666666666666,"d":"832.97"},{"v":812.3833333333333,"d":"812.38"},{"v":798.9166666666666,"d":"798.92"},{"v":867.0166666666665,"d":"867.02"},{"v":880.4833333333332,"d":"880.48"},{"v":901.0666666666665,"d":"901.07"},859.9,825.85,3837600,{"v":-0.1551230681167716,"d":"-15.51%"}]
[94,"Oil_Gas","MGL","2021-02-25",1141.25,{"v":1135.9666666666665,"d":"1135.97"},{"v":1124.983333333333,"d":"1124.98"},{"v":1108.7166666666665,"d":"1108.72"},{"v":1097.733333333333,"d":"1097.73"},{"v":1152.233333333333,"d":"1152.23"},{"v":1163.2166666666665,"d":"1163.22"},{"v":1179.483333333333,"d":"1179.48"},1146.95,1119.7,1705200,{"v":-0.006293706293706294,"d":"-0.63%"}]
[95,"Technology","MINDTREE","2021-02-25",{"v":1693.6,"d":"1693.60"},1703.45,{"v":1665,"d":"1665.00"},{"v":1636.3999999999999,"d":"1636.40"},{"v":1597.9499999999998,"d":"1597.95"},{"v":1732.0500000000002,"d":"1732.05"},{"v":1770.5000000000005,"d":"1770.50"},{"v":1799.1000000000004,"d":"1799.10"},1741.9,1674.85,1548000,{"v":0.010443864229765013,"d":"1.04%"}]
[96,"Automobile","MOTHERSUMI","2021-02-25",214.35,{"v":214.08333333333334,"d":"214.08"},{"v":211.4666666666667,"d":"211.47"},{"v":208.58333333333334,"d":"208.58"},{"v":205.9666666666667,"d":"205.97"},{"v":216.9666666666667,"d":"216.97"},{"v":219.58333333333331,"d":"219.58"},{"v":222.4666666666667,"d":"222.47"},216.7,211.2,34034000,{"v":0.019500943594044872,"d":"1.95%"}]
[97,"Automobile","MRF","2021-02-25",{"v":89774.2,"d":"89774.20"},{"v":90091.40000000001,"d":"90091.40"},{"v":88682.80000000002,"d":"88682.80"},{"v":87591.40000000001,"d":"87591.40"},{"v":86182.80000000002,"d":"86182.80"},{"v":91182.80000000002,"d":"91182.80"},{"v":92591.40000000002,"d":"92591.40"},{"v":93682.80000000002,"d":"93682.80"},91500,89000,61780,{"v":-0.018430251032729585,"d":"-1.84%"}]
[98,"Finance","MUTHOOTFIN","2021-02-25",{"v":1321.3,"d":"1321.30"},{"v":1325.1,"d":"1325.10"},{"v":1306.2999999999997,"d":"1306.30"},{"v":1291.2999999999997,"d":"1291.30"},{"v":1272.4999999999995,"d":"1272.50"},{"v":1340.1,"d":"1340.10"},{"v":1358.9,"d":"1358.90"},{"v":1373.9,"d":"1373.90"},1343.9,1310.1,4510500,{"v":-0.015873015873015872,"d":"-1.59%"}]
[99,"Metals","NATIONALUM","2021-02-25",{"v":50.4,"d":"50.40"},{"v":49.9,"d":"49.90"},49.15,{"v":47.9,"d":"47.90"},47.15,51.15,{"v":51.9,"d":"51.90"},53.15,50.65,48.65,60231000,{"v":-0.039577121171049064,"d":"-3.96%"}]
[100,"Others","NAUKRI","2021-02-25",{"v":5113.3,"d":"5113.30"},5226.75,4905.55,{"v":4697.8,"d":"4697.80"},{"v":4376.6,"d":"4376.60"},{"v":5434.5,"d":"5434.50"},{"v":5755.700000000001,"d":"5755.70"},5963.45,5547.95,5019,844750,{"v":0.13962900505902193,"d":"13.96%"}]
[101,"FMCG","NESTLEIND","2021-02-25",17211.65,{"v":17312.8,"d":"17312.80"},17030.85,16850.05,{"v":16568.1,"d":"16568.10"},{"v":17493.6,"d":"17493.60"},{"v":17775.550000000003,"d":"17775.55"},17956.35,17594.75,17132,359950,{"v":0.11785714285714285,"d":"11.79%"}]
[102,"Metals","NMDC","2021-02-25",116.05,{"v":115.86666666666667,"d":"115.87"},{"v":113.98333333333335,"d":"113.98"},{"v":111.91666666666667,"d":"111.92"},{"v":110.03333333333335,"d":"110.03"},{"v":117.93333333333335,"d":"117.93"},{"v":119.81666666666668,"d":"119.82"},{"v":121.88333333333335,"d":"121.88"},117.75,113.8,52675400,{"v":4.8568507157464216E-3,"d":"0.49%"}]
[103,"Power","NTPC","2021-02-25",{"v":98.4,"d":"98.40"},{"v":97.83333333333333,"d":"97.83"},{"v":96.11666666666666,"d":"96.12"},{"v":93.83333333333333,"d":"93.83"},{"v":92.11666666666666,"d":"92.12"},{"v":100.11666666666666,"d":"100.12"},{"v":101.83333333333333,"d":"101.83"},{"v":104.11666666666666,"d":"104.12"},99.55,95.55,82222500,{"v":0.05592562769928995,"d":"5.59%"}]
[104,"Oil_Gas","ONGC","2021-02-25",{"v":102.4,"d":"102.40"},{"v":101.26666666666667,"d":"101.27"},{"v":98.88333333333333,"d":"98.88"},{"v":95.36666666666666,"d":"95.37"},{"v":92.98333333333332,"d":"92.98"},{"v":104.78333333333333,"d":"104.78"},{"v":107.16666666666669,"d":"107.17"},{"v":110.68333333333334,"d":"110.68"},103.65,97.75,55255200,{"v":0.06169551708832668,"d":"6.17%"}]
[105,"Textile","PAGEIND","2021-02-25",{"v":29325.9,"d":"29325.90"},{"v":29547.516666666666,"d":"29547.52"},{"v":28841.583333333332,"d":"28841.58"},{"v":28357.266666666666,"d":"28357.27"},{"v":27651.333333333332,"d":"27651.33"},{"v":30031.833333333332,"d":"30031.83"},{"v":30737.766666666666,"d":"30737.77"},{"v":31222.083333333332,"d":"31222.08"},30253.45,29063.2,95670,{"v":0.016900510204081634,"d":"1.69%"}]
[106,"Pharma","PEL","2021-02-25",{"v":1849.4,"d":"1849.40"},{"v":1836.1333333333332,"d":"1836.13"},{"v":1803.4166666666665,"d":"1803.42"},{"v":1757.4333333333334,"d":"1757.43"},{"v":1724.7166666666667,"d":"1724.72"},{"v":1882.1166666666663,"d":"1882.12"},{"v":1914.833333333333,"d":"1914.83"},{"v":1960.8166666666662,"d":"1960.82"},1868.85,1790.15,4370300,{"v":-3.01129234629862E-3,"d":"-0.30%"}]
[107,"Oil_Gas","PETRONET","2021-02-25",{"v":243,"d":"243.00"},{"v":243.54999999999998,"d":"243.55"},{"v":241.19999999999996,"d":"241.20"},{"v":239.39999999999998,"d":"239.40"},{"v":237.04999999999995,"d":"237.05"},{"v":245.34999999999997,"d":"245.35"},{"v":247.7,"d":"247.70"},{"v":249.49999999999997,"d":"249.50"},245.9,241.75,16950000,{"v":-0.04496281271129141,"d":"-4.50%"}]
[108,"Finance","PFC","2021-02-25",{"v":134.3,"d":"134.30"},{"v":134.36666666666667,"d":"134.37"},{"v":132.28333333333336,"d":"132.28"},{"v":130.26666666666668,"d":"130.27"},{"v":128.18333333333337,"d":"128.18"},{"v":136.38333333333335,"d":"136.38"},{"v":138.46666666666667,"d":"138.47"},{"v":140.48333333333335,"d":"140.48"},136.45,132.35,31421600,{"v":0.011374975054879265,"d":"1.14%"}]
[109,"FMCG","PIDILITIND","2021-02-25",{"v":1793.4,"d":"1793.40"},1786.45,1773.95,{"v":1754.5,"d":"1754.50"},{"v":1742,"d":"1742.00"},{"v":1805.9,"d":"1805.90"},{"v":1818.4,"d":"1818.40"},{"v":1837.8500000000001,"d":"1837.85"},1798.95,1767,2387500,{"v":-0.04385262314777733,"d":"-4.39%"}]
[110,"Banking","PNB","2021-02-25",39.65,{"v":39.833333333333336,"d":"39.83"},{"v":38.91666666666667,"d":"38.92"},{"v":38.18333333333334,"d":"38.18"},{"v":37.26666666666667,"d":"37.27"},{"v":40.56666666666667,"d":"40.57"},{"v":41.48333333333334,"d":"41.48"},{"v":42.21666666666667,"d":"42.22"},40.75,39.1,200304000,{"v":-0.025,"d":"-2.50%"}]
[111,"Power","POWERGRID","2021-02-25",{"v":225.5,"d":"225.50"},{"v":222.95000000000002,"d":"222.95"},{"v":216.10000000000002,"d":"216.10"},{"v":206.70000000000002,"d":"206.70"},{"v":199.85000000000002,"d":"199.85"},{"v":232.35000000000002,"d":"232.35"},{"v":239.2,"d":"239.20"},{"v":248.60000000000002,"d":"248.60"},229.8,213.55,18356000,{"v":0.05834870848708487,"d":"5.83%"}]
[112,"Media","PVR","2021-02-25",{"v":1477.3,"d":"1477.30"},{"v":1477.0666666666666,"d":"1477.07"},{"v":1458.2333333333331,"d":"1458.23"},{"v":1439.1666666666665,"d":"1439.17"},{"v":1420.333333333333,"d":"1420.33"},{"v":1496.1333333333332,"d":"1496.13"},{"v":1514.9666666666667,"d":"1514.97"},{"v":1534.0333333333333,"d":"1534.03"},1495.9,1458,1917377,{"v":0.010077186963979417,"d":"1.01%"}]
[113,"Cement","RAMCOCEM","2021-02-25",991.05,989.25,{"v":977,"d":"977.00"},962.95,{"v":950.7,"d":"950.70"},{"v":1003.3,"d":"1003.30"},1015.55,{"v":1029.6,"d":"1029.60"},1001.5,975.2,1613300,{"v":-0.04141414141414142,"d":"-4.14%"}]
[114,"Banking","RBLBANK","2021-02-25",259.15,{"v":257.0833333333333,"d":"257.08"},{"v":251.36666666666662,"d":"251.37"},{"v":243.58333333333331,"d":"243.58"},{"v":237.86666666666662,"d":"237.87"},{"v":264.8666666666666,"d":"264.87"},{"v":270.5833333333333,"d":"270.58"},{"v":278.3666666666666,"d":"278.37"},262.8,249.3,24873300,{"v":-0.0721549112938122,"d":"-7.22%"}]
[115,"Power","RECLTD","2021-02-25",{"v":154.3,"d":"154.30"},{"v":154.79999999999998,"d":"154.80"},{"v":152.59999999999997,"d":"152.60"},{"v":150.89999999999998,"d":"150.90"},{"v":148.69999999999996,"d":"148.70"},{"v":156.49999999999997,"d":"156.50"},{"v":158.69999999999996,"d":"158.70"},{"v":160.39999999999998,"d":"160.40"},157,153.1,14946000,{"v":0.03146997929606625,"d":"3.15%"}]
[116,"Oil_Gas","RELIANCE","2021-02-25",{"v":2067.3,"d":"2067.30"},{"v":2065.1166666666663,"d":"2065.12"},{"v":2042.8833333333328,"d":"2042.88"},{"v":2018.4666666666665,"d":"2018.47"},{"v":1996.233333333333,"d":"1996.23"},{"v":2089.533333333333,"d":"2089.53"},{"v":2111.7666666666664,"d":"2111.77"},{"v":2136.1833333333325,"d":"2136.18"},2087.35,2040.7,29361750,{"v":0.0073764656436824,"d":"0.74%"}]
[117,"Metals","SAIL","2021-02-25",{"v":64.8,"d":"64.80"},{"v":64.71666666666667,"d":"64.72"},{"v":62.93333333333334,"d":"62.93"},{"v":61.06666666666667,"d":"61.07"},{"v":59.28333333333334,"d":"59.28"},{"v":66.58333333333334,"d":"66.58"},{"v":68.36666666666667,"d":"68.37"},{"v":70.23333333333333,"d":"70.23"},66.5,62.85,116280000,{"v":-0.03424333280732208,"d":"-3.42%"}]
[118,"Finance","SBILIFE","2021-02-25",{"v":875.6,"d":"875.60"},{"v":878.9,"d":"878.90"},{"v":868.6999999999999,"d":"868.70"},{"v":861.8,"d":"861.80"},{"v":851.5999999999999,"d":"851.60"},{"v":885.8,"d":"885.80"},{"v":896,"d":"896.00"},{"v":902.9,"d":"902.90"},889.1,872,5757750,{"v":0.004054407533350772,"d":"0.41%"}]
[119,"Banking","SBIN","2021-02-25",404.25,{"v":407.5666666666666,"d":"407.57"},{"v":398.0833333333332,"d":"398.08"},{"v":391.9166666666666,"d":"391.92"},{"v":382.43333333333317,"d":"382.43"},{"v":413.73333333333323,"d":"413.73"},{"v":423.2166666666666,"d":"423.22"},{"v":429.38333333333327,"d":"429.38"},417.05,401.4,98091000,{"v":0.003129314312011045,"d":"0.31%"}]
[120,"Cement","SHREECEM","2021-02-25",{"v":28648.2,"d":"28648.20"},{"v":28774.38333333333,"d":"28774.38"},{"v":28398.816666666662,"d":"28398.82"},{"v":28149.43333333333,"d":"28149.43"},{"v":27773.86666666666,"d":"27773.87"},{"v":29023.766666666663,"d":"29023.77"},{"v":29399.33333333333,"d":"29399.33"},{"v":29648.716666666664,"d":"29648.72"},29149.95,28525,147100,{"v":-0.007087411407357408,"d":"-0.71%"}]
[121,"Capital_Goods","SIEMENS","2021-02-25",{"v":1838.1,"d":"1838.10"},{"v":1857.3999999999999,"d":"1857.40"},{"v":1796.9999999999998,"d":"1797.00"},{"v":1755.8999999999999,"d":"1755.90"},{"v":1695.4999999999998,"d":"1695.50"},{"v":1898.4999999999998,"d":"1898.50"},{"v":1958.8999999999999,"d":"1958.90"},{"v":1999.9999999999998,"d":"2000.00"},1917.8,1816.3,852500,{"v":0.10477548111190306,"d":"10.48%"}]
[122,"Textile","SRF","2021-02-25",5807.55,{"v":5764.8,"d":"5764.80"},5680.75,5553.95,{"v":5469.9,"d":"5469.90"},{"v":5891.6,"d":"5891.60"},{"v":5975.6500000000015,"d":"5975.65"},{"v":6102.450000000001,"d":"6102.45"},5848.85,5638,338750,{"v":0.06483300589390963,"d":"6.48%"}]
[123,"Finance","SRTRANSFIN","2021-02-25",1483.25,{"v":1489.3500000000001,"d":"1489.35"},{"v":1455.9000000000003,"d":"1455.90"},{"v":1428.5500000000002,"d":"1428.55"},{"v":1395.1000000000004,"d":"1395.10"},{"v":1516.7000000000003,"d":"1516.70"},1550.15,{"v":1577.5000000000002,"d":"1577.50"},1522.8,1462,4703200,{"v":-0.06459824980111377,"d":"-6.46%"}]
[124,"Pharma","SUNPHARMA","2021-02-25",632.65,{"v":630.1333333333333,"d":"630.13"},{"v":625.2666666666667,"d":"625.27"},{"v":617.8833333333333,"d":"617.88"},{"v":613.0166666666667,"d":"613.02"},{"v":637.5166666666667,"d":"637.52"},{"v":642.3833333333332,"d":"642.38"},{"v":649.7666666666667,"d":"649.77"},635,622.75,44560600,{"v":-0.02010344190628656,"d":"-2.01%"}]
[125,"Media","SUNTV","2021-02-25",512.95,{"v":514.3000000000001,"d":"514.30"},{"v":508.7500000000001,"d":"508.75"},{"v":504.55000000000007,"d":"504.55"},{"v":499.0000000000001,"d":"499.00"},{"v":518.5000000000001,"d":"518.50"},{"v":524.0500000000001,"d":"524.05"},{"v":528.2500000000001,"d":"528.25"},519.85,510.1,10573500,{"v":0.010319621613874157,"d":"1.03%"}]
[126,"Fertilisers","TATACHEM","2021-02-25",{"v":586.5,"d":"586.50"},{"v":582.9666666666667,"d":"582.97"},{"v":573.9833333333333,"d":"573.98"},{"v":561.4666666666667,"d":"561.47"},{"v":552.4833333333333,"d":"552.48"},{"v":595.4833333333333,"d":"595.48"},{"v":604.4666666666667,"d":"604.47"},{"v":616.9833333333333,"d":"616.98"},591.95,570.45,9804000,{"v":0.0326522013903518,"d":"3.27%"}]
[127,"Others","TATACONSUM","2021-02-25",{"v":629.1,"d":"629.10"},{"v":627.4,"d":"627.40"},{"v":619.8,"d":"619.80"},{"v":610.5,"d":"610.50"},{"v":602.9,"d":"602.90"},{"v":636.6999999999999,"d":"636.70"},{"v":644.3000000000001,"d":"644.30"},{"v":653.5999999999999,"d":"653.60"},635,618.1,14207400,{"v":-0.011923763026945826,"d":"-1.19%"}]
[128,"Automobile","TATAMOTORS","2021-02-25",{"v":330.2,"d":"330.20"},{"v":332.51666666666665,"d":"332.52"},{"v":326.0833333333333,"d":"326.08"},{"v":321.96666666666664,"d":"321.97"},{"v":315.5333333333333,"d":"315.53"},{"v":336.6333333333333,"d":"336.63"},{"v":343.0666666666667,"d":"343.07"},{"v":347.18333333333334,"d":"347.18"},338.95,328.4,81555600,{"v":0.018652997294603447,"d":"1.87%"}]
[129,"Power","TATAPOWER","2021-02-25",{"v":90.7,"d":"90.70"},{"v":89.60000000000001,"d":"89.60"},{"v":87.90000000000002,"d":"87.90"},{"v":85.10000000000001,"d":"85.10"},{"v":83.40000000000002,"d":"83.40"},{"v":92.40000000000002,"d":"92.40"},{"v":94.10000000000001,"d":"94.10"},{"v":96.90000000000002,"d":"96.90"},91.3,86.8,127129500,{"v":0.03358577543628581,"d":"3.36%"}]
[130,"Metals","TATASTEEL","2021-02-25",{"v":701.9,"d":"701.90"},{"v":695.1,"d":"695.10"},{"v":678.7,"d":"678.70"},{"v":655.5,"d":"655.50"},{"v":639.1,"d":"639.10"},{"v":718.3000000000001,"d":"718.30"},{"v":734.6999999999999,"d":"734.70"},{"v":757.9000000000001,"d":"757.90"},711.5,671.9,43266700,{"v":0.02587770567132895,"d":"2.59%"}]
[131,"Technology","TCS","2021-02-25",3121.55,{"v":3136.5,"d":"3136.50"},{"v":3095.6,"d":"3095.60"},3069.65,3028.75,3162.45,{"v":3203.3499999999995,"d":"3203.35"},{"v":3229.2999999999997,"d":"3229.30"},3177.4,3110.55,7384500,{"v":0.09546061415220294,"d":"9.55%"}]
[132,"Technology","TECHM","2021-02-25",{"v":990.9,"d":"990.90"},{"v":989.9166666666666,"d":"989.92"},{"v":978.3333333333333,"d":"978.33"},{"v":965.7666666666667,"d":"965.77"},{"v":954.1833333333333,"d":"954.18"},{"v":1002.4833333333332,"d":"1002.48"},{"v":1014.0666666666665,"d":"1014.07"},{"v":1026.6333333333332,"d":"1026.63"},1001.5,977.35,12176400,{"v":0.03245828245828246,"d":"3.25%"}]
[133,"FMCG","TITAN","2021-02-25",1478.75,{"v":1483.7833333333335,"d":"1483.78"},{"v":1460.9666666666672,"d":"1460.97"},{"v":1443.1833333333336,"d":"1443.18"},{"v":1420.3666666666672,"d":"1420.37"},{"v":1501.566666666667,"d":"1501.57"},{"v":1524.3833333333332,"d":"1524.38"},{"v":1542.166666666667,"d":"1542.17"},1506.6,1466,7106250,{"v":0.010666666666666666,"d":"1.07%"}]
[134,"Pharma","TORNTPHARM","2021-02-25",{"v":2601.6,"d":"2601.60"},2601.65,{"v":2582.2000000000003,"d":"2582.20"},{"v":2562.8,"d":"2562.80"},{"v":2543.3500000000004,"d":"2543.35"},2621.05,{"v":2640.5,"d":"2640.50"},{"v":2659.9,"d":"2659.90"},2621.1,2582.25,1169750,{"v":-2.1326508850501172E-3,"d":"-0.21%"}]
[135,"Power","TORNTPOWER","2021-02-25",{"v":345.3,"d":"345.30"},{"v":340.2666666666667,"d":"340.27"},{"v":333.4333333333334,"d":"333.43"},{"v":321.56666666666666,"d":"321.57"},{"v":314.73333333333335,"d":"314.73"},{"v":352.13333333333344,"d":"352.13"},{"v":358.9666666666668,"d":"358.97"},{"v":370.8333333333335,"d":"370.83"},347.1,328.4,4287000,{"v":-0.12331288343558282,"d":"-12.33%"}]
[136,"Automobile","TVSMOTOR","2021-02-25",631.75,{"v":634,"d":"634.00"},{"v":624,"d":"624.00"},616.25,606.25,641.75,651.75,{"v":659.5,"d":"659.50"},644,626.25,4386200,{"v":0.041555851063829786,"d":"4.16%"}]
[137,"FMCG","UBL","2021-02-25",1273.65,{"v":1276.6166666666666,"d":"1276.62"},{"v":1257.6833333333332,"d":"1257.68"},{"v":1241.7166666666667,"d":"1241.72"},{"v":1222.7833333333333,"d":"1222.78"},{"v":1292.583333333333,"d":"1292.58"},{"v":1311.5166666666664,"d":"1311.52"},{"v":1327.483333333333,"d":"1327.48"},1295.55,1260.65,1223600,{"v":0.013333333333333334,"d":"1.33%"}]
[138,"Cement","ULTRACEMCO","2021-02-25",{"v":6486.7,"d":"6486.70"},{"v":6497.333333333333,"d":"6497.33"},{"v":6416.466666666666,"d":"6416.47"},{"v":6346.233333333334,"d":"6346.23"},{"v":6265.366666666667,"d":"6265.37"},{"v":6567.566666666666,"d":"6567.57"},{"v":6648.4333333333325,"d":"6648.43"},{"v":6718.666666666665,"d":"6718.67"},6578.2,6427.1,1424000,{"v":0.035335175221753674,"d":"3.53%"}]
[139,"Fertilisers","UPL","2021-02-25",{"v":541.1,"d":"541.10"},{"v":542.1666666666666,"d":"542.17"},{"v":537.0333333333333,"d":"537.03"},{"v":532.9666666666667,"d":"532.97"},{"v":527.8333333333334,"d":"527.83"},{"v":546.2333333333332,"d":"546.23"},{"v":551.3666666666667,"d":"551.37"},{"v":555.4333333333332,"d":"555.43"},547.3,538.1,18759000,{"v":0.005084627707738386,"d":"0.51%"}]
[140,"Metals","VEDL","2021-02-25",{"v":191.1,"d":"191.10"},{"v":189.88333333333333,"d":"189.88"},{"v":185.81666666666666,"d":"185.82"},{"v":180.53333333333333,"d":"180.53"},{"v":176.46666666666667,"d":"176.47"},{"v":195.16666666666666,"d":"195.17"},{"v":199.23333333333332,"d":"199.23"},{"v":204.51666666666665,"d":"204.52"},193.95,184.6,89540400,{"v":0.01977121875441322,"d":"1.98%"}]
[141,"Capital_Goods","VOLTAS","2021-02-25",{"v":1042.6,"d":"1042.60"},{"v":1050.1333333333334,"d":"1050.13"},{"v":1022.1166666666668,"d":"1022.12"},{"v":1001.6333333333334,"d":"1001.63"},{"v":973.6166666666668,"d":"973.62"},{"v":1070.6166666666668,"d":"1070.62"},{"v":1098.6333333333337,"d":"1098.63"},{"v":1119.1166666666668,"d":"1119.12"},1078.15,1029.65,2631000,{"v":-0.31251633133002354,"d":"-31.25%"}]
[142,"Technology","WIPRO","2021-02-25",437.45,{"v":439.5,"d":"439.50"},431.85,426.25,{"v":418.6,"d":"418.60"},{"v":445.1,"d":"445.10"},452.75,458.35,447.15,433.9,33417600,{"v":0.039518216205454905,"d":"3.95%"}]
[143,"Media","ZEEL","2021-02-25",206.45,{"v":207.98333333333335,"d":"207.98"},{"v":201.7166666666667,"d":"201.72"},{"v":196.98333333333335,"d":"196.98"},{"v":190.7166666666667,"d":"190.72"},{"v":212.7166666666667,"d":"212.72"},{"v":218.98333333333335,"d":"218.98"},{"v":223.7166666666667,"d":"223.72"},214.25,203.25,39498000,{"v":-0.015994020926756353,"d":"-1.60%"}]
[144]
[145]
[146]
[147]
{"$rows_empty":17}
["Pivot Point: This is trigger point for intra day buy/sell based on the price range of the previous day"]
["As per the tool,the trader should take BUY position just above Pivot and keep the stop loss of pivot point and the first target would be Resistance 1(R1)"]
["If R1 is crossed then R2 becomes the next target with stop loss of at R1"]
["Similarly if price goes below pivot point then the trader should sell  and keep a stop  loss of pivot point and the first target would be S1"]
["If S1 is crossed then S2 becomes the next target with stop loss of at S1"]
[]
["Disclaimer:"]
["This document has been prepared by the Retail Research Desk of Asit C Mehta "]
["Investment Intermediates Ltd. and is meant for use of the recipient only "]
["and is not for circulation. This document is not to be reported or "]
["copied or made available to others. It should not be considered to be "]
["taken as an offer to sell or a solicitation to buy any security. The "]
["information contained herein is from sources believed reliable. We do "]
["not represent that it is accurate or complete and it should not be "]
["relied upon as such. We may from time to time have positions in and buy "]
["and sell securities referred to herein"]

{"sheet":"Cash Intra","index":2,"n_rows":246,"n_cols":13,"rows_kept":246,"merged":[[7,0,8,0],[7,1,8,1],[7,2,8,2],[7,3,8,3],[7,4,7,6],[7,7,7,9]]}
[]
[]
[]
[]
[{"$nulls":12},"Back to Main Page"]
["FOR INTRA DAY TRADING",{"$nulls":9},{"$f":"Main!B10","v":"2021-02-17"}]
[]
["Sr.no","Scrip","CLOSE RATE","Pivot Point","Supports",null,null,"Resistances"]
[null,null,"Point",null,"S1","S2","S3","R1","R2","R3","HIGH","LOW","Total Trade Quanity in Lakhs"]
[1,"Nifty 50",15313.45,{"v":15329.133333333333,"d":"15329.13"},{"v":15226.516666666666,"d":"15226.52"},{"v":15139.583333333334,"d":"15139.58"},{"v":15036.966666666667,"d":"15036.97"},{"v":15416.066666666666,"d":"15416.07"},{"v":15518.68333333333,"d":"15518.68"},{"v":15605.616666666665,"d":"15605.62"},15431.75,15242.2]
[2,"Nifty Bank",37098.4,{"v":37189.96666666667,"d":"37189.97"},{"v":36671.183333333334,"d":"36671.18"},{"v":36243.96666666667,"d":"36243.97"},{"v":35725.183333333334,"d":"35725.18"},{"v":37617.183333333334,"d":"37617.18"},{"v":38135.966666666674,"d":"38135.97"},{"v":38563.183333333334,"d":"38563.18"},37708.75,36762.75]
[3,"Nifty CPSE",1747.3,{"v":1736.4166666666667,"d":"1736.42"},{"v":1712.8333333333335,"d":"1712.83"},{"v":1678.3666666666668,"d":"1678.37"},{"v":1654.7833333333335,"d":"1654.78"},{"v":1770.8833333333334,"d":"1770.88"},{"v":1794.466666666667,"d":"1794.47"},{"v":1828.9333333333334,"d":"1828.93"},1760,1701.95]
[4,"Nifty Infra",4177.6,{"v":4174.166666666667,"d":"4174.17"},{"v":4147.733333333334,"d":"4147.73"},{"v":4117.866666666667,"d":"4117.87"},{"v":4091.4333333333334,"d":"4091.43"},{"v":4204.033333333334,"d":"4204.03"},{"v":4230.466666666666,"d":"4230.47"},{"v":4260.333333333334,"d":"4260.33"},4200.6,4144.3]
[5,"Nifty IT",25613.95,25767.25,25366.65,{"v":25119.350000000002,"d":"25119.35"},{"v":24718.750000000004,"d":"24718.75"},26014.55,{"v":26415.149999999998,"d":"26415.15"},{"v":26662.449999999997,"d":"26662.45"},26167.85,25519.95]
[6,"Nifty PSE",3050.65,{"v":3036.9,"d":"3036.90"},{"v":3007.2000000000003,"d":"3007.20"},2963.75,2934.05,{"v":3080.3500000000004,"d":"3080.35"},3110.05,{"v":3153.5000000000005,"d":"3153.50"},3066.6,2993.45]
[7,"Nifty Midcap 50",6885.5,6876.45,6830.65,{"v":6775.8,"d":"6775.80"},{"v":6730,"d":"6730.00"},{"v":6931.299999999999,"d":"6931.30"},{"v":6977.1,"d":"6977.10"},{"v":7031.949999999999,"d":"7031.95"},6922.25,6821.6]
[8,"ACC",1819.3,{"v":1815.9333333333334,"d":"1815.93"},{"v":1788.3166666666668,"d":"1788.32"},{"v":1757.3333333333335,"d":"1757.33"},{"v":1729.716666666667,"d":"1729.72"},{"v":1846.9166666666667,"d":"1846.92"},{"v":1874.5333333333335,"d":"1874.53"},{"v":1905.5166666666667,"d":"1905.52"},1843.55,1784.95,19.3773]
[9,"AUBANK",1092.75,{"v":1098.6833333333334,"d":"1098.68"},{"v":1069.3666666666668,"d":"1069.37"},{"v":1045.9833333333333,"d":"1045.98"},{"v":1016.6666666666667,"d":"1016.67"},{"v":1122.0666666666668,"d":"1122.07"},{"v":1151.3833333333334,"d":"1151.38"},{"v":1174.7666666666669,"d":"1174.77"},1128,1075.3,4.55426]
[10,"AARTIIND",1227.9,{"v":1222.2,"d":"1222.20"},{"v":1213.7,"d":"1213.70"},{"v":1199.5,"d":"1199.50"},{"v":1191,"d":"1191.00"},{"v":1236.4,"d":"1236.40"},{"v":1244.9,"d":"1244.90"},{"v":1259.1000000000001,"d":"1259.10"},1230.7,1208,2.60347]
[11,"ABBOTINDIA",14700.7,{"v":14634.9,"d":"14634.90"},{"v":14530.8,"d":"14530.80"},{"v":14360.9,"d":"14360.90"},{"v":14256.8,"d":"14256.80"},{"v":14804.8,"d":"14804.80"},{"v":14908.900000000001,"d":"14908.90"},{"v":15078.8,"d":"15078.80"},14739,14465,0.23617]
[12,"ADANIENT",780.2,{"v":779.8000000000001,"d":"779.80"},{"v":756.6500000000001,"d":"756.65"},{"v":733.1,"d":"733.10"},709.95,{"v":803.3500000000001,"d":"803.35"},{"v":826.5,"d":"826.50"},{"v":850.0500000000002,"d":"850.05"},802.95,756.25,194.26061]
[13,"ADANIGREEN",1078.3,{"v":1080.1000000000001,"d":"1080.10"},{"v":1047.2000000000003,"d":"1047.20"},{"v":1016.1000000000001,"d":"1016.10"},{"v":983.2000000000003,"d":"983.20"},{"v":1111.2000000000003,"d":"1111.20"},{"v":1144.1000000000004,"d":"1144.10"},{"v":1175.2000000000003,"d":"1175.20"},1113,1049,51.82242]
[14,"ADANIPORTS",636.55,{"v":636.0333333333333,"d":"636.03"},{"v":628.5666666666666,"d":"628.57"},{"v":620.5833333333333,"d":"620.58"},{"v":613.1166666666666,"d":"613.12"},{"v":644.0166666666667,"d":"644.02"},{"v":651.4833333333333,"d":"651.48"},{"v":659.4666666666667,"d":"659.47"},643.5,628.05,151.20148]
[15,"ATGL",497,{"v":480.9666666666667,"d":"480.97"},{"v":453.0333333333334,"d":"453.03"},{"v":409.0666666666667,"d":"409.07"},{"v":381.13333333333344,"d":"381.13"},{"v":524.9333333333334,"d":"524.93"},{"v":552.8666666666667,"d":"552.87"},{"v":596.8333333333334,"d":"596.83"},508.9,437,90.04169]
[16,"ADANITRANS",763.55,746.75,{"v":705.8,"d":"705.80"},648.05,{"v":607.0999999999999,"d":"607.10"},{"v":804.5,"d":"804.50"},845.45,{"v":903.2,"d":"903.20"},787.7,689,46.52336]
[17,"ABCAPITAL",97.75,{"v":98.01666666666667,"d":"98.02"},{"v":94.18333333333334,"d":"94.18"},{"v":90.61666666666667,"d":"90.62"},{"v":86.78333333333335,"d":"86.78"},{"v":101.58333333333333,"d":"101.58"},{"v":105.41666666666667,"d":"105.42"},{"v":108.98333333333332,"d":"108.98"},101.85,94.45,198.06981]
[18,"ABFRL",164.85,{"v":165.36666666666667,"d":"165.37"},{"v":162.48333333333335,"d":"162.48"},{"v":160.11666666666667,"d":"160.12"},{"v":157.23333333333335,"d":"157.23"},{"v":167.73333333333335,"d":"167.73"},{"v":170.61666666666667,"d":"170.62"},{"v":172.98333333333335,"d":"172.98"},168.25,163,13.17403]
[19,"AJANTPHARM",1803.1,{"v":1804.4166666666667,"d":"1804.42"},{"v":1790.9333333333334,"d":"1790.93"},{"v":1778.7666666666667,"d":"1778.77"},{"v":1765.2833333333333,"d":"1765.28"},{"v":1816.5833333333335,"d":"1816.58"},{"v":1830.0666666666666,"d":"1830.07"},{"v":1842.2333333333336,"d":"1842.23"},1817.9,1792.25,0.56789]
[20,"APLLTD",960.9,{"v":966.9833333333332,"d":"966.98"},{"v":949.9666666666665,"d":"949.97"},{"v":939.0333333333332,"d":"939.03"},{"v":922.0166666666664,"d":"922.02"},{"v":977.9166666666665,"d":"977.92"},{"v":994.9333333333332,"d":"994.93"},{"v":1005.8666666666666,"d":"1005.87"},984,956.05,2.39259]
[21,"ALKEM",2876.2,{"v":2885.1,"d":"2885.10"},{"v":2852.1,"d":"2852.10"},{"v":2828,"d":"2828.00"},{"v":2795,"d":"2795.00"},{"v":2909.2,"d":"2909.20"},{"v":2942.2,"d":"2942.20"},{"v":2966.2999999999997,"d":"2966.30"},2918.1,2861,0.8748]
[22,"AMARAJABAT",907.9,{"v":915.6166666666667,"d":"915.62"},{"v":896.2833333333333,"d":"896.28"},{"v":884.6666666666666,"d":"884.67"},{"v":865.3333333333333,"d":"865.33"},{"v":927.2333333333333,"d":"927.23"},{"v":946.5666666666666,"d":"946.57"},{"v":958.1833333333334,"d":"958.18"},934.95,904,22.37254]
[23,"AMBUJACEM",284.05,{"v":283.84999999999997,"d":"283.85"},{"v":280.3999999999999,"d":"280.40"},{"v":276.74999999999994,"d":"276.75"},{"v":273.2999999999999,"d":"273.30"},{"v":287.49999999999994,"d":"287.50"},290.95,{"v":294.59999999999997,"d":"294.60"},287.3,280.2,61.16048]
[24,"APOLLOHOSP",3202.75,{"v":3167.7666666666664,"d":"3167.77"},{"v":3081.9833333333327,"d":"3081.98"},{"v":2961.2166666666662,"d":"2961.22"},{"v":2875.4333333333325,"d":"2875.43"},{"v":3288.533333333333,"d":"3288.53"},{"v":3374.3166666666666,"d":"3374.32"},{"v":3495.083333333333,"d":"3495.08"},3253.55,3047,43.81584]
[25,"APOLLOTYRE",236.25,{"v":236.46666666666667,"d":"236.47"},{"v":232.38333333333333,"d":"232.38"},{"v":228.51666666666665,"d":"228.52"},{"v":224.4333333333333,"d":"224.43"},{"v":240.33333333333334,"d":"240.33"},{"v":244.41666666666666,"d":"244.42"},{"v":248.28333333333336,"d":"248.28"},240.55,232.6,87.06612]
[26,"ASHOKLEY",128.75,{"v":129.53333333333333,"d":"129.53"},{"v":126.96666666666667,"d":"126.97"},{"v":125.18333333333334,"d":"125.18"},{"v":122.61666666666667,"d":"122.62"},{"v":131.31666666666666,"d":"131.32"},{"v":133.88333333333333,"d":"133.88"},{"v":135.66666666666666,"d":"135.67"},132.1,127.75,227.87254]
[27,"ASIANPAINT",2450.25,{"v":2449.116666666667,"d":"2449.12"},{"v":2423.1333333333337,"d":"2423.13"},{"v":2396.016666666667,"d":"2396.02"},{"v":2370.0333333333338,"d":"2370.03"},{"v":2476.2333333333336,"d":"2476.23"},{"v":2502.216666666667,"d":"2502.22"},{"v":2529.3333333333335,"d":"2529.33"},2475.1,2422,16.15849]
[28,"AUROPHARMA",935.85,{"v":934.0833333333334,"d":"934.08"},{"v":925.4666666666667,"d":"925.47"},{"v":915.0833333333334,"d":"915.08"},{"v":906.4666666666667,"d":"906.47"},{"v":944.4666666666667,"d":"944.47"},{"v":953.0833333333333,"d":"953.08"},{"v":963.4666666666667,"d":"963.47"},942.7,923.7,18.26339]
[29,"DMART",3130.85,{"v":3110.6,"d":"3110.60"},{"v":3066.2,"d":"3066.20"},{"v":3001.5499999999997,"d":"3001.55"},{"v":2957.1499999999996,"d":"2957.15"},3175.25,{"v":3219.6500000000005,"d":"3219.65"},{"v":3284.3,"d":"3284.30"},3155,3045.95,7.92804]
[30,"AXISBANK",775.05,780.35,{"v":761.7,"d":"761.70"},748.35,{"v":729.7,"d":"729.70"},{"v":793.7,"d":"793.70"},{"v":812.3499999999999,"d":"812.35"},{"v":825.7,"d":"825.70"},799,767,239.68943]
[31,"BAJAJ-AUTO",4132.85,{"v":4144.816666666667,"d":"4144.82"},{"v":4112.033333333333,"d":"4112.03"},{"v":4091.2166666666662,"d":"4091.22"},{"v":4058.4333333333325,"d":"4058.43"},{"v":4165.633333333333,"d":"4165.63"},{"v":4198.416666666668,"d":"4198.42"},{"v":4219.233333333334,"d":"4219.23"},4177.6,4124,3.1828]
[32,"BAJFINANCE",5760.25,{"v":5757.583333333333,"d":"5757.58"},{"v":5692.966666666666,"d":"5692.97"},{"v":5625.683333333333,"d":"5625.68"},{"v":5561.066666666667,"d":"5561.07"},{"v":5824.866666666666,"d":"5824.87"},{"v":5889.483333333333,"d":"5889.48"},{"v":5956.7666666666655,"d":"5956.77"},5822.2,5690.3,21.2681]
[33,"BAJAJFINSV",10460.6,{"v":10451.199999999999,"d":"10451.20"},{"v":10370.399999999998,"d":"10370.40"},{"v":10280.199999999999,"d":"10280.20"},{"v":10199.399999999998,"d":"10199.40"},{"v":10541.399999999998,"d":"10541.40"},{"v":10622.199999999997,"d":"10622.20"},{"v":10712.399999999998,"d":"10712.40"},10532,10361,3.58604]
[34,"BAJAJHLDNG",3618.95,{"v":3603.3833333333337,"d":"3603.38"},{"v":3565.8666666666672,"d":"3565.87"},{"v":3512.7833333333338,"d":"3512.78"},{"v":3475.2666666666673,"d":"3475.27"},{"v":3656.466666666667,"d":"3656.47"},{"v":3693.9833333333336,"d":"3693.98"},{"v":3747.066666666667,"d":"3747.07"},3640.9,3550.3,0.29612]
[35,"BALKRISIND",1621.55,{"v":1632.0333333333335,"d":"1632.03"},{"v":1602.516666666667,"d":"1602.52"},{"v":1583.4833333333336,"d":"1583.48"},{"v":1553.9666666666672,"d":"1553.97"},{"v":1651.066666666667,"d":"1651.07"},{"v":1680.5833333333335,"d":"1680.58"},{"v":1699.616666666667,"d":"1699.62"},1661.55,1613,10.12966]
[36,"BANDHANBNK",350.15,{"v":346.4166666666667,"d":"346.42"},{"v":340.23333333333335,"d":"340.23"},{"v":330.31666666666666,"d":"330.32"},{"v":324.1333333333333,"d":"324.13"},{"v":356.33333333333337,"d":"356.33"},{"v":362.51666666666665,"d":"362.52"},{"v":372.4333333333334,"d":"372.43"},352.6,336.5,131.33247]
[37,"BANKBARODA",79.7,{"v":80.01666666666667,"d":"80.02"},{"v":78.28333333333333,"d":"78.28"},{"v":76.86666666666666,"d":"76.87"},{"v":75.13333333333333,"d":"75.13"},{"v":81.43333333333334,"d":"81.43"},{"v":83.16666666666666,"d":"83.17"},{"v":84.58333333333334,"d":"84.58"},81.75,78.6,448.03164]
[38,"BANKINDIA",70.6,{"v":67.83333333333333,"d":"67.83"},{"v":65.06666666666666,"d":"65.07"},{"v":59.53333333333333,"d":"59.53"},{"v":56.766666666666666,"d":"56.77"},{"v":73.36666666666666,"d":"73.37"},{"v":76.13333333333334,"d":"76.13"},{"v":81.66666666666666,"d":"81.67"},70.6,62.3,573.5488]
[39,"BATAINDIA",1524.65,1536.55,{"v":1509.1,"d":"1509.10"},1493.55,{"v":1466.1,"d":"1466.10"},{"v":1552.1,"d":"1552.10"},{"v":1579.5500000000002,"d":"1579.55"},{"v":1595.1,"d":"1595.10"},1564,1521,4.26008]
[40,"BERGEPAINT",759.55,{"v":760.9833333333332,"d":"760.98"},{"v":750.1666666666665,"d":"750.17"},{"v":740.7833333333333,"d":"740.78"},{"v":729.9666666666666,"d":"729.97"},{"v":770.3666666666664,"d":"770.37"},{"v":781.1833333333333,"d":"781.18"},{"v":790.5666666666664,"d":"790.57"},771.8,751.6,11.8825]
[41,"BEL",133.15,{"v":134.71666666666667,"d":"134.72"},{"v":130.98333333333335,"d":"130.98"},{"v":128.8166666666667,"d":"128.82"},{"v":125.08333333333337,"d":"125.08"},{"v":136.88333333333333,"d":"136.88"},{"v":140.61666666666662,"d":"140.62"},{"v":142.7833333333333,"d":"142.78"},138.45,132.55,162.38431]
[42,"BHARATFORG",630.75,{"v":630.8166666666667,"d":"630.82"},{"v":621.9333333333334,"d":"621.93"},{"v":613.1166666666667,"d":"613.12"},{"v":604.2333333333333,"d":"604.23"},{"v":639.6333333333334,"d":"639.63"},{"v":648.5166666666669,"d":"648.52"},{"v":657.3333333333335,"d":"657.33"},639.7,622,22.09598]
[43,"BHEL",39.9,{"v":39.43333333333334,"d":"39.43"},{"v":38.866666666666674,"d":"38.87"},{"v":37.833333333333336,"d":"37.83"},{"v":37.26666666666667,"d":"37.27"},{"v":40.466666666666676,"d":"40.47"},{"v":41.03333333333334,"d":"41.03"},{"v":42.06666666666668,"d":"42.07"},40,38.4,467.59963]
[44,"BPCL",417.95,{"v":418.9166666666667,"d":"418.92"},{"v":415.23333333333335,"d":"415.23"},{"v":412.51666666666665,"d":"412.52"},{"v":408.8333333333333,"d":"408.83"},{"v":421.6333333333334,"d":"421.63"},{"v":425.31666666666666,"d":"425.32"},{"v":428.0333333333334,"d":"428.03"},422.6,416.2,53.97662]
[45,"BHARTIARTL",593.95,{"v":596.1833333333334,"d":"596.18"},{"v":590.7666666666668,"d":"590.77"},{"v":587.5833333333334,"d":"587.58"},{"v":582.1666666666667,"d":"582.17"},{"v":599.3666666666668,"d":"599.37"},{"v":604.7833333333333,"d":"604.78"},{"v":607.9666666666668,"d":"607.97"},601.6,593,147.87224]
[46,"BIOCON",417.4,{"v":414.0833333333333,"d":"414.08"},{"v":409.5666666666666,"d":"409.57"},{"v":401.7333333333333,"d":"401.73"},{"v":397.2166666666666,"d":"397.22"},{"v":421.91666666666663,"d":"421.92"},{"v":426.4333333333334,"d":"426.43"},{"v":434.26666666666665,"d":"434.27"},418.6,406.25,54.07782]
[47,"BBTC",1200.65,{"v":1202.9833333333333,"d":"1202.98"},{"v":1187.0666666666666,"d":"1187.07"},{"v":1173.4833333333333,"d":"1173.48"},{"v":1157.5666666666666,"d":"1157.57"},{"v":1216.5666666666666,"d":"1216.57"},{"v":1232.4833333333331,"d":"1232.48"},{"v":1246.0666666666666,"d":"1246.07"},1218.9,1189.4,0.43151]
[48,"BOSCHLTD",15579.6,{"v":15586.5,"d":"15586.50"},{"v":15323.1,"d":"15323.10"},{"v":15066.6,"d":"15066.60"},{"v":14803.2,"d":"14803.20"},{"v":15843,"d":"15843.00"},{"v":16106.400000000001,"d":"16106.40"},{"v":16362.9,"d":"16362.90"},15849.9,15330,0.58454]
[49,"BRITANNIA",3389.45,{"v":3402.283333333333,"d":"3402.28"},{"v":3372.216666666666,"d":"3372.22"},{"v":3354.983333333333,"d":"3354.98"},{"v":3324.916666666666,"d":"3324.92"},{"v":3419.5166666666655,"d":"3419.52"},{"v":3449.583333333333,"d":"3449.58"},{"v":3466.8166666666652,"d":"3466.82"},3432.35,3385.05,6.93631]
[50,"CESC",618.1,{"v":621.1,"d":"621.10"},{"v":614,"d":"614.00"},{"v":609.9,"d":"609.90"},{"v":602.8,"d":"602.80"},{"v":625.2,"d":"625.20"},{"v":632.3000000000002,"d":"632.30"},{"v":636.4000000000001,"d":"636.40"},628.2,617,1.848]
[51,"CADILAHC",468.9,{"v":468.8999999999999,"d":"468.90"},{"v":463.34999999999985,"d":"463.35"},{"v":457.79999999999995,"d":"457.80"},{"v":452.2499999999999,"d":"452.25"},{"v":474.4499999999998,"d":"474.45"},{"v":479.9999999999999,"d":"480.00"},{"v":485.5499999999998,"d":"485.55"},474.45,463.35,33.92787]
[52,"CANBK",162.6,{"v":162.88333333333333,"d":"162.88"},{"v":159.81666666666666,"d":"159.82"},{"v":157.03333333333333,"d":"157.03"},{"v":153.96666666666667,"d":"153.97"},{"v":165.66666666666666,"d":"165.67"},{"v":168.73333333333332,"d":"168.73"},{"v":171.51666666666665,"d":"171.52"},165.95,160.1,287.11074]
[53,"CASTROLIND",126.65,{"v":126.66666666666667,"d":"126.67"},{"v":125.13333333333335,"d":"125.13"},{"v":123.61666666666669,"d":"123.62"},{"v":122.08333333333337,"d":"122.08"},{"v":128.18333333333334,"d":"128.18"},{"v":129.71666666666667,"d":"129.72"},{"v":131.23333333333332,"d":"131.23"},128.2,125.15,11.00161]
[54,"CHOLAFIN",528.05,{"v":527.3666666666667,"d":"527.37"},{"v":517.7333333333333,"d":"517.73"},{"v":507.41666666666663,"d":"507.42"},{"v":497.7833333333333,"d":"497.78"},{"v":537.6833333333334,"d":"537.68"},{"v":547.3166666666668,"d":"547.32"},{"v":557.6333333333334,"d":"557.63"},537,517.05,104.86006]
[55,"CIPLA",848.35,{"v":847.2833333333333,"d":"847.28"},{"v":842.3166666666666,"d":"842.32"},{"v":836.2833333333333,"d":"836.28"},{"v":831.3166666666666,"d":"831.32"},{"v":853.3166666666666,"d":"853.32"},{"v":858.2833333333333,"d":"858.28"},{"v":864.3166666666666,"d":"864.32"},852.25,841.25,28.08115]
[56,"CUB",165.75,{"v":167.53333333333333,"d":"167.53"},{"v":162.61666666666667,"d":"162.62"},{"v":159.48333333333335,"d":"159.48"},{"v":154.5666666666667,"d":"154.57"},{"v":170.66666666666666,"d":"170.67"},{"v":175.58333333333334,"d":"175.58"},{"v":178.71666666666664,"d":"178.72"},172.45,164.4,56.45652]
[57,"COALINDIA",133.75,{"v":133.81666666666666,"d":"133.82"},{"v":132.23333333333332,"d":"132.23"},{"v":130.71666666666667,"d":"130.72"},{"v":129.13333333333333,"d":"129.13"},{"v":135.33333333333331,"d":"135.33"},{"v":136.91666666666669,"d":"136.92"},{"v":138.4333333333333,"d":"138.43"},135.4,132.3,117.35144]
[58,"COFORGE",2622.05,{"v":2618.7000000000003,"d":"2618.70"},{"v":2584.4000000000005,"d":"2584.40"},{"v":2546.7500000000005,"d":"2546.75"},{"v":2512.4500000000007,"d":"2512.45"},{"v":2656.3500000000004,"d":"2656.35"},{"v":2690.6500000000005,"d":"2690.65"},{"v":2728.3,"d":"2728.30"},2653,2581.05,3.41414]
[59,"COLPAL",1581.05,1585.55,{"v":1563.4499999999998,"d":"1563.45"},1545.85,{"v":1523.7499999999998,"d":"1523.75"},{"v":1603.1499999999999,"d":"1603.15"},{"v":1625.2499999999998,"d":"1625.25"},1642.85,1607.65,1567.95,2.98723]
[60,"CONCOR",537.15,{"v":537.4166666666666,"d":"537.42"},{"v":528.3333333333333,"d":"528.33"},{"v":519.5166666666667,"d":"519.52"},{"v":510.4333333333333,"d":"510.43"},{"v":546.2333333333332,"d":"546.23"},{"v":555.3166666666665,"d":"555.32"},{"v":564.1333333333332,"d":"564.13"},546.5,528.6,31.75417]
[61,"COROMANDEL",782.8,{"v":781.2166666666667,"d":"781.22"},{"v":775.6833333333334,"d":"775.68"},{"v":768.5666666666667,"d":"768.57"},{"v":763.0333333333334,"d":"763.03"},{"v":788.3333333333334,"d":"788.33"},{"v":793.8666666666667,"d":"793.87"},{"v":800.9833333333333,"d":"800.98"},786.75,774.1,5.71802]
[62,"CROMPTON",397.7,{"v":396.76666666666665,"d":"396.77"},{"v":392.9333333333333,"d":"392.93"},{"v":388.16666666666663,"d":"388.17"},{"v":384.33333333333326,"d":"384.33"},{"v":401.5333333333333,"d":"401.53"},{"v":405.3666666666667,"d":"405.37"},{"v":410.1333333333333,"d":"410.13"},400.6,392,38.72811]
[63,"CUMMINSIND",766.35,{"v":768.0666666666666,"d":"768.07"},{"v":759.8333333333333,"d":"759.83"},{"v":753.3166666666666,"d":"753.32"},{"v":745.0833333333333,"d":"745.08"},{"v":774.5833333333333,"d":"774.58"},{"v":782.8166666666666,"d":"782.82"},{"v":789.3333333333333,"d":"789.33"},776.3,761.55,12.93232]
[64,"DLF",319,{"v":320.90000000000003,"d":"320.90"},{"v":313.6000000000001,"d":"313.60"},{"v":308.20000000000005,"d":"308.20"},{"v":300.9000000000001,"d":"300.90"},{"v":326.30000000000007,"d":"326.30"},{"v":333.6,"d":"333.60"},{"v":339.00000000000006,"d":"339.00"},328.2,315.5,193.00639]
[65,"DABUR",522.6,525.25,517.75,{"v":512.9,"d":"512.90"},{"v":505.4,"d":"505.40"},{"v":530.1,"d":"530.10"},{"v":537.6,"d":"537.60"},542.45,532.75,520.4,31.19109]
[66,"DALBHARAT",1444.8,{"v":1436.6166666666668,"d":"1436.62"},{"v":1376.2333333333336,"d":"1376.23"},{"v":1307.6666666666667,"d":"1307.67"},{"v":1247.2833333333335,"d":"1247.28"},{"v":1505.1833333333336,"d":"1505.18"},{"v":1565.5666666666668,"d":"1565.57"},{"v":1634.1333333333337,"d":"1634.13"},1497,1368.05,3.06389]
[67,"DHANI",364.95,{"v":363.3333333333333,"d":"363.33"},{"v":356.66666666666663,"d":"356.67"},{"v":348.3833333333333,"d":"348.38"},{"v":341.71666666666664,"d":"341.72"},{"v":371.6166666666666,"d":"371.62"},{"v":378.28333333333325,"d":"378.28"},{"v":386.5666666666666,"d":"386.57"},370,355.05,9.78217]
[68,"DIVISLAB",3686.5,3690.65,{"v":3661.8500000000004,"d":"3661.85"},{"v":3637.2000000000003,"d":"3637.20"},{"v":3608.4000000000005,"d":"3608.40"},{"v":3715.3,"d":"3715.30"},{"v":3744.1000000000004,"d":"3744.10"},3768.75,3719.45,3666,3.92393]
[69,"LALPATHLAB",2387.85,{"v":2402.1,"d":"2402.10"},{"v":2365.7999999999997,"d":"2365.80"},2343.75,2307.45,{"v":2424.1499999999996,"d":"2424.15"},2460.45,{"v":2482.4999999999995,"d":"2482.50"},2438.4,2380.05,0.84198]
[70,"DRREDDY",4696.6,{"v":4709.400000000001,"d":"4709.40"},{"v":4657.200000000001,"d":"4657.20"},{"v":4617.8,"d":"4617.80"},{"v":4565.6,"d":"4565.60"},{"v":4748.800000000001,"d":"4748.80"},{"v":4801,"d":"4801.00"},{"v":4840.4000000000015,"d":"4840.40"},4761.6,4670,8.1294]
[71,"EDELWEISS",66.8,{"v":67.43333333333334,"d":"67.43"},{"v":65.36666666666667,"d":"65.37"},{"v":63.93333333333334,"d":"63.93"},{"v":61.866666666666674,"d":"61.87"},{"v":68.86666666666667,"d":"68.87"},{"v":70.93333333333334,"d":"70.93"},{"v":72.36666666666667,"d":"72.37"},69.5,66,30.87502]
[72,"EICHERMOT",2726.95,{"v":2732.5166666666664,"d":"2732.52"},{"v":2686.8833333333328,"d":"2686.88"},{"v":2646.816666666666,"d":"2646.82"},{"v":2601.1833333333325,"d":"2601.18"},{"v":2772.583333333333,"d":"2772.58"},{"v":2818.2166666666662,"d":"2818.22"},{"v":2858.2833333333333,"d":"2858.28"},2778.15,2692.45,15.25475]
[73,"EMAMILTD",478.3,{"v":474.6000000000001,"d":"474.60"},{"v":468.3000000000002,"d":"468.30"},{"v":458.3000000000001,"d":"458.30"},{"v":452.0000000000002,"d":"452.00"},{"v":484.60000000000014,"d":"484.60"},{"v":490.9,"d":"490.90"},{"v":500.9000000000001,"d":"500.90"},480.9,464.6,4.22475]
[74,"ENDURANCE",1471.5,1480.45,{"v":1452.0500000000002,"d":"1452.05"},{"v":1432.6000000000001,"d":"1432.60"},{"v":1404.2000000000003,"d":"1404.20"},{"v":1499.9,"d":"1499.90"},{"v":1528.3000000000002,"d":"1528.30"},1547.75,1508.85,1461,0.65865]
[75,"ESCORTS",1391.05,1392.05,{"v":1379.1,"d":"1379.10"},{"v":1367.1499999999999,"d":"1367.15"},{"v":1354.1999999999998,"d":"1354.20"},{"v":1404,"d":"1404.00"},{"v":1416.9500000000003,"d":"1416.95"},{"v":1428.9,"d":"1428.90"},1405,1380.1,9.36005]
[76,"EXIDEIND",211.4,{"v":211.26666666666665,"d":"211.27"},{"v":208.1333333333333,"d":"208.13"},{"v":204.86666666666665,"d":"204.87"},{"v":201.7333333333333,"d":"201.73"},{"v":214.5333333333333,"d":"214.53"},{"v":217.66666666666663,"d":"217.67"},{"v":220.9333333333333,"d":"220.93"},214.4,208,58.7337]
[77,"FEDERALBNK",85.4,{"v":85.60000000000001,"d":"85.60"},{"v":83.95000000000002,"d":"83.95"},{"v":82.50000000000001,"d":"82.50"},{"v":80.85000000000002,"d":"80.85"},{"v":87.05000000000001,"d":"87.05"},{"v":88.70000000000002,"d":"88.70"},90.15,87.25,84.15,278.05881]
[78,"FORTIS",162.7,{"v":163.71666666666667,"d":"163.72"},{"v":160.58333333333334,"d":"160.58"},{"v":158.46666666666667,"d":"158.47"},{"v":155.33333333333334,"d":"155.33"},{"v":165.83333333333334,"d":"165.83"},{"v":168.96666666666667,"d":"168.97"},{"v":171.08333333333334,"d":"171.08"},166.85,161.6,29.42249]
[79,"FRETAIL",76.6,{"v":77.26666666666667,"d":"77.27"},{"v":75.63333333333333,"d":"75.63"},{"v":74.66666666666666,"d":"74.67"},{"v":73.03333333333332,"d":"73.03"},{"v":78.23333333333333,"d":"78.23"},{"v":79.86666666666669,"d":"79.87"},{"v":80.83333333333334,"d":"80.83"},78.9,76.3,19.98254]
[80,"GAIL",133.1,{"v":133.61666666666667,"d":"133.62"},{"v":131.98333333333335,"d":"131.98"},{"v":130.86666666666667,"d":"130.87"},{"v":129.23333333333335,"d":"129.23"},{"v":134.73333333333335,"d":"134.73"},{"v":136.36666666666667,"d":"136.37"},{"v":137.48333333333335,"d":"137.48"},135.25,132.5,152.27589]
[81,"GMRINFRA",25.25,{"v":25.400000000000002,"d":"25.40"},{"v":24.900000000000006,"d":"24.90"},{"v":24.550000000000004,"d":"24.55"},{"v":24.050000000000008,"d":"24.05"},{"v":25.750000000000004,"d":"25.75"},{"v":26.249999999999996,"d":"26.25"},{"v":26.6,"d":"26.60"},25.9,25.05,100.48122]
[82,"GICRE",141.95,{"v":142.56666666666666,"d":"142.57"},{"v":140.38333333333333,"d":"140.38"},{"v":138.81666666666666,"d":"138.82"},{"v":136.63333333333333,"d":"136.63"},{"v":144.13333333333333,"d":"144.13"},{"v":146.31666666666666,"d":"146.32"},{"v":147.88333333333333,"d":"147.88"},144.75,141,3.12747]
[83,"GLENMARK",503.2,{"v":499.7,"d":"499.70"},{"v":493.59999999999997,"d":"493.60"},{"v":484,"d":"484.00"},{"v":477.9,"d":"477.90"},{"v":509.29999999999995,"d":"509.30"},{"v":515.4,"d":"515.40"},{"v":525,"d":"525.00"},505.8,490.1,24.96554]
[84,"GODREJAGRO",494.85,{"v":495.8833333333334,"d":"495.88"},{"v":490.96666666666675,"d":"490.97"},{"v":487.08333333333337,"d":"487.08"},{"v":482.16666666666674,"d":"482.17"},{"v":499.76666666666677,"d":"499.77"},{"v":504.6833333333334,"d":"504.68"},{"v":508.5666666666668,"d":"508.57"},500.8,492,0.84756]
[85,"GODREJCP",721.1,{"v":728.9500000000002,"d":"728.95"},{"v":710.2000000000003,"d":"710.20"},{"v":699.3000000000001,"d":"699.30"},{"v":680.5500000000002,"d":"680.55"},{"v":739.8500000000004,"d":"739.85"},{"v":758.6000000000001,"d":"758.60"},{"v":769.5000000000005,"d":"769.50"},747.7,718.05,16.30695]
[86,"GODREJIND",446.25,{"v":445.8833333333334,"d":"445.88"},{"v":441.46666666666675,"d":"441.47"},{"v":436.6833333333334,"d":"436.68"},{"v":432.26666666666677,"d":"432.27"},{"v":450.66666666666674,"d":"450.67"},{"v":455.08333333333337,"d":"455.08"},{"v":459.86666666666673,"d":"459.87"},450.3,441.1,1.22285]
[87,"GODREJPROP",1522.8,{"v":1518.6000000000001,"d":"1518.60"},{"v":1497.2000000000003,"d":"1497.20"},{"v":1471.6000000000001,"d":"1471.60"},{"v":1450.2000000000003,"d":"1450.20"},{"v":1544.2000000000003,"d":"1544.20"},{"v":1565.6000000000004,"d":"1565.60"},{"v":1591.2000000000003,"d":"1591.20"},1540,1493,5.83114]
[88,"GRASIM",1243.75,{"v":1242.1166666666666,"d":"1242.12"},{"v":1227.2333333333331,"d":"1227.23"},{"v":1210.7166666666665,"d":"1210.72"},{"v":1195.833333333333,"d":"1195.83"},{"v":1258.6333333333332,"d":"1258.63"},{"v":1273.5166666666669,"d":"1273.52"},{"v":1290.0333333333333,"d":"1290.03"},1257,1225.6,15.61647]
[89,"GUJGASLTD",440.3,437.95,{"v":430.9,"d":"430.90"},{"v":421.5,"d":"421.50"},414.45,{"v":447.34999999999997,"d":"447.35"},{"v":454.40000000000003,"d":"454.40"},{"v":463.79999999999995,"d":"463.80"},445,428.55,6.23515]
[90,"GSPL",236.3,{"v":235.21666666666667,"d":"235.22"},{"v":233.33333333333334,"d":"233.33"},{"v":230.36666666666667,"d":"230.37"},{"v":228.48333333333335,"d":"228.48"},{"v":238.18333333333334,"d":"238.18"},{"v":240.06666666666666,"d":"240.07"},{"v":243.03333333333333,"d":"243.03"},237.1,232.25,8.89909]
[91,"HCLTECH",952.3,{"v":952.8833333333333,"d":"952.88"},{"v":943.5166666666667,"d":"943.52"},{"v":934.7333333333333,"d":"934.73"},{"v":925.3666666666667,"d":"925.37"},{"v":961.6666666666666,"d":"961.67"},{"v":971.0333333333332,"d":"971.03"},{"v":979.8166666666666,"d":"979.82"},962.25,944.1,32.77086]
[92,"HDFCAMC",3000.55,3009.85,{"v":2971.7,"d":"2971.70"},2942.85,{"v":2904.7,"d":"2904.70"},{"v":3038.7,"d":"3038.70"},{"v":3076.8500000000004,"d":"3076.85"},{"v":3105.7,"d":"3105.70"},3048,2981,1.89278]
[93,"HDFCBANK",1626.65,{"v":1625.3666666666668,"d":"1625.37"},{"v":1609.7333333333336,"d":"1609.73"},{"v":1592.8166666666668,"d":"1592.82"},{"v":1577.1833333333336,"d":"1577.18"},{"v":1642.2833333333335,"d":"1642.28"},{"v":1657.9166666666667,"d":"1657.92"},{"v":1674.8333333333335,"d":"1674.83"},1641,1608.45,69.48679]
[94,"HDFCLIFE",695.35,{"v":695.4333333333334,"d":"695.43"},{"v":686.8666666666668,"d":"686.87"},{"v":678.3833333333334,"d":"678.38"},{"v":669.8166666666668,"d":"669.82"},{"v":703.9166666666667,"d":"703.92"},{"v":712.4833333333333,"d":"712.48"},{"v":720.9666666666667,"d":"720.97"},704,686.95,30.66134]
[95,"HAVELLS",1216.15,1200.55,{"v":1179.1,"d":"1179.10"},1142.05,{"v":1120.6,"d":"1120.60"},{"v":1237.6,"d":"1237.60"},{"v":1259.0500000000002,"d":"1259.05"},{"v":1296.1,"d":"1296.10"},1222,1163.5,37.15493]
[96,"HEROMOTOCO",3461.55,{"v":3459.616666666667,"d":"3459.62"},{"v":3433.9333333333334,"d":"3433.93"},{"v":3406.3166666666666,"d":"3406.32"},{"v":3380.633333333333,"d":"3380.63"},{"v":3487.2333333333336,"d":"3487.23"},{"v":3512.916666666667,"d":"3512.92"},{"v":3540.5333333333338,"d":"3540.53"},3485.3,3432,7.59332]
[97,"HINDALCO",302.7,{"v":301.01666666666665,"d":"301.02"},{"v":294.6833333333333,"d":"294.68"},{"v":286.66666666666663,"d":"286.67"},{"v":280.33333333333326,"d":"280.33"},{"v":309.0333333333333,"d":"309.03"},{"v":315.3666666666667,"d":"315.37"},{"v":323.3833333333333,"d":"323.38"},307.35,293,275.19511]
[98,"HINDPETRO",225.65,{"v":224.6833333333333,"d":"224.68"},{"v":222.36666666666662,"d":"222.37"},{"v":219.08333333333331,"d":"219.08"},{"v":216.76666666666662,"d":"216.77"},{"v":227.9666666666666,"d":"227.97"},{"v":230.28333333333327,"d":"230.28"},{"v":233.5666666666666,"d":"233.57"},227,221.4,71.11409]
[99,"HINDUNILVR",2196.1,{"v":2205.0666666666666,"d":"2205.07"},{"v":2181.083333333333,"d":"2181.08"},{"v":2166.0666666666666,"d":"2166.07"},{"v":2142.083333333333,"d":"2142.08"},{"v":2220.083333333333,"d":"2220.08"},{"v":2244.0666666666666,"d":"2244.07"},{"v":2259.083333333333,"d":"2259.08"},2229.05,2190.05,23.96356]
[100,"HINDZINC",304.7,{"v":304,"d":"304.00"},298.15,{"v":291.59999999999997,"d":"291.60"},{"v":285.74999999999994,"d":"285.75"},310.55,{"v":316.40000000000003,"d":"316.40"},{"v":322.95000000000005,"d":"322.95"},309.85,297.45,26.91599]
[101,"HUDCO",44.15,44.25,43.65,43.15,42.55,44.75,{"v":45.349999999999994,"d":"45.35"},45.85,44.85,43.75,14.20764]
[102,"HDFC",2858.65,{"v":2864.2166666666667,"d":"2864.22"},{"v":2832.4333333333334,"d":"2832.43"},{"v":2806.2166666666667,"d":"2806.22"},{"v":2774.4333333333334,"d":"2774.43"},{"v":2890.4333333333334,"d":"2890.43"},{"v":2922.216666666667,"d":"2922.22"},{"v":2948.4333333333334,"d":"2948.43"},2896,2838,22.951]
[103,"ICICIBANK",658.35,{"v":662.4333333333333,"d":"662.43"},{"v":645.4666666666666,"d":"645.47"},{"v":632.5833333333333,"d":"632.58"},{"v":615.6166666666666,"d":"615.62"},{"v":675.3166666666666,"d":"675.32"},{"v":692.2833333333333,"d":"692.28"},{"v":705.1666666666666,"d":"705.17"},679.4,649.55,249.66739]
[104,"ICICIGI",1504.9,{"v":1503.8166666666666,"d":"1503.82"},{"v":1488.6333333333332,"d":"1488.63"},{"v":1472.3666666666666,"d":"1472.37"},{"v":1457.1833333333332,"d":"1457.18"},{"v":1520.0833333333333,"d":"1520.08"},{"v":1535.2666666666667,"d":"1535.27"},{"v":1551.5333333333333,"d":"1551.53"},1519,1487.55,4.28431]
[105,"ICICIPRULI",490.75,{"v":490.7833333333333,"d":"490.78"},{"v":486.1166666666666,"d":"486.12"},{"v":481.4833333333333,"d":"481.48"},{"v":476.8166666666666,"d":"476.82"},{"v":495.41666666666663,"d":"495.42"},{"v":500.08333333333337,"d":"500.08"},{"v":504.71666666666664,"d":"504.72"},495.45,486.15,19.89191]
[106,"ISEC",413.85,{"v":415.3,"d":"415.30"},407.85,401.85,{"v":394.40000000000003,"d":"394.40"},{"v":421.3,"d":"421.30"},{"v":428.74999999999994,"d":"428.75"},434.75,422.75,409.3,5.13669]
[107,"IDFCFIRSTB",53.85,{"v":53.71666666666667,"d":"53.72"},{"v":52.833333333333336,"d":"52.83"},{"v":51.81666666666667,"d":"51.82"},{"v":50.93333333333334,"d":"50.93"},{"v":54.733333333333334,"d":"54.73"},{"v":55.61666666666666,"d":"55.62"},{"v":56.63333333333333,"d":"56.63"},54.6,52.7,469.08035]
[108,"ITC",218.25,{"v":219.1,"d":"219.10"},{"v":216.39999999999998,"d":"216.40"},{"v":214.54999999999998,"d":"214.55"},{"v":211.84999999999997,"d":"211.85"},220.95,{"v":223.64999999999998,"d":"223.65"},{"v":225.5,"d":"225.50"},221.8,217.25,291.48891]
[109,"IBULHSGFIN",226.1,{"v":224.6833333333333,"d":"224.68"},{"v":219.9666666666666,"d":"219.97"},{"v":213.83333333333331,"d":"213.83"},{"v":209.11666666666662,"d":"209.12"},{"v":230.8166666666666,"d":"230.82"},{"v":235.5333333333333,"d":"235.53"},{"v":241.6666666666666,"d":"241.67"},229.4,218.55,200.97806]
[110,"INDHOTEL",126.8,{"v":128.46666666666667,"d":"128.47"},{"v":124.33333333333334,"d":"124.33"},{"v":121.86666666666667,"d":"121.87"},{"v":117.73333333333335,"d":"117.73"},{"v":130.93333333333334,"d":"130.93"},{"v":135.06666666666666,"d":"135.07"},{"v":137.53333333333333,"d":"137.53"},132.6,126,52.26027]
[111,"IOC",95.6,{"v":95.36666666666667,"d":"95.37"},{"v":94.23333333333335,"d":"94.23"},{"v":92.86666666666667,"d":"92.87"},{"v":91.73333333333335,"d":"91.73"},{"v":96.73333333333335,"d":"96.73"},{"v":97.86666666666667,"d":"97.87"},{"v":99.23333333333335,"d":"99.23"},96.5,94,248.69144]
[112,"IRCTC",1674.15,{"v":1689.9666666666665,"d":"1689.97"},{"v":1646.183333333333,"d":"1646.18"},{"v":1618.2166666666665,"d":"1618.22"},{"v":1574.433333333333,"d":"1574.43"},{"v":1717.933333333333,"d":"1717.93"},{"v":1761.7166666666662,"d":"1761.72"},{"v":1789.683333333333,"d":"1789.68"},1733.75,1662,17.7637]
[113,"IGL",547.65,{"v":547.6833333333333,"d":"547.68"},{"v":538.5666666666666,"d":"538.57"},{"v":529.4833333333333,"d":"529.48"},{"v":520.3666666666667,"d":"520.37"},{"v":556.7666666666665,"d":"556.77"},{"v":565.8833333333331,"d":"565.88"},{"v":574.9666666666665,"d":"574.97"},556.8,538.6,23.23058]
[114,"INDUSTOWER",247.15,{"v":247.8166666666667,"d":"247.82"},{"v":243.4333333333334,"d":"243.43"},{"v":239.7166666666667,"d":"239.72"},{"v":235.3333333333334,"d":"235.33"},{"v":251.5333333333334,"d":"251.53"},{"v":255.91666666666666,"d":"255.92"},{"v":259.6333333333334,"d":"259.63"},252.2,244.1,31.84642]
[115,"INDUSINDBK",1058.25,{"v":1065.2833333333333,"d":"1065.28"},{"v":1034.0666666666666,"d":"1034.07"},{"v":1009.8833333333332,"d":"1009.88"},{"v":978.6666666666665,"d":"978.67"},{"v":1089.4666666666667,"d":"1089.47"},{"v":1120.6833333333334,"d":"1120.68"},{"v":1144.8666666666668,"d":"1144.87"},1096.5,1041.1,138.83441]
[116,"NAUKRI",5095.2,{"v":5216.166666666667,"d":"5216.17"},{"v":4881.233333333334,"d":"4881.23"},{"v":4667.266666666666,"d":"4667.27"},{"v":4332.333333333333,"d":"4332.33"},{"v":5430.133333333334,"d":"5430.13"},{"v":5765.066666666667,"d":"5765.07"},{"v":5979.033333333335,"d":"5979.03"},5551.1,5002.2,18.02188]
[117,"INFY",1290.4,{"v":1298.7166666666667,"d":"1298.72"},{"v":1277.6833333333334,"d":"1277.68"},{"v":1264.9666666666667,"d":"1264.97"},{"v":1243.9333333333334,"d":"1243.93"},{"v":1311.4333333333334,"d":"1311.43"},{"v":1332.4666666666667,"d":"1332.47"},{"v":1345.1833333333334,"d":"1345.18"},1319.75,1286,68.96421]
[118,"INDIGO",1610.45,{"v":1617.7166666666665,"d":"1617.72"},{"v":1588.883333333333,"d":"1588.88"},{"v":1567.3166666666666,"d":"1567.32"},{"v":1538.4833333333331,"d":"1538.48"},{"v":1639.2833333333328,"d":"1639.28"},{"v":1668.1166666666663,"d":"1668.12"},{"v":1689.6833333333327,"d":"1689.68"},1646.55,1596.15,9.29036]
[119,"IPCALAB",1901.25,{"v":1896,"d":"1896.00"},{"v":1883.2,"d":"1883.20"},1865.15,{"v":1852.3500000000001,"d":"1852.35"},1914.05,{"v":1926.8500000000001,"d":"1926.85"},{"v":1944.8999999999999,"d":"1944.90"},1908.8,1877.95,2.36624]
[120,"JSWENERGY",75,{"v":75.26666666666667,"d":"75.27"},{"v":73.78333333333333,"d":"73.78"},{"v":72.56666666666666,"d":"72.57"},{"v":71.08333333333333,"d":"71.08"},{"v":76.48333333333333,"d":"76.48"},{"v":77.96666666666665,"d":"77.97"},{"v":79.18333333333334,"d":"79.18"},76.75,74.05,27.64907]
[121,"JSWSTEEL",407.65,{"v":411.0833333333333,"d":"411.08"},{"v":400.26666666666665,"d":"400.27"},{"v":392.8833333333333,"d":"392.88"},{"v":382.06666666666666,"d":"382.07"},{"v":418.46666666666664,"d":"418.47"},{"v":429.28333333333336,"d":"429.28"},{"v":436.66666666666663,"d":"436.67"},421.9,403.7,105.94928]
[122,"JINDALSTEL",332.65,{"v":325.7833333333333,"d":"325.78"},{"v":315.66666666666663,"d":"315.67"},{"v":298.68333333333334,"d":"298.68"},{"v":288.56666666666666,"d":"288.57"},{"v":342.7666666666666,"d":"342.77"},{"v":352.88333333333327,"d":"352.88"},{"v":369.86666666666656,"d":"369.87"},335.9,308.8,263.20619]
[123,"JUBLFOOD",2881.65,{"v":2884.0833333333335,"d":"2884.08"},{"v":2852.166666666667,"d":"2852.17"},{"v":2822.6833333333334,"d":"2822.68"},{"v":2790.766666666667,"d":"2790.77"},{"v":2913.566666666667,"d":"2913.57"},{"v":2945.483333333334,"d":"2945.48"},{"v":2974.966666666667,"d":"2974.97"},2916,2854.6,11.34266]
[124,"KOTAKBANK",2019.65,{"v":2022.2166666666665,"d":"2022.22"},{"v":1995.433333333333,"d":"1995.43"},{"v":1971.2166666666665,"d":"1971.22"},{"v":1944.433333333333,"d":"1944.43"},{"v":2046.433333333333,"d":"2046.43"},{"v":2073.2166666666662,"d":"2073.22"},{"v":2097.433333333333,"d":"2097.43"},2049,1998,54.80183]
[125,"L&TFH",98.6,{"v":98.98333333333333,"d":"98.98"},{"v":96.96666666666667,"d":"96.97"},{"v":95.33333333333333,"d":"95.33"},{"v":93.31666666666666,"d":"93.32"},{"v":100.61666666666667,"d":"100.62"},{"v":102.63333333333335,"d":"102.63"},{"v":104.26666666666668,"d":"104.27"},101,97.35,230.11432]
[126,"LTTS",2660.3,{"v":2641.7999999999997,"d":"2641.80"},{"v":2604.5999999999995,"d":"2604.60"},{"v":2548.8999999999996,"d":"2548.90"},{"v":2511.6999999999994,"d":"2511.70"},{"v":2697.4999999999995,"d":"2697.50"},{"v":2734.6999999999994,"d":"2734.70"},{"v":2790.3999999999996,"d":"2790.40"},2679,2586.1,2.25924]
[127,"LICHSGFIN",469.8,{"v":472.9666666666667,"d":"472.97"},{"v":462.58333333333337,"d":"462.58"},{"v":455.3666666666667,"d":"455.37"},{"v":444.98333333333335,"d":"444.98"},{"v":480.1833333333334,"d":"480.18"},{"v":490.5666666666667,"d":"490.57"},{"v":497.7833333333334,"d":"497.78"},483.35,465.75,64.89108]
[128,"LTI",3944.95,{"v":3974.316666666667,"d":"3974.32"},{"v":3890.633333333334,"d":"3890.63"},{"v":3836.316666666667,"d":"3836.32"},{"v":3752.633333333334,"d":"3752.63"},{"v":4028.633333333334,"d":"4028.63"},{"v":4112.3166666666675,"d":"4112.32"},{"v":4166.633333333334,"d":"4166.63"},4058,3920,0.9206]
[129,"LT",1549.45,{"v":1554.1499999999999,"d":"1554.15"},{"v":1534.2999999999997,"d":"1534.30"},{"v":1519.1499999999999,"d":"1519.15"},{"v":1499.2999999999997,"d":"1499.30"},{"v":1569.2999999999997,"d":"1569.30"},{"v":1589.1499999999996,"d":"1589.15"},{"v":1604.2999999999997,"d":"1604.30"},1574,1539,38.38556]
[130,"LUPIN",1096.8,1082.75,1064.05,{"v":1031.3,"d":"1031.30"},{"v":1012.5999999999999,"d":"1012.60"},{"v":1115.5,"d":"1115.50"},{"v":1134.1999999999998,"d":"1134.20"},1166.95,1101.45,1050,38.22108]
[131,"MRF",89575.35,90043.05,{"v":88536.1,"d":"88536.10"},87496.85,{"v":85989.90000000001,"d":"85989.90"},{"v":91082.3,"d":"91082.30"},{"v":92589.24999999999,"d":"92589.25"},{"v":93628.5,"d":"93628.50"},91550,89003.8,0.58998]
[132,"MGL",1145.25,{"v":1140.7333333333333,"d":"1140.73"},{"v":1131.5166666666667,"d":"1131.52"},{"v":1117.7833333333333,"d":"1117.78"},{"v":1108.5666666666666,"d":"1108.57"},{"v":1154.4666666666667,"d":"1154.47"},{"v":1163.6833333333334,"d":"1163.68"},{"v":1177.4166666666667,"d":"1177.42"},1149.95,1127,5.61526]
[133,"M&MFIN",220.75,{"v":218.03333333333333,"d":"218.03"},{"v":213.51666666666665,"d":"213.52"},{"v":206.28333333333333,"d":"206.28"},{"v":201.76666666666665,"d":"201.77"},{"v":225.26666666666665,"d":"225.27"},{"v":229.78333333333336,"d":"229.78"},{"v":237.01666666666665,"d":"237.02"},222.55,210.8,169.12835]
[134,"M&M",912.2,{"v":912.0166666666668,"d":"912.02"},{"v":902.2833333333335,"d":"902.28"},{"v":892.3666666666668,"d":"892.37"},{"v":882.6333333333336,"d":"882.63"},{"v":921.9333333333335,"d":"921.93"},{"v":931.6666666666669,"d":"931.67"},{"v":941.5833333333335,"d":"941.58"},921.75,902.1,42.23635]
[135,"MANAPPURAM",175.75,{"v":176.38333333333333,"d":"176.38"},{"v":173.31666666666666,"d":"173.32"},{"v":170.88333333333333,"d":"170.88"},{"v":167.81666666666666,"d":"167.82"},{"v":178.81666666666666,"d":"178.82"},{"v":181.88333333333333,"d":"181.88"},{"v":184.31666666666666,"d":"184.32"},179.45,173.95,29.47464]
[136,"MARICO",409.25,{"v":409.40000000000003,"d":"409.40"},{"v":405.55000000000007,"d":"405.55"},401.85,{"v":398.00000000000006,"d":"398.00"},{"v":413.1000000000001,"d":"413.10"},{"v":416.9500000000001,"d":"416.95"},{"v":420.6500000000001,"d":"420.65"},413.25,405.7,13.5875]
[137,"MARUTI",7697.05,{"v":7707.099999999999,"d":"7707.10"},{"v":7615.199999999999,"d":"7615.20"},{"v":7533.349999999999,"d":"7533.35"},{"v":7441.449999999999,"d":"7441.45"},{"v":7788.949999999999,"d":"7788.95"},{"v":7880.8499999999985,"d":"7880.85"},{"v":7962.699999999999,"d":"7962.70"},7799,7625.25,13.21126]
[138,"MFSL",852.75,{"v":844.7833333333333,"d":"844.78"},{"v":829.7166666666666,"d":"829.72"},{"v":806.6833333333333,"d":"806.68"},{"v":791.6166666666666,"d":"791.62"},{"v":867.8166666666666,"d":"867.82"},{"v":882.8833333333332,"d":"882.88"},{"v":905.9166666666666,"d":"905.92"},859.85,821.75,35.55872]
[139,"MINDTREE",1686.65,1700.45,{"v":1658.2,"d":"1658.20"},1629.75,{"v":1587.5,"d":"1587.50"},{"v":1728.9,"d":"1728.90"},1771.15,{"v":1799.6000000000001,"d":"1799.60"},1742.7,1672,5.4583]
[140,"MOTHERSUMI",213.45,{"v":213.61666666666667,"d":"213.62"},{"v":210.48333333333335,"d":"210.48"},{"v":207.51666666666668,"d":"207.52"},{"v":204.38333333333335,"d":"204.38"},{"v":216.58333333333334,"d":"216.58"},{"v":219.71666666666667,"d":"219.72"},{"v":222.68333333333334,"d":"222.68"},216.75,210.65,356.09075]
[141,"MPHASIS",1683.6,1682.95,{"v":1670.9,"d":"1670.90"},{"v":1658.2,"d":"1658.20"},1646.15,1695.65,{"v":1707.6999999999998,"d":"1707.70"},{"v":1720.4,"d":"1720.40"},1695,1670.25,2.3089]
[142,"MUTHOOTFIN",1315.3,{"v":1322.7166666666665,"d":"1322.72"},{"v":1301.583333333333,"d":"1301.58"},{"v":1287.8666666666666,"d":"1287.87"},{"v":1266.7333333333331,"d":"1266.73"},{"v":1336.433333333333,"d":"1336.43"},{"v":1357.5666666666666,"d":"1357.57"},{"v":1371.2833333333328,"d":"1371.28"},1343.85,1309,17.21816]
[143,"NATCOPHARM",819.35,{"v":825.9000000000001,"d":"825.90"},{"v":805.8500000000001,"d":"805.85"},792.35,{"v":772.3000000000001,"d":"772.30"},{"v":839.4000000000002,"d":"839.40"},{"v":859.4500000000002,"d":"859.45"},{"v":872.9500000000003,"d":"872.95"},845.95,812.4,6.2435]
[144,"NMDC",115.5,{"v":115.33333333333333,"d":"115.33"},{"v":113.36666666666666,"d":"113.37"},{"v":111.23333333333333,"d":"111.23"},{"v":109.26666666666667,"d":"109.27"},{"v":117.46666666666665,"d":"117.47"},{"v":119.43333333333332,"d":"119.43"},{"v":121.56666666666665,"d":"121.57"},117.3,113.2,158.26952]
[145,"NTPC",98,97.55,{"v":95.94999999999999,"d":"95.95"},{"v":93.89999999999999,"d":"93.90"},{"v":92.29999999999998,"d":"92.30"},{"v":99.6,"d":"99.60"},{"v":101.19999999999999,"d":"101.20"},103.25,99.15,95.5,328.65663]
[146,"NATIONALUM",50.15,49.65,{"v":48.9,"d":"48.90"},47.65,{"v":46.9,"d":"46.90"},{"v":50.9,"d":"50.90"},51.65,{"v":52.9,"d":"52.90"},50.4,48.4,225.31335]
[147,"NAVINFLUOR",2509.1,{"v":2527.316666666666,"d":"2527.32"},{"v":2476.9333333333325,"d":"2476.93"},{"v":2444.7666666666664,"d":"2444.77"},{"v":2394.3833333333328,"d":"2394.38"},{"v":2559.483333333332,"d":"2559.48"},{"v":2609.8666666666663,"d":"2609.87"},{"v":2642.033333333332,"d":"2642.03"},2577.7,2495.15,1.32248]
[148,"NESTLEIND",17217.25,{"v":17334.116666666665,"d":"17334.12"},{"v":17022.23333333333,"d":"17022.23"},{"v":16827.216666666664,"d":"16827.22"},{"v":16515.33333333333,"d":"16515.33"},{"v":17529.13333333333,"d":"17529.13"},{"v":17841.01666666667,"d":"17841.02"},{"v":18036.033333333333,"d":"18036.03"},17646,17139.1,2.29774]
[149,"NAM-INDIA",345.2,342.05,{"v":336.1,"d":"336.10"},{"v":327,"d":"327.00"},321.05,{"v":351.15000000000003,"d":"351.15"},{"v":357.09999999999997,"d":"357.10"},{"v":366.20000000000005,"d":"366.20"},348,332.95,7.388]
[150,"OBEROIRLTY",577.6,{"v":581.3833333333333,"d":"581.38"},{"v":567.7666666666667,"d":"567.77"},{"v":557.9333333333333,"d":"557.93"},{"v":544.3166666666666,"d":"544.32"},{"v":591.2166666666667,"d":"591.22"},{"v":604.8333333333333,"d":"604.83"},{"v":614.6666666666667,"d":"614.67"},595,571.55,1.44772]
[151,"ONGC",103.75,{"v":102.61666666666667,"d":"102.62"},{"v":100.38333333333335,"d":"100.38"},{"v":97.01666666666668,"d":"97.02"},{"v":94.78333333333336,"d":"94.78"},{"v":105.98333333333335,"d":"105.98"},{"v":108.21666666666667,"d":"108.22"},{"v":111.58333333333334,"d":"111.58"},104.85,99.25,762.36798]
[152,"OIL",118.25,117.95,{"v":117,"d":"117.00"},115.75,{"v":114.8,"d":"114.80"},{"v":119.2,"d":"119.20"},{"v":120.15000000000002,"d":"120.15"},{"v":121.4,"d":"121.40"},118.9,116.7,14.8938]
[153,"OFSS",3134.7,{"v":3148.616666666667,"d":"3148.62"},{"v":3107.0833333333335,"d":"3107.08"},{"v":3079.4666666666667,"d":"3079.47"},{"v":3037.9333333333334,"d":"3037.93"},{"v":3176.2333333333336,"d":"3176.23"},{"v":3217.7666666666664,"d":"3217.77"},{"v":3245.3833333333337,"d":"3245.38"},3190.15,3121,0.53701]
[154,"PIIND",2226.7,2232.15,{"v":2204.8,"d":"2204.80"},{"v":2182.9,"d":"2182.90"},2155.55,2254.05,{"v":2281.3999999999996,"d":"2281.40"},{"v":2303.3,"d":"2303.30"},2259.5,2210.25,2.93562]
[155,"PAGEIND",29343.15,{"v":29642.966666666664,"d":"29642.97"},{"v":28850.183333333327,"d":"28850.18"},{"v":28357.216666666664,"d":"28357.22"},{"v":27564.433333333327,"d":"27564.43"},{"v":30135.933333333327,"d":"30135.93"},{"v":30928.71666666666,"d":"30928.72"},{"v":31421.683333333327,"d":"31421.68"},30435.75,29150,0.36771]
[156,"PETRONET",242.8,{"v":243.4,"d":"243.40"},{"v":240.9,"d":"240.90"},{"v":239,"d":"239.00"},{"v":236.5,"d":"236.50"},{"v":245.3,"d":"245.30"},{"v":247.8,"d":"247.80"},{"v":249.70000000000002,"d":"249.70"},245.9,241.5,45.23573]
[157,"PFIZER",4606.05,{"v":4601.683333333333,"d":"4601.68"},{"v":4579.366666666667,"d":"4579.37"},{"v":4552.683333333333,"d":"4552.68"},{"v":4530.366666666667,"d":"4530.37"},{"v":4628.366666666667,"d":"4628.37"},{"v":4650.683333333334,"d":"4650.68"},{"v":4677.366666666667,"d":"4677.37"},4624,4575,0.48878]
[158,"PIDILITIND",1789.15,{"v":1783.3333333333333,"d":"1783.33"},{"v":1771.6666666666665,"d":"1771.67"},{"v":1754.1833333333332,"d":"1754.18"},{"v":1742.5166666666664,"d":"1742.52"},{"v":1800.8166666666666,"d":"1800.82"},{"v":1812.4833333333331,"d":"1812.48"},{"v":1829.9666666666667,"d":"1829.97"},1795,1765.85,10.14212]
[159,"PEL",1842.1,{"v":1834.3999999999999,"d":"1834.40"},{"v":1793.7999999999997,"d":"1793.80"},{"v":1745.4999999999998,"d":"1745.50"},{"v":1704.8999999999996,"d":"1704.90"},{"v":1882.6999999999998,"d":"1882.70"},{"v":1923.2999999999997,"d":"1923.30"},{"v":1971.6,"d":"1971.60"},1875,1786.1,19.96884]
[160,"POLYCAB",1326.4,{"v":1325.8,"d":"1325.80"},{"v":1311.6,"d":"1311.60"},{"v":1296.8,"d":"1296.80"},{"v":1282.6,"d":"1282.60"},{"v":1340.6,"d":"1340.60"},{"v":1354.8000000000002,"d":"1354.80"},{"v":1369.6,"d":"1369.60"},1340,1311,2.28193]
[161,"PFC",133.7,{"v":133.83333333333334,"d":"133.83"},{"v":131.76666666666668,"d":"131.77"},{"v":129.83333333333334,"d":"129.83"},{"v":127.76666666666668,"d":"127.77"},{"v":135.76666666666668,"d":"135.77"},{"v":137.83333333333334,"d":"137.83"},{"v":139.76666666666668,"d":"139.77"},135.9,131.9,85.26216]
[162,"POWERGRID",225.55,{"v":222.91666666666666,"d":"222.92"},{"v":215.9333333333333,"d":"215.93"},{"v":206.31666666666666,"d":"206.32"},{"v":199.33333333333331,"d":"199.33"},{"v":232.5333333333333,"d":"232.53"},{"v":239.51666666666665,"d":"239.52"},{"v":249.1333333333333,"d":"249.13"},229.9,213.3,451.1305]
[163,"PRESTIGE",284.9,{"v":287.26666666666665,"d":"287.27"},{"v":280.8333333333333,"d":"280.83"},{"v":276.76666666666665,"d":"276.77"},{"v":270.3333333333333,"d":"270.33"},{"v":291.3333333333333,"d":"291.33"},{"v":297.7666666666667,"d":"297.77"},{"v":301.8333333333333,"d":"301.83"},293.7,283.2,4.2165]
[164,"PGHH",13109.35,{"v":13305.299999999997,"d":"13305.30"},{"v":12810.599999999995,"d":"12810.60"},{"v":12511.849999999997,"d":"12511.85"},{"v":12017.149999999994,"d":"12017.15"},{"v":13604.049999999996,"d":"13604.05"},{"v":14098.749999999996,"d":"14098.75"},{"v":14397.499999999996,"d":"14397.50"},13800,13006.55,0.09423]
[165,"PNB",39.5,39.75,38.85,{"v":38.2,"d":"38.20"},{"v":37.300000000000004,"d":"37.30"},{"v":40.4,"d":"40.40"},{"v":41.300000000000004,"d":"41.30"},{"v":41.949999999999996,"d":"41.95"},40.65,39.1,1875.20683]
[166,"RBLBANK",258.5,{"v":256.65000000000003,"d":"256.65"},{"v":251.30000000000007,"d":"251.30"},{"v":244.10000000000002,"d":"244.10"},{"v":238.75000000000006,"d":"238.75"},{"v":263.8500000000001,"d":"263.85"},{"v":269.2000000000001,"d":"269.20"},{"v":276.4000000000001,"d":"276.40"},262,249.45,226.30711]
[167,"RECLTD",153.7,{"v":154.16666666666666,"d":"154.17"},{"v":152.0333333333333,"d":"152.03"},{"v":150.36666666666665,"d":"150.37"},{"v":148.2333333333333,"d":"148.23"},{"v":155.83333333333331,"d":"155.83"},{"v":157.9666666666667,"d":"157.97"},{"v":159.63333333333333,"d":"159.63"},156.3,152.5,52.94198]
[168,"RAJESHEXPO",479.4,{"v":478.81666666666666,"d":"478.82"},{"v":476.5333333333333,"d":"476.53"},{"v":473.66666666666663,"d":"473.67"},{"v":471.38333333333327,"d":"471.38"},{"v":481.68333333333334,"d":"481.68"},{"v":483.96666666666675,"d":"483.97"},{"v":486.83333333333337,"d":"486.83"},481.1,475.95,0.63559]
[169,"RELIANCE",2059.5,{"v":2057.9666666666667,"d":"2057.97"},{"v":2036.5333333333333,"d":"2036.53"},{"v":2013.5666666666666,"d":"2013.57"},{"v":1992.1333333333332,"d":"1992.13"},{"v":2080.9333333333334,"d":"2080.93"},{"v":2102.366666666667,"d":"2102.37"},{"v":2125.3333333333335,"d":"2125.33"},2079.4,2035,98.86093]
[170,"SBICARD",1019.35,{"v":1023.7833333333333,"d":"1023.78"},{"v":1010.5666666666666,"d":"1010.57"},{"v":1001.7833333333333,"d":"1001.78"},{"v":988.5666666666666,"d":"988.57"},{"v":1032.5666666666666,"d":"1032.57"},{"v":1045.7833333333333,"d":"1045.78"},{"v":1054.5666666666666,"d":"1054.57"},1037,1015,9.53363]
[171,"SBILIFE",872,{"v":876.4333333333334,"d":"876.43"},{"v":864.5666666666668,"d":"864.57"},{"v":857.1333333333334,"d":"857.13"},{"v":845.2666666666669,"d":"845.27"},{"v":883.8666666666668,"d":"883.87"},{"v":895.7333333333333,"d":"895.73"},{"v":903.1666666666667,"d":"903.17"},888.3,869,16.34864]
[172,"SRF",5787.6,{"v":5744.2,"d":"5744.20"},{"v":5668.4,"d":"5668.40"},{"v":5549.2,"d":"5549.20"},{"v":5473.4,"d":"5473.40"},{"v":5863.4,"d":"5863.40"},{"v":5939.200000000001,"d":"5939.20"},{"v":6058.4,"d":"6058.40"},5820,5625,1.72931]
[173,"SANOFI",7830.65,{"v":7845.716666666667,"d":"7845.72"},{"v":7796.433333333334,"d":"7796.43"},{"v":7762.216666666667,"d":"7762.22"},{"v":7712.933333333334,"d":"7712.93"},{"v":7879.933333333334,"d":"7879.93"},{"v":7929.216666666667,"d":"7929.22"},{"v":7963.433333333334,"d":"7963.43"},7895,7811.5,0.29867]
[174,"SHREECEM",28597.4,{"v":28704.5,"d":"28704.50"},{"v":28319,"d":"28319.00"},{"v":28040.6,"d":"28040.60"},{"v":27655.1,"d":"27655.10"},{"v":28982.9,"d":"28982.90"},{"v":29368.4,"d":"29368.40"},{"v":29646.800000000003,"d":"29646.80"},29090,28426.1,0.70319]
[175,"SRTRANSFIN",1477.8,{"v":1486.0666666666668,"d":"1486.07"},{"v":1453.1333333333337,"d":"1453.13"},{"v":1428.466666666667,"d":"1428.47"},{"v":1395.5333333333338,"d":"1395.53"},{"v":1510.7333333333336,"d":"1510.73"},{"v":1543.6666666666665,"d":"1543.67"},{"v":1568.3333333333335,"d":"1568.33"},1519,1461.4,23.25039]
[176,"SIEMENS",1831.55,{"v":1852.1833333333334,"d":"1852.18"},{"v":1794.3666666666668,"d":"1794.37"},{"v":1757.1833333333334,"d":"1757.18"},{"v":1699.3666666666668,"d":"1699.37"},{"v":1889.3666666666668,"d":"1889.37"},{"v":1947.1833333333334,"d":"1947.18"},{"v":1984.3666666666668,"d":"1984.37"},1910,1815,5.57842]
[177,"SBIN",402.35,{"v":406.1333333333334,"d":"406.13"},{"v":396.51666666666677,"d":"396.52"},{"v":390.6833333333334,"d":"390.68"},{"v":381.0666666666668,"d":"381.07"},{"v":411.96666666666675,"d":"411.97"},{"v":421.5833333333334,"d":"421.58"},{"v":427.41666666666674,"d":"427.42"},415.75,400.3,803.65431]
[178,"SAIL",64.75,{"v":64.63333333333334,"d":"64.63"},{"v":62.866666666666674,"d":"62.87"},{"v":60.983333333333334,"d":"60.98"},{"v":59.21666666666667,"d":"59.22"},{"v":66.51666666666668,"d":"66.52"},{"v":68.28333333333336,"d":"68.28"},{"v":70.16666666666669,"d":"70.17"},66.4,62.75,536.47015]
[179,"SUNPHARMA",631.15,{"v":629.5500000000001,"d":"629.55"},{"v":624.6000000000001,"d":"624.60"},{"v":618.0500000000001,"d":"618.05"},{"v":613.1000000000001,"d":"613.10"},{"v":636.1000000000001,"d":"636.10"},{"v":641.0500000000002,"d":"641.05"},{"v":647.6000000000001,"d":"647.60"},634.5,623,61.37454]
[180,"SUNTV",516.3,{"v":517.9333333333333,"d":"517.93"},{"v":512.3666666666666,"d":"512.37"},{"v":508.4333333333333,"d":"508.43"},{"v":502.86666666666656,"d":"502.87"},{"v":521.8666666666666,"d":"521.87"},{"v":527.4333333333334,"d":"527.43"},{"v":531.3666666666666,"d":"531.37"},523.5,514,15.6932]
[181,"SYNGENE",591.9,{"v":592.1666666666666,"d":"592.17"},{"v":585.3333333333333,"d":"585.33"},{"v":578.7666666666667,"d":"578.77"},{"v":571.9333333333333,"d":"571.93"},{"v":598.7333333333332,"d":"598.73"},{"v":605.5666666666665,"d":"605.57"},{"v":612.1333333333332,"d":"612.13"},599,585.6,3.83214]
[182,"TVSMOTOR",628.85,631.35,{"v":620.7,"d":"620.70"},{"v":612.5500000000001,"d":"612.55"},{"v":601.9000000000001,"d":"601.90"},{"v":639.5,"d":"639.50"},{"v":650.1499999999999,"d":"650.15"},{"v":658.3,"d":"658.30"},642,623.2,19.43169]
[183,"TATACHEM",583.7,{"v":580.8166666666666,"d":"580.82"},{"v":571.7333333333332,"d":"571.73"},{"v":559.7666666666667,"d":"559.77"},{"v":550.6833333333333,"d":"550.68"},{"v":592.7833333333332,"d":"592.78"},{"v":601.8666666666667,"d":"601.87"},{"v":613.8333333333331,"d":"613.83"},589.9,568.85,91.043]
[184,"TCS",3108.8,{"v":3125.4833333333336,"d":"3125.48"},{"v":3083.316666666667,"d":"3083.32"},{"v":3057.8333333333335,"d":"3057.83"},{"v":3015.666666666667,"d":"3015.67"},{"v":3150.966666666667,"d":"3150.97"},{"v":3193.133333333333,"d":"3193.13"},{"v":3218.6166666666672,"d":"3218.62"},3167.65,3100,34.3577]
[185,"TATACONSUM",628.35,626.95,618.95,609.55,601.55,{"v":636.3500000000001,"d":"636.35"},{"v":644.3500000000001,"d":"644.35"},{"v":653.7500000000002,"d":"653.75"},634.95,617.55,64.18986]
[186,"TATAMOTORS",329.2,{"v":331.5333333333333,"d":"331.53"},{"v":325.16666666666663,"d":"325.17"},{"v":321.1333333333333,"d":"321.13"},{"v":314.76666666666665,"d":"314.77"},{"v":335.5666666666666,"d":"335.57"},{"v":341.9333333333333,"d":"341.93"},{"v":345.9666666666666,"d":"345.97"},337.9,327.5,659.43843]
[187,"TATAPOWER",90.25,{"v":89.28333333333335,"d":"89.28"},{"v":87.56666666666669,"d":"87.57"},{"v":84.88333333333334,"d":"84.88"},{"v":83.16666666666669,"d":"83.17"},{"v":91.9666666666667,"d":"91.97"},{"v":93.68333333333337,"d":"93.68"},{"v":96.3666666666667,"d":"96.37"},91,86.6,458.33754]
[188,"TATASTEEL",699.2,{"v":692.0333333333334,"d":"692.03"},{"v":675.4666666666668,"d":"675.47"},{"v":651.7333333333333,"d":"651.73"},{"v":635.1666666666667,"d":"635.17"},{"v":715.7666666666669,"d":"715.77"},{"v":732.3333333333335,"d":"732.33"},{"v":756.066666666667,"d":"756.07"},708.6,668.3,336.61838]
[189,"TECHM",986.8,{"v":986.7666666666668,"d":"986.77"},{"v":973.5333333333335,"d":"973.53"},{"v":960.2666666666668,"d":"960.27"},{"v":947.0333333333335,"d":"947.03"},{"v":1000.0333333333335,"d":"1000.03"},{"v":1013.2666666666669,"d":"1013.27"},{"v":1026.5333333333335,"d":"1026.53"},1000,973.5,39.12433]
[190,"RAMCOCEM",989.95,{"v":988.5666666666666,"d":"988.57"},{"v":975.4333333333332,"d":"975.43"},{"v":960.9166666666665,"d":"960.92"},{"v":947.7833333333331,"d":"947.78"},{"v":1003.0833333333333,"d":"1003.08"},{"v":1016.2166666666667,"d":"1016.22"},{"v":1030.7333333333333,"d":"1030.73"},1001.7,974.05,12.10065]
[191,"TITAN",1471.85,{"v":1479.2833333333335,"d":"1479.28"},{"v":1453.566666666667,"d":"1453.57"},{"v":1435.2833333333335,"d":"1435.28"},{"v":1409.566666666667,"d":"1409.57"},{"v":1497.566666666667,"d":"1497.57"},{"v":1523.2833333333338,"d":"1523.28"},{"v":1541.566666666667,"d":"1541.57"},1505,1461,30.90249]
[192,"TORNTPHARM",2588.8,{"v":2594.266666666667,"d":"2594.27"},{"v":2569.5333333333338,"d":"2569.53"},{"v":2550.266666666667,"d":"2550.27"},{"v":2525.5333333333338,"d":"2525.53"},{"v":2613.5333333333338,"d":"2613.53"},{"v":2638.2666666666664,"d":"2638.27"},{"v":2657.5333333333338,"d":"2657.53"},2619,2575,1.75989]
[193,"TORNTPOWER",345.05,{"v":339.93333333333334,"d":"339.93"},{"v":332.9666666666667,"d":"332.97"},{"v":320.8833333333334,"d":"320.88"},{"v":313.91666666666674,"d":"313.92"},{"v":352.01666666666665,"d":"352.02"},{"v":358.98333333333323,"d":"358.98"},{"v":371.0666666666666,"d":"371.07"},346.9,327.85,54.83054]
[194,"TRENT",750.25,{"v":739.4166666666666,"d":"739.42"},{"v":720.8333333333333,"d":"720.83"},{"v":691.4166666666666,"d":"691.42"},{"v":672.8333333333333,"d":"672.83"},{"v":768.8333333333333,"d":"768.83"},{"v":787.4166666666665,"d":"787.42"},{"v":816.8333333333333,"d":"816.83"},758,710,20.95315]
[195,"UPL",538.95,{"v":540.5666666666666,"d":"540.57"},{"v":535.4833333333332,"d":"535.48"},{"v":532.0166666666667,"d":"532.02"},{"v":526.9333333333333,"d":"526.93"},{"v":544.0333333333332,"d":"544.03"},{"v":549.1166666666667,"d":"549.12"},{"v":552.5833333333331,"d":"552.58"},545.65,537.1,29.76504]
[196,"ULTRACEMCO",6457.8,{"v":6472.583333333333,"d":"6472.58"},{"v":6395.166666666666,"d":"6395.17"},{"v":6332.533333333333,"d":"6332.53"},{"v":6255.116666666666,"d":"6255.12"},{"v":6535.216666666666,"d":"6535.22"},{"v":6612.633333333332,"d":"6612.63"},{"v":6675.266666666666,"d":"6675.27"},6550,6409.95,5.95723]
[197,"UNIONBANK",34.6,34.75,{"v":33.7,"d":"33.70"},{"v":32.800000000000004,"d":"32.80"},{"v":31.750000000000007,"d":"31.75"},35.65,{"v":36.699999999999996,"d":"36.70"},{"v":37.599999999999994,"d":"37.60"},35.8,33.85,255.11054]
[198,"UBL",1276.7,{"v":1276.5166666666667,"d":"1276.52"},{"v":1263.2333333333333,"d":"1263.23"},{"v":1249.7666666666667,"d":"1249.77"},{"v":1236.4833333333333,"d":"1236.48"},{"v":1289.9833333333333,"d":"1289.98"},{"v":1303.2666666666667,"d":"1303.27"},{"v":1316.7333333333333,"d":"1316.73"},1289.8,1263.05,7.53372]
[199,"MCDOWELL-N",568.45,569.85,{"v":565.3000000000001,"d":"565.30"},{"v":562.1500000000001,"d":"562.15"},{"v":557.6000000000001,"d":"557.60"},{"v":573,"d":"573.00"},577.55,{"v":580.6999999999999,"d":"580.70"},574.4,566.7,17.77197]
[200,"VGUARD",220.7,{"v":222.11666666666667,"d":"222.12"},{"v":217.58333333333334,"d":"217.58"},{"v":214.46666666666667,"d":"214.47"},{"v":209.93333333333334,"d":"209.93"},{"v":225.23333333333335,"d":"225.23"},{"v":229.76666666666665,"d":"229.77"},{"v":232.88333333333335,"d":"232.88"},226.65,219,8.64627]
[201,"VBL",901.6,{"v":918.1999999999999,"d":"918.20"},{"v":876.3999999999999,"d":"876.40"},{"v":851.1999999999999,"d":"851.20"},{"v":809.3999999999999,"d":"809.40"},{"v":943.3999999999999,"d":"943.40"},{"v":985.1999999999998,"d":"985.20"},{"v":1010.3999999999999,"d":"1010.40"},960,893,11.1765]
[202,"IDEA",11.75,{"v":11.883333333333333,"d":"11.88"},{"v":11.516666666666666,"d":"11.52"},{"v":11.283333333333333,"d":"11.28"},{"v":10.916666666666666,"d":"10.92"},{"v":12.116666666666665,"d":"12.12"},{"v":12.483333333333333,"d":"12.48"},{"v":12.716666666666665,"d":"12.72"},12.25,11.65,2130.50922]
[203,"VOLTAS",1037.65,{"v":1046.1833333333334,"d":"1046.18"},{"v":1017.4666666666667,"d":"1017.47"},{"v":997.2833333333333,"d":"997.28"},{"v":968.5666666666666,"d":"968.57"},{"v":1066.3666666666668,"d":"1066.37"},{"v":1095.0833333333335,"d":"1095.08"},{"v":1115.2666666666669,"d":"1115.27"},1074.9,1026,33.50162]
[204,"WHIRLPOOL",2454.05,{"v":2456.4,"d":"2456.40"},2416.15,2378.25,{"v":2338,"d":"2338.00"},{"v":2494.3,"d":"2494.30"},2534.55,{"v":2572.4500000000003,"d":"2572.45"},2496.65,2418.5,0.60107]
[205,"WIPRO",437.55,{"v":439.7166666666667,"d":"439.72"},{"v":431.6333333333334,"d":"431.63"},{"v":425.7166666666667,"d":"425.72"},{"v":417.6333333333334,"d":"417.63"},{"v":445.6333333333334,"d":"445.63"},{"v":453.71666666666664,"d":"453.72"},{"v":459.6333333333334,"d":"459.63"},{"v":447.8,"d":"447.80"},{"v":433.8,"d":"433.80"},{"v":124.53798,"d":"124.54"}]
[206,"YESBANK",16.05,{"v":16.11666666666667,"d":"16.12"},{"v":15.88333333333334,"d":"15.88"},{"v":15.716666666666669,"d":"15.72"},{"v":15.483333333333338,"d":"15.48"},{"v":16.283333333333342,"d":"16.28"},{"v":16.51666666666667,"d":"16.52"},{"v":16.683333333333344,"d":"16.68"},16.35,15.95,{"v":774.78438,"d":"774.78"}]
[207,"ZEEL",{"v":206.1,"d":"206.10"},{"v":207.5666666666667,"d":"207.57"},{"v":201.38333333333338,"d":"201.38"},{"v":196.66666666666669,"d":"196.67"},{"v":190.48333333333338,"d":"190.48"},{"v":212.2833333333334,"d":"212.28"},{"v":218.46666666666673,"d":"218.47"},{"v":223.1833333333334,"d":"223.18"},213.75,202.85,{"v":228.89782,"d":"228.90"}]
[]
[]
[]
[]
["Don’t take a open position home"]
[]
[]
["PREVIOUS"]
[]
["Note:     Pivot Point:Intra day trading tool"]
["Pivot Point: This is trigger point for intra day buy/sell based on the price range of the previous day"]
["As per the tool,the trader should take BUY position just above Pivot and keep the stop loss of pivot point and the first target would be Resistance 1(R1)"]
["If R1 is crossed then R2 becomes the next target with stop loss of at R1"]
["Similarly if price goes below pivot point then the trader should sell  and keep a stop  loss of pivot point and the first target would be S1"]
["If S1 is crossed then S2 becomes the next target with stop loss of at S1"]
[]
[]
[]
[]
[]
["Disclaimer:"]
["This document has been prepared by the Retail Research Desk of Asit C Mehta "]
["Investment Intermediates Ltd. and is meant for use of the recipient only "]
["and is not for circulation. This document is not to be reported or "]
["copied or made available to others. It should not be considered to be "]
["taken as an offer to sell or a solicitation to buy any security. The "]
["information contained herein is from sources believed reliable. We do "]
["not represent that it is accurate or complete and it should not be "]
["relied upon as such. We may from time to time have positions in and buy "]
["and sell securities referred to herein"]

{"sheet":"MidCap Intra","index":3,"n_rows":537,"n_cols":13,"rows_kept":537,"merged":[[0,0,0,1],[8,0,9,0],[8,1,9,1],[8,2,9,2],[8,3,9,3],[8,4,8,6],[8,7,8,9]]}
[]
[]
[]
[]
[{"$nulls":11},"Back To Main Page"]
["FOR INTRA DAY TRADING",{"$nulls":9},{"$f":"Main!B10","v":"2021-02-17"}]
[null,null," "]
[]
["Sr.no","Scrip","CLOSE RATE","Pivot Point","Supports",null,null,"Resistances"]
[null,null,"Point",null,"S1","S2","S3","R1","R2","R3","HIGH","LOW","Total Trade Quanity in Lakhs"]
[1,"3MINDIA",{"$f":"VLOOKUP($B11,[1]EQ!$A$1:$L$2000,6,0)","v":21298.05},{"$f":"(C11+K11+L11)/3","v":{"v":21211.016666666666,"d":"21211.02"}},{"$f":"+(D11*2)-K11","v":{"v":20922.033333333333,"d":"20922.03"}},{"$f":"+D11-K11+L11","v":{"v":20546.016666666666,"d":"20546.02"}},{"$f":"L11-2*(K11-D11)","v":{"v":20257.033333333333,"d":"20257.03"}},{"$f":"(D11*2)-L11","v":{"v":21587.033333333333,"d":"21587.03"}},{"$f":"+D11+K11-L11","v":{"v":21876.016666666663,"d":"21876.02"}},{"$f":"K11+2*(D11-L11)","v":{"v":22252.033333333333,"d":"22252.03"}},{"$f":"VLOOKUP($B11,[1]EQ!$A$1:$L$2000,4,0)","v":21500},{"$f":"VLOOKUP($B11,[1]EQ!$A$1:$L$2000,5,0)","v":20835},{"$f":"(VLOOKUP($B11,[1]EQ!$A$1:$L$2000,9,0)/100000)","v":0.16907}]
[2,"ABB",{"$f":"VLOOKUP($B12,[1]EQ!$A$1:$L$2000,6,0)","v":1500.5},{"v":1496.5,"d":"1496.50"},{"v":1478,"d":"1478.00"},{"v":1455.5,"d":"1455.50"},{"v":1437,"d":"1437.00"},{"v":1519,"d":"1519.00"},{"v":1537.5,"d":"1537.50"},{"v":1560,"d":"1560.00"},{"$f":"VLOOKUP($B12,[1]EQ!$A$1:$L$2000,4,0)","v":1515},{"$f":"VLOOKUP($B12,[1]EQ!$A$1:$L$2000,5,0)","v":1474},{"$f":"(VLOOKUP($B12,[1]EQ!$A$1:$L$2000,9,0)/100000)","v":1.70927}]
[3,"POWERINDIA",{"$f":"VLOOKUP($B13,[1]EQ!$A$1:$L$2000,6,0)","v":1343.15},{"v":1351.0833333333333,"d":"1351.08"},{"v":1323.0666666666666,"d":"1323.07"},{"v":1302.9833333333333,"d":"1302.98"},{"v":1274.9666666666667,"d":"1274.97"},{"v":1371.1666666666665,"d":"1371.17"},{"v":1399.1833333333334,"d":"1399.18"},{"v":1419.2666666666664,"d":"1419.27"},{"$f":"VLOOKUP($B13,[1]EQ!$A$1:$L$2000,4,0)","v":1379.1},{"$f":"VLOOKUP($B13,[1]EQ!$A$1:$L$2000,5,0)","v":1331},{"$f":"(VLOOKUP($B13,[1]EQ!$A$1:$L$2000,9,0)/100000)","v":0.18664}]
[4,"ACC",{"$f":"VLOOKUP($B14,[1]EQ!$A$1:$L$2000,6,0)","v":1819.3},{"v":1815.9333333333334,"d":"1815.93"},{"v":1788.3166666666668,"d":"1788.32"},{"v":1757.3333333333335,"d":"1757.33"},{"v":1729.716666666667,"d":"1729.72"},{"v":1846.9166666666667,"d":"1846.92"},{"v":1874.5333333333335,"d":"1874.53"},{"v":1905.5166666666667,"d":"1905.52"},{"$f":"VLOOKUP($B14,[1]EQ!$A$1:$L$2000,4,0)","v":1843.55},{"$f":"VLOOKUP($B14,[1]EQ!$A$1:$L$2000,5,0)","v":1784.95},{"$f":"(VLOOKUP($B14,[1]EQ!$A$1:$L$2000,9,0)/100000)","v":19.3773}]
[5,"AIAENG",{"$f":"VLOOKUP($B15,[1]EQ!$A$1:$L$2000,6,0)","v":1949.9},{"v":1961.0833333333333,"d":"1961.08"},{"v":1930.8666666666666,"d":"1930.87"},{"v":1911.8333333333333,"d":"1911.83"},{"v":1881.6166666666666,"d":"1881.62"},{"v":1980.1166666666666,"d":"1980.12"},{"v":2010.3333333333333,"d":"2010.33"},{"v":2029.3666666666666,"d":"2029.37"},{"$f":"VLOOKUP($B15,[1]EQ!$A$1:$L$2000,4,0)","v":1991.3},{"$f":"VLOOKUP($B15,[1]EQ!$A$1:$L$2000,5,0)","v":1942.05},{"$f":"(VLOOKUP($B15,[1]EQ!$A$1:$L$2000,9,0)/100000)","v":0.39348}]
[6,"APLAPOLLO",{"$f":"VLOOKUP($B16,[1]EQ!$A$1:$L$2000,6,0)","v":958.1},{"v":970.6999999999999,"d":"970.70"},{"v":942.4999999999999,"d":"942.50"},{"v":926.9,"d":"926.90"},{"v":898.6999999999999,"d":"898.70"},{"v":986.2999999999998,"d":"986.30"},{"v":1014.4999999999999,"d":"1014.50"},{"v":1030.1,"d":"1030.10"},{"$f":"VLOOKUP($B16,[1]EQ!$A$1:$L$2000,4,0)","v":998.9},{"$f":"VLOOKUP($B16,[1]EQ!$A$1:$L$2000,5,0)","v":955.1},{"$f":"(VLOOKUP($B16,[1]EQ!$A$1:$L$2000,9,0)/100000)","v":8.11679}]
[7,"AUBANK",{"$f":"VLOOKUP($B17,[1]EQ!$A$1:$L$2000,6,0)","v":1092.75},{"v":1098.6833333333334,"d":"1098.68"},{"v":1069.3666666666668,"d":"1069.37"},{"v":1045.9833333333333,"d":"1045.98"},{"v":1016.6666666666667,"d":"1016.67"},{"v":1122.0666666666668,"d":"1122.07"},{"v":1151.3833333333334,"d":"1151.38"},{"v":1174.7666666666669,"d":"1174.77"},{"$f":"VLOOKUP($B17,[1]EQ!$A$1:$L$2000,4,0)","v":1128},{"$f":"VLOOKUP($B17,[1]EQ!$A$1:$L$2000,5,0)","v":1075.3},{"$f":"(VLOOKUP($B17,[1]EQ!$A$1:$L$2000,9,0)/100000)","v":4.55426}]
[8,"AARTIDRUGS",{"$f":"VLOOKUP($B18,[1]EQ!$A$1:$L$2000,6,0)","v":668.75},{"v":665.5166666666667,"d":"665.52"},{"v":645.0333333333333,"d":"645.03"},{"v":621.3166666666666,"d":"621.32"},{"v":600.8333333333333,"d":"600.83"},{"v":689.2333333333333,"d":"689.23"},{"v":709.7166666666667,"d":"709.72"},{"v":733.4333333333334,"d":"733.43"},{"$f":"VLOOKUP($B18,[1]EQ!$A$1:$L$2000,4,0)","v":686},{"$f":"VLOOKUP($B18,[1]EQ!$A$1:$L$2000,5,0)","v":641.8},{"$f":"(VLOOKUP($B18,[1]EQ!$A$1:$L$2000,9,0)/100000)","v":9.20307}]
[9,"AARTIIND",{"$f":"VLOOKUP($B19,[1]EQ!$A$1:$L$2000,6,0)","v":1227.9},{"v":1222.2,"d":"1222.20"},{"v":1213.7,"d":"1213.70"},{"v":1199.5,"d":"1199.50"},{"v":1191,"d":"1191.00"},{"v":1236.4,"d":"1236.40"},{"v":1244.9,"d":"1244.90"},{"v":1259.1000000000001,"d":"1259.10"},{"$f":"VLOOKUP($B19,[1]EQ!$A$1:$L$2000,4,0)","v":1230.7},{"$f":"VLOOKUP($B19,[1]EQ!$A$1:$L$2000,5,0)","v":1208},{"$f":"(VLOOKUP($B19,[1]EQ!$A$1:$L$2000,9,0)/100000)","v":2.60347}]
[10,"AAVAS",{"$f":"VLOOKUP($B20,[1]EQ!$A$1:$L$2000,6,0)","v":2212.9},{"v":2222.933333333333,"d":"2222.93"},{"v":2183.866666666666,"d":"2183.87"},{"v":2154.833333333333,"d":"2154.83"},{"v":2115.766666666666,"d":"2115.77"},{"v":2251.966666666666,"d":"2251.97"},{"v":2291.0333333333324,"d":"2291.03"},{"v":2320.0666666666657,"d":"2320.07"},{"$f":"VLOOKUP($B20,[1]EQ!$A$1:$L$2000,4,0)","v":2262},{"$f":"VLOOKUP($B20,[1]EQ!$A$1:$L$2000,5,0)","v":2193.9},{"$f":"(VLOOKUP($B20,[1]EQ!$A$1:$L$2000,9,0)/100000)","v":0.7203}]
[11,"ABBOTINDIA",{"$f":"VLOOKUP($B21,[1]EQ!$A$1:$L$2000,6,0)","v":14700.7},{"v":14634.9,"d":"14634.90"},{"v":14530.8,"d":"14530.80"},{"v":14360.9,"d":"14360.90"},{"v":14256.8,"d":"14256.80"},{"v":14804.8,"d":"14804.80"},{"v":14908.900000000001,"d":"14908.90"},{"v":15078.8,"d":"15078.80"},{"$f":"VLOOKUP($B21,[1]EQ!$A$1:$L$2000,4,0)","v":14739},{"$f":"VLOOKUP($B21,[1]EQ!$A$1:$L$2000,5,0)","v":14465},{"$f":"(VLOOKUP($B21,[1]EQ!$A$1:$L$2000,9,0)/100000)","v":0.23617}]
[12,"ADANIENT",{"$f":"VLOOKUP($B22,[1]EQ!$A$1:$L$2000,6,0)","v":780.2},{"v":779.8000000000001,"d":"779.80"},{"v":756.6500000000001,"d":"756.65"},{"v":733.1,"d":"733.10"},709.95,{"v":803.3500000000001,"d":"803.35"},{"v":826.5,"d":"826.50"},{"v":850.0500000000002,"d":"850.05"},{"$f":"VLOOKUP($B22,[1]EQ!$A$1:$L$2000,4,0)","v":802.95},{"$f":"VLOOKUP($B22,[1]EQ!$A$1:$L$2000,5,0)","v":756.25},{"$f":"(VLOOKUP($B22,[1]EQ!$A$1:$L$2000,9,0)/100000)","v":194.26061}]
[13,"ADANIGREEN",{"$f":"VLOOKUP($B23,[1]EQ!$A$1:$L$2000,6,0)","v":1078.3},{"v":1080.1000000000001,"d":"1080.10"},{"v":1047.2000000000003,"d":"1047.20"},{"v":1016.1000000000001,"d":"1016.10"},{"v":983.2000000000003,"d":"983.20"},{"v":1111.2000000000003,"d":"1111.20"},{"v":1144.1000000000004,"d":"1144.10"},{"v":1175.2000000000003,"d":"1175.20"},{"$f":"VLOOKUP($B23,[1]EQ!$A$1:$L$2000,4,0)","v":1113},{"$f":"VLOOKUP($B23,[1]EQ!$A$1:$L$2000,5,0)","v":1049},{"$f":"(VLOOKUP($B23,[1]EQ!$A$1:$L$2000,9,0)/100000)","v":51.82242}]
[14,"ADANIPORTS",{"$f":"VLOOKUP($B24,[1]EQ!$A$1:$L$2000,6,0)","v":636.55},{"v":636.0333333333333,"d":"636.03"},{"v":628.5666666666666,"d":"628.57"},{"v":620.5833333333333,"d":"620.58"},{"v":613.1166666666666,"d":"613.12"},{"v":644.0166666666667,"d":"644.02"},{"v":651.4833333333333,"d":"651.48"},{"v":659.4666666666667,"d":"659.47"},{"$f":"VLOOKUP($B24,[1]EQ!$A$1:$L$2000,4,0)","v":643.5},{"$f":"VLOOKUP($B24,[1]EQ!$A$1:$L$2000,5,0)","v":628.05},{"$f":"(VLOOKUP($B24,[1]EQ!$A$1:$L$2000,9,0)/100000)","v":151.20148}]
[15,"ATGL",{"$f":"VLOOKUP($B25,[1]EQ!$A$1:$L$2000,6,0)","v":497},{"v":480.9666666666667,"d":"480.97"},{"v":453.0333333333334,"d":"453.03"},{"v":409.0666666666667,"d":"409.07"},{"v":381.13333333333344,"d":"381.13"},{"v":524.9333333333334,"d":"524.93"},{"v":552.8666666666667,"d":"552.87"},{"v":596.8333333333334,"d":"596.83"},{"$f":"VLOOKUP($B25,[1]EQ!$A$1:$L$2000,4,0)","v":508.9},{"$f":"VLOOKUP($B25,[1]EQ!$A$1:$L$2000,5,0)","v":437},{"$f":"(VLOOKUP($B25,[1]EQ!$A$1:$L$2000,9,0)/100000)","v":90.04169}]
[16,"ADANITRANS",{"$f":"VLOOKUP($B26,[1]EQ!$A$1:$L$2000,6,0)","v":763.55},746.75,{"v":705.8,"d":"705.80"},648.05,{"v":607.0999999999999,"d":"607.10"},{"v":804.5,"d":"804.50"},845.45,{"v":903.2,"d":"903.20"},{"$f":"VLOOKUP($B26,[1]EQ!$A$1:$L$2000,4,0)","v":787.7},{"$f":"VLOOKUP($B26,[1]EQ!$A$1:$L$2000,5,0)","v":689},{"$f":"(VLOOKUP($B26,[1]EQ!$A$1:$L$2000,9,0)/100000)","v":46.52336}]
[17,"ABCAPITAL",{"$f":"VLOOKUP($B27,[1]EQ!$A$1:$L$2000,6,0)","v":97.75},{"v":98.01666666666667,"d":"98.02"},{"v":94.18333333333334,"d":"94.18"},{"v":90.61666666666667,"d":"90.62"},{"v":86.78333333333335,"d":"86.78"},{"v":101.58333333333333,"d":"101.58"},{"v":105.41666666666667,"d":"105.42"},{"v":108.98333333333332,"d":"108.98"},{"$f":"VLOOKUP($B27,[1]EQ!$A$1:$L$2000,4,0)","v":101.85},{"$f":"VLOOKUP($B27,[1]EQ!$A$1:$L$2000,5,0)","v":94.45},{"$f":"(VLOOKUP($B27,[1]EQ!$A$1:$L$2000,9,0)/100000)","v":198.06981}]
[18,"ABFRL",{"$f":"VLOOKUP($B28,[1]EQ!$A$1:$L$2000,6,0)","v":164.85},{"v":165.36666666666667,"d":"165.37"},{"v":162.48333333333335,"d":"162.48"},{"v":160.11666666666667,"d":"160.12"},{"v":157.23333333333335,"d":"157.23"},{"v":167.73333333333335,"d":"167.73"},{"v":170.61666666666667,"d":"170.62"},{"v":172.98333333333335,"d":"172.98"},{"$f":"VLOOKUP($B28,[1]EQ!$A$1:$L$2000,4,0)","v":168.25},{"$f":"VLOOKUP($B28,[1]EQ!$A$1:$L$2000,5,0)","v":163},{"$f":"(VLOOKUP($B28,[1]EQ!$A$1:$L$2000,9,0)/100000)","v":13.17403}]
[19,"ADVENZYMES",{"$f":"VLOOKUP($B29,[1]EQ!$A$1:$L$2000,6,0)","v":373.1},{"v":370.3500000000001,"d":"370.35"},{"v":363.90000000000015,"d":"363.90"},{"v":354.70000000000005,"d":"354.70"},{"v":348.2500000000001,"d":"348.25"},{"v":379.5500000000002,"d":"379.55"},{"v":386.0000000000001,"d":"386.00"},{"v":395.2000000000002,"d":"395.20"},{"$f":"VLOOKUP($B29,[1]EQ!$A$1:$L$2000,4,0)","v":376.8},{"$f":"VLOOKUP($B29,[1]EQ!$A$1:$L$2000,5,0)","v":361.15},{"$f":"(VLOOKUP($B29,[1]EQ!$A$1:$L$2000,9,0)/100000)","v":3.98219}]
[20,"AEGISCHEM",{"$f":"VLOOKUP($B30,[1]EQ!$A$1:$L$2000,6,0)","v":300.85},{"v":299.1166666666667,"d":"299.12"},{"v":296.23333333333335,"d":"296.23"},{"v":291.6166666666667,"d":"291.62"},{"v":288.73333333333335,"d":"288.73"},{"v":303.73333333333335,"d":"303.73"},{"v":306.6166666666667,"d":"306.62"},{"v":311.23333333333335,"d":"311.23"},{"$f":"VLOOKUP($B30,[1]EQ!$A$1:$L$2000,4,0)","v":302},{"$f":"VLOOKUP($B30,[1]EQ!$A$1:$L$2000,5,0)","v":294.5},{"$f":"(VLOOKUP($B30,[1]EQ!$A$1:$L$2000,9,0)/100000)","v":2.08423}]
[21,"AFFLE",{"$f":"VLOOKUP($B31,[1]EQ!$A$1:$L$2000,6,0)","v":5189.4},{"v":5203.133333333333,"d":"5203.13"},{"v":5056.266666666666,"d":"5056.27"},{"v":4923.133333333333,"d":"4923.13"},{"v":4776.266666666666,"d":"4776.27"},{"v":5336.266666666666,"d":"5336.27"},{"v":5483.133333333333,"d":"5483.13"},{"v":5616.266666666666,"d":"5616.27"},{"$f":"VLOOKUP($B31,[1]EQ!$A$1:$L$2000,4,0)","v":5350},{"$f":"VLOOKUP($B31,[1]EQ!$A$1:$L$2000,5,0)","v":5070},{"$f":"(VLOOKUP($B31,[1]EQ!$A$1:$L$2000,9,0)/100000)","v":1.07869}]
[22,"AJANTPHARM",{"$f":"VLOOKUP($B32,[1]EQ!$A$1:$L$2000,6,0)","v":1803.1},{"v":1804.4166666666667,"d":"1804.42"},{"v":1790.9333333333334,"d":"1790.93"},{"v":1778.7666666666667,"d":"1778.77"},{"v":1765.2833333333333,"d":"1765.28"},{"v":1816.5833333333335,"d":"1816.58"},{"v":1830.0666666666666,"d":"1830.07"},{"v":1842.2333333333336,"d":"1842.23"},{"$f":"VLOOKUP($B32,[1]EQ!$A$1:$L$2000,4,0)","v":1817.9},{"$f":"VLOOKUP($B32,[1]EQ!$A$1:$L$2000,5,0)","v":1792.25},{"$f":"(VLOOKUP($B32,[1]EQ!$A$1:$L$2000,9,0)/100000)","v":0.56789}]
[23,"AKZOINDIA",{"$f":"VLOOKUP($B33,[1]EQ!$A$1:$L$2000,6,0)","v":2190.75},{"v":2197.0833333333335,"d":"2197.08"},{"v":2174.666666666667,"d":"2174.67"},{"v":2158.5833333333335,"d":"2158.58"},{"v":2136.166666666667,"d":"2136.17"},{"v":2213.166666666667,"d":"2213.17"},{"v":2235.583333333334,"d":"2235.58"},{"v":2251.666666666667,"d":"2251.67"},{"$f":"VLOOKUP($B33,[1]EQ!$A$1:$L$2000,4,0)","v":2219.5},{"$f":"VLOOKUP($B33,[1]EQ!$A$1:$L$2000,5,0)","v":2181},{"$f":"(VLOOKUP($B33,[1]EQ!$A$1:$L$2000,9,0)/100000)","v":0.08712}]
[24,"ALEMBICLTD",{"$f":"VLOOKUP($B34,[1]EQ!$A$1:$L$2000,6,0)","v":102.4},{"v":102.06666666666666,"d":"102.07"},{"v":100.38333333333333,"d":"100.38"},{"v":98.36666666666666,"d":"98.37"},{"v":96.68333333333332,"d":"96.68"},{"v":104.08333333333333,"d":"104.08"},{"v":105.76666666666667,"d":"105.77"},{"v":107.78333333333333,"d":"107.78"},{"$f":"VLOOKUP($B34,[1]EQ!$A$1:$L$2000,4,0)","v":103.75},{"$f":"VLOOKUP($B34,[1]EQ!$A$1:$L$2000,5,0)","v":100.05},{"$f":"(VLOOKUP($B34,[1]EQ!$A$1:$L$2000,9,0)/100000)","v":3.56172}]
[25,"APLLTD",{"$f":"VLOOKUP($B35,[1]EQ!$A$1:$L$2000,6,0)","v":960.9},{"v":966.9833333333332,"d":"966.98"},{"v":949.9666666666665,"d":"949.97"},{"v":939.0333333333332,"d":"939.03"},{"v":922.0166666666664,"d":"922.02"},{"v":977.9166666666665,"d":"977.92"},{"v":994.9333333333332,"d":"994.93"},{"v":1005.8666666666666,"d":"1005.87"},{"$f":"VLOOKUP($B35,[1]EQ!$A$1:$L$2000,4,0)","v":984},{"$f":"VLOOKUP($B35,[1]EQ!$A$1:$L$2000,5,0)","v":956.05},{"$f":"(VLOOKUP($B35,[1]EQ!$A$1:$L$2000,9,0)/100000)","v":2.39259}]
[26,"ALKEM",{"$f":"VLOOKUP($B36,[1]EQ!$A$1:$L$2000,6,0)","v":2876.2},{"v":2885.1,"d":"2885.10"},{"v":2852.1,"d":"2852.10"},{"v":2828,"d":"2828.00"},{"v":2795,"d":"2795.00"},{"v":2909.2,"d":"2909.20"},{"v":2942.2,"d":"2942.20"},{"v":2966.2999999999997,"d":"2966.30"},{"$f":"VLOOKUP($B36,[1]EQ!$A$1:$L$2000,4,0)","v":2918.1},{"$f":"VLOOKUP($B36,[1]EQ!$A$1:$L$2000,5,0)","v":2861},{"$f":"(VLOOKUP($B36,[1]EQ!$A$1:$L$2000,9,0)/100000)","v":0.8748}]
[27,"ALKYLAMINE",{"$f":"VLOOKUP($B37,[1]EQ!$A$1:$L$2000,6,0)","v":5199.25},{"v":5233.833333333333,"d":"5233.83"},{"v":5145.416666666666,"d":"5145.42"},{"v":5091.583333333333,"d":"5091.58"},{"v":5003.166666666666,"d":"5003.17"},{"v":5287.666666666666,"d":"5287.67"},{"v":5376.083333333332,"d":"5376.08"},{"v":5429.916666666666,"d":"5429.92"},{"$f":"VLOOKUP($B37,[1]EQ!$A$1:$L$2000,4,0)","v":5322.25},{"$f":"VLOOKUP($B37,[1]EQ!$A$1:$L$2000,5,0)","v":5180},{"$f":"(VLOOKUP($B37,[1]EQ!$A$1:$L$2000,9,0)/100000)","v":0.21406}]
[28,"ALOKINDS",{"$f":"VLOOKUP($B38,[1]EQ!$A$1:$L$2000,6,0)","v":20.35},20.45,20.15,19.95,19.65,20.65,{"v":20.950000000000003,"d":"20.95"},21.15,{"$f":"VLOOKUP($B38,[1]EQ!$A$1:$L$2000,4,0)","v":20.75},{"$f":"VLOOKUP($B38,[1]EQ!$A$1:$L$2000,5,0)","v":20.25},{"$f":"(VLOOKUP($B38,[1]EQ!$A$1:$L$2000,9,0)/100000)","v":59.68221}]
[29,"AMARAJABAT",{"$f":"VLOOKUP($B39,[1]EQ!$A$1:$L$2000,6,0)","v":907.9},{"v":915.6166666666667,"d":"915.62"},{"v":896.2833333333333,"d":"896.28"},{"v":884.6666666666666,"d":"884.67"},{"v":865.3333333333333,"d":"865.33"},{"v":927.2333333333333,"d":"927.23"},{"v":946.5666666666666,"d":"946.57"},{"v":958.1833333333334,"d":"958.18"},{"$f":"VLOOKUP($B39,[1]EQ!$A$1:$L$2000,4,0)","v":934.95},{"$f":"VLOOKUP($B39,[1]EQ!$A$1:$L$2000,5,0)","v":904},{"$f":"(VLOOKUP($B39,[1]EQ!$A$1:$L$2000,9,0)/100000)","v":22.37254}]
[30,"AMBER",{"$f":"VLOOKUP($B40,[1]EQ!$A$1:$L$2000,6,0)","v":3215.4},{"v":3231.5166666666664,"d":"3231.52"},{"v":3173.033333333333,"d":"3173.03"},{"v":3130.6666666666665,"d":"3130.67"},{"v":3072.183333333333,"d":"3072.18"},{"v":3273.8833333333328,"d":"3273.88"},{"v":3332.3666666666663,"d":"3332.37"},{"v":3374.7333333333327,"d":"3374.73"},{"$f":"VLOOKUP($B40,[1]EQ!$A$1:$L$2000,4,0)","v":3290},{"$f":"VLOOKUP($B40,[1]EQ!$A$1:$L$2000,5,0)","v":3189.15},{"$f":"(VLOOKUP($B40,[1]EQ!$A$1:$L$2000,9,0)/100000)","v":1.00407}]
[31,"AMBUJACEM",{"$f":"VLOOKUP($B41,[1]EQ!$A$1:$L$2000,6,0)","v":284.05},{"v":283.84999999999997,"d":"283.85"},{"v":280.3999999999999,"d":"280.40"},{"v":276.74999999999994,"d":"276.75"},{"v":273.2999999999999,"d":"273.30"},{"v":287.49999999999994,"d":"287.50"},290.95,{"v":294.59999999999997,"d":"294.60"},{"$f":"VLOOKUP($B41,[1]EQ!$A$1:$L$2000,4,0)","v":287.3},{"$f":"VLOOKUP($B41,[1]EQ!$A$1:$L$2000,5,0)","v":280.2},{"$f":"(VLOOKUP($B41,[1]EQ!$A$1:$L$2000,9,0)/100000)","v":61.16048}]
[32,"APOLLOHOSP",{"$f":"VLOOKUP($B42,[1]EQ!$A$1:$L$2000,6,0)","v":3202.75},{"v":3167.7666666666664,"d":"3167.77"},{"v":3081.9833333333327,"d":"3081.98"},{"v":2961.2166666666662,"d":"2961.22"},{"v":2875.4333333333325,"d":"2875.43"},{"v":3288.533333333333,"d":"3288.53"},{"v":3374.3166666666666,"d":"3374.32"},{"v":3495.083333333333,"d":"3495.08"},{"$f":"VLOOKUP($B42,[1]EQ!$A$1:$L$2000,4,0)","v":3253.55},{"$f":"VLOOKUP($B42,[1]EQ!$A$1:$L$2000,5,0)","v":3047},{"$f":"(VLOOKUP($B42,[1]EQ!$A$1:$L$2000,9,0)/100000)","v":43.81584}]
[33,"APOLLOTYRE",{"$f":"VLOOKUP($B43,[1]EQ!$A$1:$L$2000,6,0)","v":236.25},{"v":236.46666666666667,"d":"236.47"},{"v":232.38333333333333,"d":"232.38"},{"v":228.51666666666665,"d":"228.52"},{"v":224.4333333333333,"d":"224.43"},{"v":240.33333333333334,"d":"240.33"},{"v":244.41666666666666,"d":"244.42"},{"v":248.28333333333336,"d":"248.28"},{"$f":"VLOOKUP($B43,[1]EQ!$A$1:$L$2000,4,0)","v":240.55},{"$f":"VLOOKUP($B43,[1]EQ!$A$1:$L$2000,5,0)","v":232.6},{"$f":"(VLOOKUP($B43,[1]EQ!$A$1:$L$2000,9,0)/100000)","v":87.06612}]
[34,"ASHOKLEY",{"$f":"VLOOKUP($B44,[1]EQ!$A$1:$L$2000,6,0)","v":128.75},{"v":129.53333333333333,"d":"129.53"},{"v":126.96666666666667,"d":"126.97"},{"v":125.18333333333334,"d":"125.18"},{"v":122.61666666666667,"d":"122.62"},{"v":131.31666666666666,"d":"131.32"},{"v":133.88333333333333,"d":"133.88"},{"v":135.66666666666666,"d":"135.67"},{"$f":"VLOOKUP($B44,[1]EQ!$A$1:$L$2000,4,0)","v":132.1},{"$f":"VLOOKUP($B44,[1]EQ!$A$1:$L$2000,5,0)","v":127.75},{"$f":"(VLOOKUP($B44,[1]EQ!$A$1:$L$2000,9,0)/100000)","v":227.87254}]
[35,"ASHOKA",{"$f":"VLOOKUP($B45,[1]EQ!$A$1:$L$2000,6,0)","v":116.75},{"v":114,"d":"114.00"},{"v":109.9,"d":"109.90"},{"v":103.05000000000001,"d":"103.05"},{"v":98.95000000000002,"d":"98.95"},120.85,{"v":124.94999999999999,"d":"124.95"},{"v":131.79999999999998,"d":"131.80"},{"$f":"VLOOKUP($B45,[1]EQ!$A$1:$L$2000,4,0)","v":118.1},{"$f":"VLOOKUP($B45,[1]EQ!$A$1:$L$2000,5,0)","v":107.15},{"$f":"(VLOOKUP($B45,[1]EQ!$A$1:$L$2000,9,0)/100000)","v":36.7355}]
[36,"ASIANPAINT",{"$f":"VLOOKUP($B46,[1]EQ!$A$1:$L$2000,6,0)","v":2450.25},{"v":2449.116666666667,"d":"2449.12"},{"v":2423.1333333333337,"d":"2423.13"},{"v":2396.016666666667,"d":"2396.02"},{"v":2370.0333333333338,"d":"2370.03"},{"v":2476.2333333333336,"d":"2476.23"},{"v":2502.216666666667,"d":"2502.22"},{"v":2529.3333333333335,"d":"2529.33"},{"$f":"VLOOKUP($B46,[1]EQ!$A$1:$L$2000,4,0)","v":2475.1},{"$f":"VLOOKUP($B46,[1]EQ!$A$1:$L$2000,5,0)","v":2422},{"$f":"(VLOOKUP($B46,[1]EQ!$A$1:$L$2000,9,0)/100000)","v":16.15849}]
[37,"ASTERDM",{"$f":"VLOOKUP($B47,[1]EQ!$A$1:$L$2000,6,0)","v":148.7},{"v":149.91666666666666,"d":"149.92"},{"v":146.83333333333331,"d":"146.83"},{"v":144.96666666666667,"d":"144.97"},{"v":141.88333333333333,"d":"141.88"},{"v":151.7833333333333,"d":"151.78"},{"v":154.86666666666662,"d":"154.87"},{"v":156.7333333333333,"d":"156.73"},{"$f":"VLOOKUP($B47,[1]EQ!$A$1:$L$2000,4,0)","v":153},{"$f":"VLOOKUP($B47,[1]EQ!$A$1:$L$2000,5,0)","v":148.05},{"$f":"(VLOOKUP($B47,[1]EQ!$A$1:$L$2000,9,0)/100000)","v":2.59668}]
[38,"ASTRAZEN",{"$f":"VLOOKUP($B48,[1]EQ!$A$1:$L$2000,6,0)","v":3768.85},{"v":3839.616666666667,"d":"3839.62"},{"v":3629.2333333333336,"d":"3629.23"},{"v":3489.616666666667,"d":"3489.62"},{"v":3279.2333333333336,"d":"3279.23"},{"v":3979.2333333333336,"d":"3979.23"},{"v":4189.616666666667,"d":"4189.62"},{"v":4329.233333333334,"d":"4329.23"},{"$f":"VLOOKUP($B48,[1]EQ!$A$1:$L$2000,4,0)","v":4050},{"$f":"VLOOKUP($B48,[1]EQ!$A$1:$L$2000,5,0)","v":3700},{"$f":"(VLOOKUP($B48,[1]EQ!$A$1:$L$2000,9,0)/100000)","v":2.58002}]
[39,"ASTRAL",{"$f":"VLOOKUP($B49,[1]EQ!$A$1:$L$2000,6,0)","v":2013.9},{"v":2031.3,"d":"2031.30"},{"v":1991.6,"d":"1991.60"},{"v":1969.3,"d":"1969.30"},{"v":1929.6,"d":"1929.60"},{"v":2053.6,"d":"2053.60"},{"v":2093.3,"d":"2093.30"},{"v":2115.6,"d":"2115.60"},{"$f":"VLOOKUP($B49,[1]EQ!$A$1:$L$2000,4,0)","v":2071},{"$f":"VLOOKUP($B49,[1]EQ!$A$1:$L$2000,5,0)","v":2009},{"$f":"(VLOOKUP($B49,[1]EQ!$A$1:$L$2000,9,0)/100000)","v":1.23029}]
[40,"ATUL",{"$f":"VLOOKUP($B50,[1]EQ!$A$1:$L$2000,6,0)","v":6770.55},{"v":6760.899999999999,"d":"6760.90"},{"v":6721.799999999997,"d":"6721.80"},{"v":6673.049999999998,"d":"6673.05"},{"v":6633.949999999997,"d":"6633.95"},{"v":6809.649999999998,"d":"6809.65"},{"v":6848.749999999998,"d":"6848.75"},{"v":6897.499999999998,"d":"6897.50"},{"$f":"VLOOKUP($B50,[1]EQ!$A$1:$L$2000,4,0)","v":6800},{"$f":"VLOOKUP($B50,[1]EQ!$A$1:$L$2000,5,0)","v":6712.15},{"$f":"(VLOOKUP($B50,[1]EQ!$A$1:$L$2000,9,0)/100000)","v":0.20461}]
[41,"AUROPHARMA",{"$f":"VLOOKUP($B51,[1]EQ!$A$1:$L$2000,6,0)","v":935.85},{"v":934.0833333333334,"d":"934.08"},{"v":925.4666666666667,"d":"925.47"},{"v":915.0833333333334,"d":"915.08"},{"v":906.4666666666667,"d":"906.47"},{"v":944.4666666666667,"d":"944.47"},{"v":953.0833333333333,"d":"953.08"},{"v":963.4666666666667,"d":"963.47"},{"$f":"VLOOKUP($B51,[1]EQ!$A$1:$L$2000,4,0)","v":942.7},{"$f":"VLOOKUP($B51,[1]EQ!$A$1:$L$2000,5,0)","v":923.7},{"$f":"(VLOOKUP($B51,[1]EQ!$A$1:$L$2000,9,0)/100000)","v":18.26339}]
[42,"AVANTIFEED",{"$f":"VLOOKUP($B52,[1]EQ!$A$1:$L$2000,6,0)","v":486.3},{"v":489.6666666666667,"d":"489.67"},{"v":481.6333333333334,"d":"481.63"},{"v":476.9666666666667,"d":"476.97"},{"v":468.9333333333334,"d":"468.93"},{"v":494.33333333333337,"d":"494.33"},{"v":502.3666666666667,"d":"502.37"},{"v":507.03333333333336,"d":"507.03"},{"$f":"VLOOKUP($B52,[1]EQ!$A$1:$L$2000,4,0)","v":497.7},{"$f":"VLOOKUP($B52,[1]EQ!$A$1:$L$2000,5,0)","v":485},{"$f":"(VLOOKUP($B52,[1]EQ!$A$1:$L$2000,9,0)/100000)","v":2.45631}]
[43,"DMART",{"$f":"VLOOKUP($B53,[1]EQ!$A$1:$L$2000,6,0)","v":3130.85},{"v":3110.6,"d":"3110.60"},{"v":3066.2,"d":"3066.20"},{"v":3001.5499999999997,"d":"3001.55"},{"v":2957.1499999999996,"d":"2957.15"},3175.25,{"v":3219.6500000000005,"d":"3219.65"},{"v":3284.3,"d":"3284.30"},{"$f":"VLOOKUP($B53,[1]EQ!$A$1:$L$2000,4,0)","v":3155},{"$f":"VLOOKUP($B53,[1]EQ!$A$1:$L$2000,5,0)","v":3045.95},{"$f":"(VLOOKUP($B53,[1]EQ!$A$1:$L$2000,9,0)/100000)","v":7.92804}]
[44,"AXISBANK",{"$f":"VLOOKUP($B54,[1]EQ!$A$1:$L$2000,6,0)","v":775.05},780.35,{"v":761.7,"d":"761.70"},748.35,{"v":729.7,"d":"729.70"},{"v":793.7,"d":"793.70"},{"v":812.3499999999999,"d":"812.35"},{"v":825.7,"d":"825.70"},{"$f":"VLOOKUP($B54,[1]EQ!$A$1:$L$2000,4,0)","v":799},{"$f":"VLOOKUP($B54,[1]EQ!$A$1:$L$2000,5,0)","v":767},{"$f":"(VLOOKUP($B54,[1]EQ!$A$1:$L$2000,9,0)/100000)","v":239.68943}]
[45,"BASF",{"$f":"VLOOKUP($B55,[1]EQ!$A$1:$L$2000,6,0)","v":1999.75},{"v":2007.4833333333333,"d":"2007.48"},{"v":1955.7666666666669,"d":"1955.77"},{"v":1911.7833333333335,"d":"1911.78"},{"v":1860.066666666667,"d":"1860.07"},{"v":2051.4666666666667,"d":"2051.47"},{"v":2103.1833333333334,"d":"2103.18"},{"v":2147.1666666666665,"d":"2147.17"},{"$f":"VLOOKUP($B55,[1]EQ!$A$1:$L$2000,4,0)","v":2059.2},{"$f":"VLOOKUP($B55,[1]EQ!$A$1:$L$2000,5,0)","v":1963.5},{"$f":"(VLOOKUP($B55,[1]EQ!$A$1:$L$2000,9,0)/100000)","v":0.745}]
[46,"BEML",{"$f":"VLOOKUP($B56,[1]EQ!$A$1:$L$2000,6,0)","v":940.15},{"v":947.6666666666666,"d":"947.67"},{"v":928.5833333333333,"d":"928.58"},{"v":917.0166666666667,"d":"917.02"},{"v":897.9333333333333,"d":"897.93"},{"v":959.2333333333332,"d":"959.23"},{"v":978.3166666666665,"d":"978.32"},{"v":989.8833333333332,"d":"989.88"},{"$f":"VLOOKUP($B56,[1]EQ!$A$1:$L$2000,4,0)","v":966.75},{"$f":"VLOOKUP($B56,[1]EQ!$A$1:$L$2000,5,0)","v":936.1},{"$f":"(VLOOKUP($B56,[1]EQ!$A$1:$L$2000,9,0)/100000)","v":2.32061}]
[47,"BSE",{"$f":"VLOOKUP($B57,[1]EQ!$A$1:$L$2000,6,0)","v":596.45},{"v":594.8166666666666,"d":"594.82"},{"v":573.2333333333332,"d":"573.23"},{"v":550.0166666666667,"d":"550.02"},{"v":528.4333333333333,"d":"528.43"},{"v":618.0333333333332,"d":"618.03"},{"v":639.6166666666667,"d":"639.62"},{"v":662.8333333333331,"d":"662.83"},{"$f":"VLOOKUP($B57,[1]EQ!$A$1:$L$2000,4,0)","v":616.4},{"$f":"VLOOKUP($B57,[1]EQ!$A$1:$L$2000,5,0)","v":571.6},{"$f":"(VLOOKUP($B57,[1]EQ!$A$1:$L$2000,9,0)/100000)","v":6.6112}]
[48,"BAJAJ-AUTO",{"$f":"VLOOKUP($B58,[1]EQ!$A$1:$L$2000,6,0)","v":4132.85},{"v":4144.816666666667,"d":"4144.82"},{"v":4112.033333333333,"d":"4112.03"},{"v":4091.2166666666662,"d":"4091.22"},{"v":4058.4333333333325,"d":"4058.43"},{"v":4165.633333333333,"d":"4165.63"},{"v":4198.416666666668,"d":"4198.42"},{"v":4219.233333333334,"d":"4219.23"},{"$f":"VLOOKUP($B58,[1]EQ!$A$1:$L$2000,4,0)","v":4177.6},{"$f":"VLOOKUP($B58,[1]EQ!$A$1:$L$2000,5,0)","v":4124},{"$f":"(VLOOKUP($B58,[1]EQ!$A$1:$L$2000,9,0)/100000)","v":3.1828}]
[49,"BAJAJCON",{"$f":"VLOOKUP($B59,[1]EQ!$A$1:$L$2000,6,0)","v":238.95},{"v":239.71666666666667,"d":"239.72"},{"v":232.73333333333335,"d":"232.73"},{"v":226.51666666666668,"d":"226.52"},{"v":219.53333333333336,"d":"219.53"},{"v":245.93333333333334,"d":"245.93"},{"v":252.91666666666663,"d":"252.92"},{"v":259.1333333333333,"d":"259.13"},{"$f":"VLOOKUP($B59,[1]EQ!$A$1:$L$2000,4,0)","v":246.7},{"$f":"VLOOKUP($B59,[1]EQ!$A$1:$L$2000,5,0)","v":233.5},{"$f":"(VLOOKUP($B59,[1]EQ!$A$1:$L$2000,9,0)/100000)","v":12.10476}]
[50,"BAJAJELEC",{"$f":"VLOOKUP($B60,[1]EQ!$A$1:$L$2000,6,0)","v":1053.05},{"v":1058.4,"d":"1058.40"},{"v":1040.0500000000002,"d":"1040.05"},{"v":1027.0500000000002,"d":"1027.05"},{"v":1008.7000000000003,"d":"1008.70"},{"v":1071.4,"d":"1071.40"},1089.75,1102.75,{"$f":"VLOOKUP($B60,[1]EQ!$A$1:$L$2000,4,0)","v":1076.75},{"$f":"VLOOKUP($B60,[1]EQ!$A$1:$L$2000,5,0)","v":1045.4},{"$f":"(VLOOKUP($B60,[1]EQ!$A$1:$L$2000,9,0)/100000)","v":2.14933}]
[51,"BAJFINANCE",{"$f":"VLOOKUP($B61,[1]EQ!$A$1:$L$2000,6,0)","v":5760.25},{"v":5757.583333333333,"d":"5757.58"},{"v":5692.966666666666,"d":"5692.97"},{"v":5625.683333333333,"d":"5625.68"},{"v":5561.066666666667,"d":"5561.07"},{"v":5824.866666666666,"d":"5824.87"},{"v":5889.483333333333,"d":"5889.48"},{"v":5956.7666666666655,"d":"5956.77"},{"$f":"VLOOKUP($B61,[1]EQ!$A$1:$L$2000,4,0)","v":5822.2},{"$f":"VLOOKUP($B61,[1]EQ!$A$1:$L$2000,5,0)","v":5690.3},{"$f":"(VLOOKUP($B61,[1]EQ!$A$1:$L$2000,9,0)/100000)","v":21.2681}]
[52,"BAJAJFINSV",{"$f":"VLOOKUP($B62,[1]EQ!$A$1:$L$2000,6,0)","v":10460.6},{"v":10451.199999999999,"d":"10451.20"},{"v":10370.399999999998,"d":"10370.40"},{"v":10280.199999999999,"d":"10280.20"},{"v":10199.399999999998,"d":"10199.40"},{"v":10541.399999999998,"d":"10541.40"},{"v":10622.199999999997,"d":"10622.20"},{"v":10712.399999999998,"d":"10712.40"},{"$f":"VLOOKUP($B62,[1]EQ!$A$1:$L$2000,4,0)","v":10532},{"$f":"VLOOKUP($B62,[1]EQ!$A$1:$L$2000,5,0)","v":10361},{"$f":"(VLOOKUP($B62,[1]EQ!$A$1:$L$2000,9,0)/100000)","v":3.58604}]
[53,"BAJAJHLDNG",{"$f":"VLOOKUP($B63,[1]EQ!$A$1:$L$2000,6,0)","v":3618.95},{"v":3603.3833333333337,"d":"3603.38"},{"v":3565.8666666666672,"d":"3565.87"},{"v":3512.7833333333338,"d":"3512.78"},{"v":3475.2666666666673,"d":"3475.27"},{"v":3656.466666666667,"d":"3656.47"},{"v":3693.9833333333336,"d":"3693.98"},{"v":3747.066666666667,"d":"3747.07"},{"$f":"VLOOKUP($B63,[1]EQ!$A$1:$L$2000,4,0)","v":3640.9},{"$f":"VLOOKUP($B63,[1]EQ!$A$1:$L$2000,5,0)","v":3550.3},{"$f":"(VLOOKUP($B63,[1]EQ!$A$1:$L$2000,9,0)/100000)","v":0.29612}]
[54,"BALKRISIND",{"$f":"VLOOKUP($B64,[1]EQ!$A$1:$L$2000,6,0)","v":1621.55},{"v":1632.0333333333335,"d":"1632.03"},{"v":1602.516666666667,"d":"1602.52"},{"v":1583.4833333333336,"d":"1583.48"},{"v":1553.9666666666672,"d":"1553.97"},{"v":1651.066666666667,"d":"1651.07"},{"v":1680.5833333333335,"d":"1680.58"},{"v":1699.616666666667,"d":"1699.62"},{"$f":"VLOOKUP($B64,[1]EQ!$A$1:$L$2000,4,0)","v":1661.55},{"$f":"VLOOKUP($B64,[1]EQ!$A$1:$L$2000,5,0)","v":1613},{"$f":"(VLOOKUP($B64,[1]EQ!$A$1:$L$2000,9,0)/100000)","v":10.12966}]
[55,"BALMLAWRIE",{"$f":"VLOOKUP($B65,[1]EQ!$A$1:$L$2000,6,0)","v":113.5},{"v":113.76666666666667,"d":"113.77"},{"v":112.93333333333334,"d":"112.93"},{"v":112.36666666666667,"d":"112.37"},{"v":111.53333333333335,"d":"111.53"},{"v":114.33333333333333,"d":"114.33"},{"v":115.16666666666667,"d":"115.17"},{"v":115.73333333333332,"d":"115.73"},{"$f":"VLOOKUP($B65,[1]EQ!$A$1:$L$2000,4,0)","v":114.6},{"$f":"VLOOKUP($B65,[1]EQ!$A$1:$L$2000,5,0)","v":113.2},{"$f":"(VLOOKUP($B65,[1]EQ!$A$1:$L$2000,9,0)/100000)","v":1.54058}]
[56,"BALRAMCHIN",{"$f":"VLOOKUP($B66,[1]EQ!$A$1:$L$2000,6,0)","v":157.45},{"v":157.78333333333333,"d":"157.78"},{"v":156.66666666666666,"d":"156.67"},{"v":155.88333333333333,"d":"155.88"},{"v":154.76666666666665,"d":"154.77"},{"v":158.56666666666666,"d":"158.57"},{"v":159.68333333333334,"d":"159.68"},{"v":160.46666666666667,"d":"160.47"},{"$f":"VLOOKUP($B66,[1]EQ!$A$1:$L$2000,4,0)","v":158.9},{"$f":"VLOOKUP($B66,[1]EQ!$A$1:$L$2000,5,0)","v":157},{"$f":"(VLOOKUP($B66,[1]EQ!$A$1:$L$2000,9,0)/100000)","v":4.86871}]
[57,"BANDHANBNK",{"$f":"VLOOKUP($B67,[1]EQ!$A$1:$L$2000,6,0)","v":350.15},{"v":346.4166666666667,"d":"346.42"},{"v":340.23333333333335,"d":"340.23"},{"v":330.31666666666666,"d":"330.32"},{"v":324.1333333333333,"d":"324.13"},{"v":356.33333333333337,"d":"356.33"},{"v":362.51666666666665,"d":"362.52"},{"v":372.4333333333334,"d":"372.43"},{"$f":"VLOOKUP($B67,[1]EQ!$A$1:$L$2000,4,0)","v":352.6},{"$f":"VLOOKUP($B67,[1]EQ!$A$1:$L$2000,5,0)","v":336.5},{"$f":"(VLOOKUP($B67,[1]EQ!$A$1:$L$2000,9,0)/100000)","v":131.33247}]
[58,"BANKBARODA",{"$f":"VLOOKUP($B68,[1]EQ!$A$1:$L$2000,6,0)","v":79.7},{"v":80.01666666666667,"d":"80.02"},{"v":78.28333333333333,"d":"78.28"},{"v":76.86666666666666,"d":"76.87"},{"v":75.13333333333333,"d":"75.13"},{"v":81.43333333333334,"d":"81.43"},{"v":83.16666666666666,"d":"83.17"},{"v":84.58333333333334,"d":"84.58"},{"$f":"VLOOKUP($B68,[1]EQ!$A$1:$L$2000,4,0)","v":81.75},{"$f":"VLOOKUP($B68,[1]EQ!$A$1:$L$2000,5,0)","v":78.6},{"$f":"(VLOOKUP($B68,[1]EQ!$A$1:$L$2000,9,0)/100000)","v":448.03164}]
[59,"BANKINDIA",{"$f":"VLOOKUP($B69,[1]EQ!$A$1:$L$2000,6,0)","v":70.6},{"v":67.83333333333333,"d":"67.83"},{"v":65.06666666666666,"d":"65.07"},{"v":59.53333333333333,"d":"59.53"},{"v":56.766666666666666,"d":"56.77"},{"v":73.36666666666666,"d":"73.37"},{"v":76.13333333333334,"d":"76.13"},{"v":81.66666666666666,"d":"81.67"},{"$f":"VLOOKUP($B69,[1]EQ!$A$1:$L$2000,4,0)","v":70.6},{"$f":"VLOOKUP($B69,[1]EQ!$A$1:$L$2000,5,0)","v":62.3},{"$f":"(VLOOKUP($B69,[1]EQ!$A$1:$L$2000,9,0)/100000)","v":573.5488}]
[60,"MAHABANK",{"$f":"VLOOKUP($B70,[1]EQ!$A$1:$L$2000,6,0)","v":19.05},{"v":18.583333333333332,"d":"18.58"},{"v":18.116666666666664,"d":"18.12"},{"v":17.18333333333333,"d":"17.18"},{"v":16.71666666666666,"d":"16.72"},{"v":19.516666666666666,"d":"19.52"},{"v":19.983333333333334,"d":"19.98"},{"v":20.916666666666668,"d":"20.92"},{"$f":"VLOOKUP($B70,[1]EQ!$A$1:$L$2000,4,0)","v":19.05},{"$f":"VLOOKUP($B70,[1]EQ!$A$1:$L$2000,5,0)","v":17.65},{"$f":"(VLOOKUP($B70,[1]EQ!$A$1:$L$2000,9,0)/100000)","v":204.16812}]
[61,"BATAINDIA",{"$f":"VLOOKUP($B71,[1]EQ!$A$1:$L$2000,6,0)","v":1524.65},1536.55,{"v":1509.1,"d":"1509.10"},1493.55,{"v":1466.1,"d":"1466.10"},{"v":1552.1,"d":"1552.10"},{"v":1579.5500000000002,"d":"1579.55"},{"v":1595.1,"d":"1595.10"},{"$f":"VLOOKUP($B71,[1]EQ!$A$1:$L$2000,4,0)","v":1564},{"$f":"VLOOKUP($B71,[1]EQ!$A$1:$L$2000,5,0)","v":1521},{"$f":"(VLOOKUP($B71,[1]EQ!$A$1:$L$2000,9,0)/100000)","v":4.26008}]
[62,"BAYERCROP",{"$f":"VLOOKUP($B72,[1]EQ!$A$1:$L$2000,6,0)","v":5245.7},{"v":5216.566666666667,"d":"5216.57"},{"v":5134.133333333333,"d":"5134.13"},{"v":5022.566666666667,"d":"5022.57"},{"v":4940.133333333333,"d":"4940.13"},{"v":5328.133333333333,"d":"5328.13"},{"v":5410.566666666666,"d":"5410.57"},{"v":5522.133333333333,"d":"5522.13"},{"$f":"VLOOKUP($B72,[1]EQ!$A$1:$L$2000,4,0)","v":5299},{"$f":"VLOOKUP($B72,[1]EQ!$A$1:$L$2000,5,0)","v":5105},{"$f":"(VLOOKUP($B72,[1]EQ!$A$1:$L$2000,9,0)/100000)","v":0.63028}]
[63,"BERGEPAINT",{"$f":"VLOOKUP($B73,[1]EQ!$A$1:$L$2000,6,0)","v":759.55},{"v":760.9833333333332,"d":"760.98"},{"v":750.1666666666665,"d":"750.17"},{"v":740.7833333333333,"d":"740.78"},{"v":729.9666666666666,"d":"729.97"},{"v":770.3666666666664,"d":"770.37"},{"v":781.1833333333333,"d":"781.18"},{"v":790.5666666666664,"d":"790.57"},{"$f":"VLOOKUP($B73,[1]EQ!$A$1:$L$2000,4,0)","v":771.8},{"$f":"VLOOKUP($B73,[1]EQ!$A$1:$L$2000,5,0)","v":751.6},{"$f":"(VLOOKUP($B73,[1]EQ!$A$1:$L$2000,9,0)/100000)","v":11.8825}]
[64,"BDL",{"$f":"VLOOKUP($B74,[1]EQ!$A$1:$L$2000,6,0)","v":342.2},{"v":343.73333333333335,"d":"343.73"},{"v":338.4666666666667,"d":"338.47"},{"v":334.73333333333335,"d":"334.73"},{"v":329.4666666666667,"d":"329.47"},{"v":347.4666666666667,"d":"347.47"},{"v":352.73333333333335,"d":"352.73"},{"v":356.4666666666667,"d":"356.47"},{"$f":"VLOOKUP($B74,[1]EQ!$A$1:$L$2000,4,0)","v":349},{"$f":"VLOOKUP($B74,[1]EQ!$A$1:$L$2000,5,0)","v":340},{"$f":"(VLOOKUP($B74,[1]EQ!$A$1:$L$2000,9,0)/100000)","v":2.81761}]
[65,"BEL",{"$f":"VLOOKUP($B75,[1]EQ!$A$1:$L$2000,6,0)","v":133.15},{"$f":"(C75+K75+L75)/3","v":{"v":134.71666666666667,"d":"134.72"}},{"$f":"+(D75*2)-K75","v":{"v":130.98333333333335,"d":"130.98"}},{"$f":"+D75-K75+L75","v":{"v":128.8166666666667,"d":"128.82"}},{"$f":"L75-2*(K75-D75)","v":{"v":125.08333333333337,"d":"125.08"}},{"$f":"(D75*2)-L75","v":{"v":136.88333333333333,"d":"136.88"}},{"$f":"+D75+K75-L75","v":{"v":140.61666666666662,"d":"140.62"}},{"$f":"K75+2*(D75-L75)","v":{"v":142.7833333333333,"d":"142.78"}},{"$f":"VLOOKUP($B75,[1]EQ!$A$1:$L$2000,4,0)","v":138.45},{"$f":"VLOOKUP($B75,[1]EQ!$A$1:$L$2000,5,0)","v":132.55},{"$f":"(VLOOKUP($B75,[1]EQ!$A$1:$L$2000,9,0)/100000)","v":162.38431}]
[66,"BHARATFORG",{"$f":"VLOOKUP($B76,[1]EQ!$A$1:$L$2000,6,0)","v":630.75},{"v":630.8166666666667,"d":"630.82"},{"v":621.9333333333334,"d":"621.93"},{"v":613.1166666666667,"d":"613.12"},{"v":604.2333333333333,"d":"604.23"},{"v":639.6333333333334,"d":"639.63"},{"v":648.5166666666669,"d":"648.52"},{"v":657.3333333333335,"d":"657.33"},{"$f":"VLOOKUP($B76,[1]EQ!$A$1:$L$2000,4,0)","v":639.7},{"$f":"VLOOKUP($B76,[1]EQ!$A$1:$L$2000,5,0)","v":622},{"$f":"(VLOOKUP($B76,[1]EQ!$A$1:$L$2000,9,0)/100000)","v":22.09598}]
[67,"BHEL",{"$f":"VLOOKUP($B77,[1]EQ!$A$1:$L$2000,6,0)","v":39.9},{"v":39.43333333333334,"d":"39.43"},{"v":38.866666666666674,"d":"38.87"},{"v":37.833333333333336,"d":"37.83"},{"v":37.26666666666667,"d":"37.27"},{"v":40.466666666666676,"d":"40.47"},{"v":41.03333333333334,"d":"41.03"},{"v":42.06666666666668,"d":"42.07"},{"$f":"VLOOKUP($B77,[1]EQ!$A$1:$L$2000,4,0)","v":40},{"$f":"VLOOKUP($B77,[1]EQ!$A$1:$L$2000,5,0)","v":38.4},{"$f":"(VLOOKUP($B77,[1]EQ!$A$1:$L$2000,9,0)/100000)","v":467.59963}]
[68,"BPCL",{"$f":"VLOOKUP($B78,[1]EQ!$A$1:$L$2000,6,0)","v":417.95},{"v":418.9166666666667,"d":"418.92"},{"v":415.23333333333335,"d":"415.23"},{"v":412.51666666666665,"d":"412.52"},{"v":408.8333333333333,"d":"408.83"},{"v":421.6333333333334,"d":"421.63"},{"v":425.31666666666666,"d":"425.32"},{"v":428.0333333333334,"d":"428.03"},{"$f":"VLOOKUP($B78,[1]EQ!$A$1:$L$2000,4,0)","v":422.6},{"$f":"VLOOKUP($B78,[1]EQ!$A$1:$L$2000,5,0)","v":416.2},{"$f":"(VLOOKUP($B78,[1]EQ!$A$1:$L$2000,9,0)/100000)","v":53.97662}]
[69,"BHARATRAS",{"$f":"VLOOKUP($B79,[1]EQ!$A$1:$L$2000,6,0)","v":9753.35},{"v":9803.8,"d":"9803.80"},{"v":9649.599999999999,"d":"9649.60"},{"v":9545.849999999999,"d":"9545.85"},{"v":9391.649999999998,"d":"9391.65"},9907.55,10061.75,{"v":10165.5,"d":"10165.50"},{"$f":"VLOOKUP($B79,[1]EQ!$A$1:$L$2000,4,0)","v":9958},{"$f":"VLOOKUP($B79,[1]EQ!$A$1:$L$2000,5,0)","v":9700.05},{"$f":"(VLOOKUP($B79,[1]EQ!$A$1:$L$2000,9,0)/100000)","v":0.05741}]
[70,"BHARTIARTL",{"$f":"VLOOKUP($B80,[1]EQ!$A$1:$L$2000,6,0)","v":593.95},{"v":596.1833333333334,"d":"596.18"},{"v":590.7666666666668,"d":"590.77"},{"v":587.5833333333334,"d":"587.58"},{"v":582.1666666666667,"d":"582.17"},{"v":599.3666666666668,"d":"599.37"},{"v":604.7833333333333,"d":"604.78"},{"v":607.9666666666668,"d":"607.97"},{"$f":"VLOOKUP($B80,[1]EQ!$A$1:$L$2000,4,0)","v":601.6},{"$f":"VLOOKUP($B80,[1]EQ!$A$1:$L$2000,5,0)","v":593},{"$f":"(VLOOKUP($B80,[1]EQ!$A$1:$L$2000,9,0)/100000)","v":147.87224}]
[71,"BIOCON",{"$f":"VLOOKUP($B81,[1]EQ!$A$1:$L$2000,6,0)","v":417.4},{"v":414.0833333333333,"d":"414.08"},{"v":409.5666666666666,"d":"409.57"},{"v":401.7333333333333,"d":"401.73"},{"v":397.2166666666666,"d":"397.22"},{"v":421.91666666666663,"d":"421.92"},{"v":426.4333333333334,"d":"426.43"},{"v":434.26666666666665,"d":"434.27"},{"$f":"VLOOKUP($B81,[1]EQ!$A$1:$L$2000,4,0)","v":418.6},{"$f":"VLOOKUP($B81,[1]EQ!$A$1:$L$2000,5,0)","v":406.25},{"$f":"(VLOOKUP($B81,[1]EQ!$A$1:$L$2000,9,0)/100000)","v":54.07782}]
[72,"BIRLACORPN",{"$f":"VLOOKUP($B82,[1]EQ!$A$1:$L$2000,6,0)","v":906.8},{"v":909.6333333333333,"d":"909.63"},{"v":887.2666666666667,"d":"887.27"},{"v":867.7333333333333,"d":"867.73"},{"v":845.3666666666667,"d":"845.37"},{"v":929.1666666666666,"d":"929.17"},{"v":951.5333333333332,"d":"951.53"},{"v":971.0666666666666,"d":"971.07"},{"$f":"VLOOKUP($B82,[1]EQ!$A$1:$L$2000,4,0)","v":932},{"$f":"VLOOKUP($B82,[1]EQ!$A$1:$L$2000,5,0)","v":890.1},{"$f":"(VLOOKUP($B82,[1]EQ!$A$1:$L$2000,9,0)/100000)","v":4.86036}]
[73,"BSOFT",{"$f":"VLOOKUP($B83,[1]EQ!$A$1:$L$2000,6,0)","v":243.25},{"v":243.51666666666665,"d":"243.52"},{"v":240.7333333333333,"d":"240.73"},{"v":238.21666666666664,"d":"238.22"},{"v":235.43333333333328,"d":"235.43"},{"v":246.0333333333333,"d":"246.03"},{"v":248.81666666666666,"d":"248.82"},{"v":251.33333333333331,"d":"251.33"},{"$f":"VLOOKUP($B83,[1]EQ!$A$1:$L$2000,4,0)","v":246.3},{"$f":"VLOOKUP($B83,[1]EQ!$A$1:$L$2000,5,0)","v":241},{"$f":"(VLOOKUP($B83,[1]EQ!$A$1:$L$2000,9,0)/100000)","v":6.87422}]
[74,"BLISSGVS",{"$f":"VLOOKUP($B84,[1]EQ!$A$1:$L$2000,6,0)","v":178.05},{"v":177.91666666666666,"d":"177.92"},{"v":176.83333333333331,"d":"176.83"},{"v":175.61666666666665,"d":"175.62"},{"v":174.5333333333333,"d":"174.53"},{"v":179.13333333333333,"d":"179.13"},{"v":180.21666666666664,"d":"180.22"},{"v":181.43333333333334,"d":"181.43"},{"$f":"VLOOKUP($B84,[1]EQ!$A$1:$L$2000,4,0)","v":179},{"$f":"VLOOKUP($B84,[1]EQ!$A$1:$L$2000,5,0)","v":176.7},{"$f":"(VLOOKUP($B84,[1]EQ!$A$1:$L$2000,9,0)/100000)","v":4.1263}]
[75,"BLUEDART",{"$f":"VLOOKUP($B85,[1]EQ!$A$1:$L$2000,6,0)","v":4879.75},{"v":4804.933333333333,"d":"4804.93"},{"v":4716.866666666667,"d":"4716.87"},{"v":4553.983333333334,"d":"4553.98"},{"v":4465.916666666667,"d":"4465.92"},{"v":4967.816666666667,"d":"4967.82"},{"v":5055.883333333334,"d":"5055.88"},{"v":5218.766666666666,"d":"5218.77"},{"$f":"VLOOKUP($B85,[1]EQ!$A$1:$L$2000,4,0)","v":4893},{"$f":"VLOOKUP($B85,[1]EQ!$A$1:$L$2000,5,0)","v":4642.05},{"$f":"(VLOOKUP($B85,[1]EQ!$A$1:$L$2000,9,0)/100000)","v":1.10297}]
[76,"BLUESTARCO",{"$f":"VLOOKUP($B86,[1]EQ!$A$1:$L$2000,6,0)","v":816.55},{"v":818.1333333333332,"d":"818.13"},{"v":811.4666666666665,"d":"811.47"},{"v":806.3833333333332,"d":"806.38"},{"v":799.7166666666665,"d":"799.72"},{"v":823.2166666666665,"d":"823.22"},{"v":829.8833333333332,"d":"829.88"},{"v":834.9666666666665,"d":"834.97"},{"$f":"VLOOKUP($B86,[1]EQ!$A$1:$L$2000,4,0)","v":824.8},{"$f":"VLOOKUP($B86,[1]EQ!$A$1:$L$2000,5,0)","v":813.05},{"$f":"(VLOOKUP($B86,[1]EQ!$A$1:$L$2000,9,0)/100000)","v":0.89534}]
[77,"BBTC",{"$f":"VLOOKUP($B87,[1]EQ!$A$1:$L$2000,6,0)","v":1200.65},{"v":1202.9833333333333,"d":"1202.98"},{"v":1187.0666666666666,"d":"1187.07"},{"v":1173.4833333333333,"d":"1173.48"},{"v":1157.5666666666666,"d":"1157.57"},{"v":1216.5666666666666,"d":"1216.57"},{"v":1232.4833333333331,"d":"1232.48"},{"v":1246.0666666666666,"d":"1246.07"},{"$f":"VLOOKUP($B87,[1]EQ!$A$1:$L$2000,4,0)","v":1218.9},{"$f":"VLOOKUP($B87,[1]EQ!$A$1:$L$2000,5,0)","v":1189.4},{"$f":"(VLOOKUP($B87,[1]EQ!$A$1:$L$2000,9,0)/100000)","v":0.43151}]
[78,"BOMDYEING",{"$f":"VLOOKUP($B88,[1]EQ!$A$1:$L$2000,6,0)","v":71.25},{"v":71.51666666666667,"d":"71.52"},{"v":70.08333333333333,"d":"70.08"},{"v":68.91666666666666,"d":"68.92"},{"v":67.48333333333332,"d":"67.48"},{"v":72.68333333333334,"d":"72.68"},{"v":74.11666666666667,"d":"74.12"},{"v":75.28333333333335,"d":"75.28"},{"$f":"VLOOKUP($B88,[1]EQ!$A$1:$L$2000,4,0)","v":72.95},{"$f":"VLOOKUP($B88,[1]EQ!$A$1:$L$2000,5,0)","v":70.35},{"$f":"(VLOOKUP($B88,[1]EQ!$A$1:$L$2000,9,0)/100000)","v":11.68775}]
[79,"BOSCHLTD",{"$f":"VLOOKUP($B89,[1]EQ!$A$1:$L$2000,6,0)","v":15579.6},{"v":15586.5,"d":"15586.50"},{"v":15323.1,"d":"15323.10"},{"v":15066.6,"d":"15066.60"},{"v":14803.2,"d":"14803.20"},{"v":15843,"d":"15843.00"},{"v":16106.400000000001,"d":"16106.40"},{"v":16362.9,"d":"16362.90"},{"$f":"VLOOKUP($B89,[1]EQ!$A$1:$L$2000,4,0)","v":15849.9},{"$f":"VLOOKUP($B89,[1]EQ!$A$1:$L$2000,5,0)","v":15330},{"$f":"(VLOOKUP($B89,[1]EQ!$A$1:$L$2000,9,0)/100000)","v":0.58454}]
[80,"BRIGADE",{"$f":"VLOOKUP($B90,[1]EQ!$A$1:$L$2000,6,0)","v":281.8},{"v":282.3666666666666,"d":"282.37"},{"v":278.73333333333323,"d":"278.73"},{"v":275.66666666666663,"d":"275.67"},{"v":272.03333333333325,"d":"272.03"},{"v":285.4333333333332,"d":"285.43"},{"v":289.06666666666655,"d":"289.07"},{"v":292.1333333333332,"d":"292.13"},{"$f":"VLOOKUP($B90,[1]EQ!$A$1:$L$2000,4,0)","v":286},{"$f":"VLOOKUP($B90,[1]EQ!$A$1:$L$2000,5,0)","v":279.3},{"$f":"(VLOOKUP($B90,[1]EQ!$A$1:$L$2000,9,0)/100000)","v":0.85075}]
[81,"BRITANNIA",{"$f":"VLOOKUP($B91,[1]EQ!$A$1:$L$2000,6,0)","v":3389.45},{"v":3402.283333333333,"d":"3402.28"},{"v":3372.216666666666,"d":"3372.22"},{"v":3354.983333333333,"d":"3354.98"},{"v":3324.916666666666,"d":"3324.92"},{"v":3419.5166666666655,"d":"3419.52"},{"v":3449.583333333333,"d":"3449.58"},{"v":3466.8166666666652,"d":"3466.82"},{"$f":"VLOOKUP($B91,[1]EQ!$A$1:$L$2000,4,0)","v":3432.35},{"$f":"VLOOKUP($B91,[1]EQ!$A$1:$L$2000,5,0)","v":3385.05},{"$f":"(VLOOKUP($B91,[1]EQ!$A$1:$L$2000,9,0)/100000)","v":6.93631}]
[82,"CARERATING",{"$f":"VLOOKUP($B92,[1]EQ!$A$1:$L$2000,6,0)","v":489.7},{"v":488.15000000000003,"d":"488.15"},{"v":484.80000000000007,"d":"484.80"},{"v":479.90000000000003,"d":"479.90"},{"v":476.55000000000007,"d":"476.55"},{"v":493.05000000000007,"d":"493.05"},{"v":496.4000000000001,"d":"496.40"},{"v":501.30000000000007,"d":"501.30"},{"$f":"VLOOKUP($B92,[1]EQ!$A$1:$L$2000,4,0)","v":491.5},{"$f":"VLOOKUP($B92,[1]EQ!$A$1:$L$2000,5,0)","v":483.25},{"$f":"(VLOOKUP($B92,[1]EQ!$A$1:$L$2000,9,0)/100000)","v":1.4836}]
[83,"CCL",{"$f":"VLOOKUP($B93,[1]EQ!$A$1:$L$2000,6,0)","v":242.3},{"v":242.21666666666667,"d":"242.22"},{"v":240.43333333333334,"d":"240.43"},{"v":238.56666666666666,"d":"238.57"},{"v":236.78333333333333,"d":"236.78"},{"v":244.08333333333334,"d":"244.08"},{"v":245.8666666666667,"d":"245.87"},{"v":247.73333333333335,"d":"247.73"},{"$f":"VLOOKUP($B93,[1]EQ!$A$1:$L$2000,4,0)","v":244},{"$f":"VLOOKUP($B93,[1]EQ!$A$1:$L$2000,5,0)","v":240.35},{"$f":"(VLOOKUP($B93,[1]EQ!$A$1:$L$2000,9,0)/100000)","v":3.15619}]
[84,"CESC",{"$f":"VLOOKUP($B94,[1]EQ!$A$1:$L$2000,6,0)","v":618.1},{"v":621.1,"d":"621.10"},{"v":614,"d":"614.00"},{"v":609.9,"d":"609.90"},{"v":602.8,"d":"602.80"},{"v":625.2,"d":"625.20"},{"v":632.3000000000002,"d":"632.30"},{"v":636.4000000000001,"d":"636.40"},{"$f":"VLOOKUP($B94,[1]EQ!$A$1:$L$2000,4,0)","v":628.2},{"$f":"VLOOKUP($B94,[1]EQ!$A$1:$L$2000,5,0)","v":617},{"$f":"(VLOOKUP($B94,[1]EQ!$A$1:$L$2000,9,0)/100000)","v":1.848}]
[85,"CRISIL",{"$f":"VLOOKUP($B95,[1]EQ!$A$1:$L$2000,6,0)","v":2007.85},{"v":2018.9833333333333,"d":"2018.98"},{"v":1988.9666666666667,"d":"1988.97"},{"v":1970.0833333333333,"d":"1970.08"},{"v":1940.0666666666666,"d":"1940.07"},{"v":2037.8666666666668,"d":"2037.87"},{"v":2067.8833333333337,"d":"2067.88"},{"v":2086.766666666667,"d":"2086.77"},{"$f":"VLOOKUP($B95,[1]EQ!$A$1:$L$2000,4,0)","v":2049},{"$f":"VLOOKUP($B95,[1]EQ!$A$1:$L$2000,5,0)","v":2000.1},{"$f":"(VLOOKUP($B95,[1]EQ!$A$1:$L$2000,9,0)/100000)","v":0.4766}]
[86,"CSBBANK",{"$f":"VLOOKUP($B96,[1]EQ!$A$1:$L$2000,6,0)","v":218.7},{"v":219.83333333333334,"d":"219.83"},{"v":216.86666666666667,"d":"216.87"},{"v":215.03333333333333,"d":"215.03"},{"v":212.06666666666666,"d":"212.07"},{"v":221.66666666666669,"d":"221.67"},{"v":224.63333333333333,"d":"224.63"},{"v":226.4666666666667,"d":"226.47"},{"$f":"VLOOKUP($B96,[1]EQ!$A$1:$L$2000,4,0)","v":222.8},{"$f":"VLOOKUP($B96,[1]EQ!$A$1:$L$2000,5,0)","v":218},{"$f":"(VLOOKUP($B96,[1]EQ!$A$1:$L$2000,9,0)/100000)","v":1.13026}]
[87,"CADILAHC",{"$f":"VLOOKUP($B97,[1]EQ!$A$1:$L$2000,6,0)","v":468.9},{"v":468.8999999999999,"d":"468.90"},{"v":463.34999999999985,"d":"463.35"},{"v":457.79999999999995,"d":"457.80"},{"v":452.2499999999999,"d":"452.25"},{"v":474.4499999999998,"d":"474.45"},{"v":479.9999999999999,"d":"480.00"},{"v":485.5499999999998,"d":"485.55"},{"$f":"VLOOKUP($B97,[1]EQ!$A$1:$L$2000,4,0)","v":474.45},{"$f":"VLOOKUP($B97,[1]EQ!$A$1:$L$2000,5,0)","v":463.35},{"$f":"(VLOOKUP($B97,[1]EQ!$A$1:$L$2000,9,0)/100000)","v":33.92787}]
[88,"CANFINHOME",{"$f":"VLOOKUP($B98,[1]EQ!$A$1:$L$2000,6,0)","v":512.7},{"v":515.9499999999999,"d":"515.95"},{"v":506.89999999999986,"d":"506.90"},{"v":501.0999999999999,"d":"501.10"},{"v":492.04999999999984,"d":"492.05"},{"v":521.7499999999999,"d":"521.75"},{"v":530.7999999999998,"d":"530.80"},{"v":536.5999999999999,"d":"536.60"},{"$f":"VLOOKUP($B98,[1]EQ!$A$1:$L$2000,4,0)","v":525},{"$f":"VLOOKUP($B98,[1]EQ!$A$1:$L$2000,5,0)","v":510.15},{"$f":"(VLOOKUP($B98,[1]EQ!$A$1:$L$2000,9,0)/100000)","v":8.44561}]
[89,"CANBK",{"$f":"VLOOKUP($B99,[1]EQ!$A$1:$L$2000,6,0)","v":162.6},{"v":162.88333333333333,"d":"162.88"},{"v":159.81666666666666,"d":"159.82"},{"v":157.03333333333333,"d":"157.03"},{"v":153.96666666666667,"d":"153.97"},{"v":165.66666666666666,"d":"165.67"},{"v":168.73333333333332,"d":"168.73"},{"v":171.51666666666665,"d":"171.52"},{"$f":"VLOOKUP($B99,[1]EQ!$A$1:$L$2000,4,0)","v":165.95},{"$f":"VLOOKUP($B99,[1]EQ!$A$1:$L$2000,5,0)","v":160.1},{"$f":"(VLOOKUP($B99,[1]EQ!$A$1:$L$2000,9,0)/100000)","v":287.11074}]
[90,"CAPLIPOINT",{"$f":"VLOOKUP($B100,[1]EQ!$A$1:$L$2000,6,0)","v":471.1},473.95,{"v":467.2,"d":"467.20"},{"v":463.3,"d":"463.30"},456.55,{"v":477.84999999999997,"d":"477.85"},{"v":484.59999999999997,"d":"484.60"},{"v":488.49999999999994,"d":"488.50"},{"$f":"VLOOKUP($B100,[1]EQ!$A$1:$L$2000,4,0)","v":480.7},{"$f":"VLOOKUP($B100,[1]EQ!$A$1:$L$2000,5,0)","v":470.05},{"$f":"(VLOOKUP($B100,[1]EQ!$A$1:$L$2000,9,0)/100000)","v":0.84394}]
[91,"CGCL",{"$f":"VLOOKUP($B101,[1]EQ!$A$1:$L$2000,6,0)","v":334.4},339.45,{"v":325.4,"d":"325.40"},{"v":316.4,"d":"316.40"},{"v":302.34999999999997,"d":"302.35"},348.45,{"v":362.50000000000006,"d":"362.50"},{"v":371.5,"d":"371.50"},{"$f":"VLOOKUP($B101,[1]EQ!$A$1:$L$2000,4,0)","v":353.5},{"$f":"VLOOKUP($B101,[1]EQ!$A$1:$L$2000,5,0)","v":330.45},{"$f":"(VLOOKUP($B101,[1]EQ!$A$1:$L$2000,9,0)/100000)","v":0.92725}]
[92,"CARBORUNIV",{"$f":"VLOOKUP($B102,[1]EQ!$A$1:$L$2000,6,0)","v":502.05},{"v":504.1000000000001,"d":"504.10"},{"v":483.85000000000014,"d":"483.85"},{"v":465.65000000000003,"d":"465.65"},{"v":445.4000000000001,"d":"445.40"},{"v":522.3000000000002,"d":"522.30"},{"v":542.5500000000001,"d":"542.55"},{"v":560.7500000000002,"d":"560.75"},{"$f":"VLOOKUP($B102,[1]EQ!$A$1:$L$2000,4,0)","v":524.35},{"$f":"VLOOKUP($B102,[1]EQ!$A$1:$L$2000,5,0)","v":485.9},{"$f":"(VLOOKUP($B102,[1]EQ!$A$1:$L$2000,9,0)/100000)","v":2.83214}]
[93,"CASTROLIND",{"$f":"VLOOKUP($B103,[1]EQ!$A$1:$L$2000,6,0)","v":126.65},{"v":126.66666666666667,"d":"126.67"},{"v":125.13333333333335,"d":"125.13"},{"v":123.61666666666669,"d":"123.62"},{"v":122.08333333333337,"d":"122.08"},{"v":128.18333333333334,"d":"128.18"},{"v":129.71666666666667,"d":"129.72"},{"v":131.23333333333332,"d":"131.23"},{"$f":"VLOOKUP($B103,[1]EQ!$A$1:$L$2000,4,0)","v":128.2},{"$f":"VLOOKUP($B103,[1]EQ!$A$1:$L$2000,5,0)","v":125.15},{"$f":"(VLOOKUP($B103,[1]EQ!$A$1:$L$2000,9,0)/100000)","v":11.00161}]
[94,"CEATLTD",{"$f":"VLOOKUP($B104,[1]EQ!$A$1:$L$2000,6,0)","v":1617.7},{"v":1615.1666666666667,"d":"1615.17"},{"v":1587.5333333333335,"d":"1587.53"},{"v":1557.3666666666668,"d":"1557.37"},{"v":1529.7333333333336,"d":"1529.73"},{"v":1645.3333333333335,"d":"1645.33"},{"v":1672.9666666666667,"d":"1672.97"},{"v":1703.1333333333334,"d":"1703.13"},{"$f":"VLOOKUP($B104,[1]EQ!$A$1:$L$2000,4,0)","v":1642.8},{"$f":"VLOOKUP($B104,[1]EQ!$A$1:$L$2000,5,0)","v":1585},{"$f":"(VLOOKUP($B104,[1]EQ!$A$1:$L$2000,9,0)/100000)","v":1.72509}]
[95,"CENTRALBK",{"$f":"VLOOKUP($B105,[1]EQ!$A$1:$L$2000,6,0)","v":16.7},{"v":16.233333333333334,"d":"16.23"},{"v":15.76666666666667,"d":"15.77"},{"v":14.833333333333336,"d":"14.83"},{"v":14.36666666666667,"d":"14.37"},{"v":17.166666666666668,"d":"17.17"},{"v":17.633333333333336,"d":"17.63"},{"v":18.566666666666666,"d":"18.57"},{"$f":"VLOOKUP($B105,[1]EQ!$A$1:$L$2000,4,0)","v":16.7},{"$f":"VLOOKUP($B105,[1]EQ!$A$1:$L$2000,5,0)","v":15.3},{"$f":"(VLOOKUP($B105,[1]EQ!$A$1:$L$2000,9,0)/100000)","v":1813.48035}]
[96,"CDSL",{"$f":"VLOOKUP($B106,[1]EQ!$A$1:$L$2000,6,0)","v":555.25},{"v":562.3833333333333,"d":"562.38"},{"v":546.0666666666666,"d":"546.07"},{"v":536.8833333333333,"d":"536.88"},{"v":520.5666666666666,"d":"520.57"},{"v":571.5666666666666,"d":"571.57"},{"v":587.8833333333334,"d":"587.88"},{"v":597.0666666666666,"d":"597.07"},{"$f":"VLOOKUP($B106,[1]EQ!$A$1:$L$2000,4,0)","v":578.7},{"$f":"VLOOKUP($B106,[1]EQ!$A$1:$L$2000,5,0)","v":553.2},{"$f":"(VLOOKUP($B106,[1]EQ!$A$1:$L$2000,9,0)/100000)","v":14.4058}]
[97,"CENTURYPLY",{"$f":"VLOOKUP($B107,[1]EQ!$A$1:$L$2000,6,0)","v":307.45},309.55,{"v":303.1,"d":"303.10"},298.75,{"v":292.3,"d":"292.30"},{"v":313.90000000000003,"d":"313.90"},{"v":320.34999999999997,"d":"320.35"},{"v":324.70000000000005,"d":"324.70"},{"$f":"VLOOKUP($B107,[1]EQ!$A$1:$L$2000,4,0)","v":316},{"$f":"VLOOKUP($B107,[1]EQ!$A$1:$L$2000,5,0)","v":305.2},{"$f":"(VLOOKUP($B107,[1]EQ!$A$1:$L$2000,9,0)/100000)","v":3.14655}]
[98,"CENTURYTEX",{"$f":"VLOOKUP($B108,[1]EQ!$A$1:$L$2000,6,0)","v":457.35},{"v":458.98333333333335,"d":"458.98"},{"v":453.4666666666667,"d":"453.47"},{"v":449.58333333333337,"d":"449.58"},{"v":444.0666666666667,"d":"444.07"},{"v":462.8666666666667,"d":"462.87"},{"v":468.3833333333333,"d":"468.38"},{"v":472.26666666666665,"d":"472.27"},{"$f":"VLOOKUP($B108,[1]EQ!$A$1:$L$2000,4,0)","v":464.5},{"$f":"VLOOKUP($B108,[1]EQ!$A$1:$L$2000,5,0)","v":455.1},{"$f":"(VLOOKUP($B108,[1]EQ!$A$1:$L$2000,9,0)/100000)","v":2.10427}]
[99,"CERA",{"$f":"VLOOKUP($B109,[1]EQ!$A$1:$L$2000,6,0)","v":3993},{"v":3954,"d":"3954.00"},{"v":3881,"d":"3881.00"},{"v":3769,"d":"3769.00"},{"v":3696,"d":"3696.00"},{"v":4066,"d":"4066.00"},{"v":4139,"d":"4139.00"},{"v":4251,"d":"4251.00"},{"$f":"VLOOKUP($B109,[1]EQ!$A$1:$L$2000,4,0)","v":4027},{"$f":"VLOOKUP($B109,[1]EQ!$A$1:$L$2000,5,0)","v":3842},{"$f":"(VLOOKUP($B109,[1]EQ!$A$1:$L$2000,9,0)/100000)","v":0.6519}]
[100,"CHALET",{"$f":"VLOOKUP($B110,[1]EQ!$A$1:$L$2000,6,0)","v":173},{"v":174.1833333333333,"d":"174.18"},{"v":171.11666666666662,"d":"171.12"},{"v":169.23333333333332,"d":"169.23"},{"v":166.16666666666663,"d":"166.17"},{"v":176.0666666666666,"d":"176.07"},{"v":179.13333333333327,"d":"179.13"},{"v":181.0166666666666,"d":"181.02"},{"$f":"VLOOKUP($B110,[1]EQ!$A$1:$L$2000,4,0)","v":177.25},{"$f":"VLOOKUP($B110,[1]EQ!$A$1:$L$2000,5,0)","v":172.3},{"$f":"(VLOOKUP($B110,[1]EQ!$A$1:$L$2000,9,0)/100000)","v":0.91762}]
[101,"CHAMBLFERT",{"$f":"VLOOKUP($B111,[1]EQ!$A$1:$L$2000,6,0)","v":235.85},{"v":236.95000000000002,"d":"236.95"},{"v":232.90000000000003,"d":"232.90"},{"v":229.95000000000002,"d":"229.95"},{"v":225.90000000000003,"d":"225.90"},{"v":239.90000000000003,"d":"239.90"},{"v":243.95000000000005,"d":"243.95"},{"v":246.90000000000003,"d":"246.90"},{"$f":"VLOOKUP($B111,[1]EQ!$A$1:$L$2000,4,0)","v":241},{"$f":"VLOOKUP($B111,[1]EQ!$A$1:$L$2000,5,0)","v":234},{"$f":"(VLOOKUP($B111,[1]EQ!$A$1:$L$2000,9,0)/100000)","v":5.01106}]
[102,"CHENNPETRO",{"$f":"VLOOKUP($B112,[1]EQ!$A$1:$L$2000,6,0)","v":94.4},{"v":95,"d":"95.00"},93.45,{"v":92.5,"d":"92.50"},90.95,95.95,{"v":97.50000000000001,"d":"97.50"},98.45,{"$f":"VLOOKUP($B112,[1]EQ!$A$1:$L$2000,4,0)","v":96.55},{"$f":"VLOOKUP($B112,[1]EQ!$A$1:$L$2000,5,0)","v":94.05},{"$f":"(VLOOKUP($B112,[1]EQ!$A$1:$L$2000,9,0)/100000)","v":4.14471}]
[103,"CHOLAHLDNG",{"$f":"VLOOKUP($B113,[1]EQ!$A$1:$L$2000,6,0)","v":589.75},{"v":588.2833333333333,"d":"588.28"},{"v":576.5666666666666,"d":"576.57"},{"v":563.3833333333333,"d":"563.38"},{"v":551.6666666666666,"d":"551.67"},{"v":601.4666666666666,"d":"601.47"},{"v":613.1833333333333,"d":"613.18"},{"v":626.3666666666666,"d":"626.37"},{"$f":"VLOOKUP($B113,[1]EQ!$A$1:$L$2000,4,0)","v":600},{"$f":"VLOOKUP($B113,[1]EQ!$A$1:$L$2000,5,0)","v":575.1},{"$f":"(VLOOKUP($B113,[1]EQ!$A$1:$L$2000,9,0)/100000)","v":2.1734}]
[104,"CHOLAFIN",{"$f":"VLOOKUP($B114,[1]EQ!$A$1:$L$2000,6,0)","v":528.05},{"v":527.3666666666667,"d":"527.37"},{"v":517.7333333333333,"d":"517.73"},{"v":507.41666666666663,"d":"507.42"},{"v":497.7833333333333,"d":"497.78"},{"v":537.6833333333334,"d":"537.68"},{"v":547.3166666666668,"d":"547.32"},{"v":557.6333333333334,"d":"557.63"},{"$f":"VLOOKUP($B114,[1]EQ!$A$1:$L$2000,4,0)","v":537},{"$f":"VLOOKUP($B114,[1]EQ!$A$1:$L$2000,5,0)","v":517.05},{"$f":"(VLOOKUP($B114,[1]EQ!$A$1:$L$2000,9,0)/100000)","v":104.86006}]
[105,"CIPLA",{"$f":"VLOOKUP($B115,[1]EQ!$A$1:$L$2000,6,0)","v":848.35},{"v":847.2833333333333,"d":"847.28"},{"v":842.3166666666666,"d":"842.32"},{"v":836.2833333333333,"d":"836.28"},{"v":831.3166666666666,"d":"831.32"},{"v":853.3166666666666,"d":"853.32"},{"v":858.2833333333333,"d":"858.28"},{"v":864.3166666666666,"d":"864.32"},{"$f":"VLOOKUP($B115,[1]EQ!$A$1:$L$2000,4,0)","v":852.25},{"$f":"VLOOKUP($B115,[1]EQ!$A$1:$L$2000,5,0)","v":841.25},{"$f":"(VLOOKUP($B115,[1]EQ!$A$1:$L$2000,9,0)/100000)","v":28.08115}]
[106,"CUB",{"$f":"VLOOKUP($B116,[1]EQ!$A$1:$L$2000,6,0)","v":165.75},{"v":167.53333333333333,"d":"167.53"},{"v":162.61666666666667,"d":"162.62"},{"v":159.48333333333335,"d":"159.48"},{"v":154.5666666666667,"d":"154.57"},{"v":170.66666666666666,"d":"170.67"},{"v":175.58333333333334,"d":"175.58"},{"v":178.71666666666664,"d":"178.72"},{"$f":"VLOOKUP($B116,[1]EQ!$A$1:$L$2000,4,0)","v":172.45},{"$f":"VLOOKUP($B116,[1]EQ!$A$1:$L$2000,5,0)","v":164.4},{"$f":"(VLOOKUP($B116,[1]EQ!$A$1:$L$2000,9,0)/100000)","v":56.45652}]
[107,"COALINDIA",{"$f":"VLOOKUP($B117,[1]EQ!$A$1:$L$2000,6,0)","v":133.75},{"v":133.81666666666666,"d":"133.82"},{"v":132.23333333333332,"d":"132.23"},{"v":130.71666666666667,"d":"130.72"},{"v":129.13333333333333,"d":"129.13"},{"v":135.33333333333331,"d":"135.33"},{"v":136.91666666666669,"d":"136.92"},{"v":138.4333333333333,"d":"138.43"},{"$f":"VLOOKUP($B117,[1]EQ!$A$1:$L$2000,4,0)","v":135.4},{"$f":"VLOOKUP($B117,[1]EQ!$A$1:$L$2000,5,0)","v":132.3},{"$f":"(VLOOKUP($B117,[1]EQ!$A$1:$L$2000,9,0)/100000)","v":117.35144}]
[108,"COCHINSHIP",{"$f":"VLOOKUP($B118,[1]EQ!$A$1:$L$2000,6,0)","v":362.35},{"v":361.6166666666666,"d":"361.62"},{"v":359.83333333333326,"d":"359.83"},{"v":357.31666666666666,"d":"357.32"},{"v":355.5333333333333,"d":"355.53"},{"v":364.1333333333332,"d":"364.13"},{"v":365.91666666666663,"d":"365.92"},{"v":368.43333333333317,"d":"368.43"},{"$f":"VLOOKUP($B118,[1]EQ!$A$1:$L$2000,4,0)","v":363.4},{"$f":"VLOOKUP($B118,[1]EQ!$A$1:$L$2000,5,0)","v":359.1},{"$f":"(VLOOKUP($B118,[1]EQ!$A$1:$L$2000,9,0)/100000)","v":2.45747}]
[109,"COFORGE",{"$f":"VLOOKUP($B119,[1]EQ!$A$1:$L$2000,6,0)","v":2622.05},{"v":2618.7000000000003,"d":"2618.70"},{"v":2584.4000000000005,"d":"2584.40"},{"v":2546.7500000000005,"d":"2546.75"},{"v":2512.4500000000007,"d":"2512.45"},{"v":2656.3500000000004,"d":"2656.35"},{"v":2690.6500000000005,"d":"2690.65"},{"v":2728.3,"d":"2728.30"},{"$f":"VLOOKUP($B119,[1]EQ!$A$1:$L$2000,4,0)","v":2653},{"$f":"VLOOKUP($B119,[1]EQ!$A$1:$L$2000,5,0)","v":2581.05},{"$f":"(VLOOKUP($B119,[1]EQ!$A$1:$L$2000,9,0)/100000)","v":3.41414}]
[110,"COLPAL",{"$f":"VLOOKUP($B120,[1]EQ!$A$1:$L$2000,6,0)","v":1581.05},1585.55,{"v":1563.4499999999998,"d":"1563.45"},1545.85,{"v":1523.7499999999998,"d":"1523.75"},{"v":1603.1499999999999,"d":"1603.15"},{"v":1625.2499999999998,"d":"1625.25"},1642.85,{"$f":"VLOOKUP($B120,[1]EQ!$A$1:$L$2000,4,0)","v":1607.65},{"$f":"VLOOKUP($B120,[1]EQ!$A$1:$L$2000,5,0)","v":1567.95},{"$f":"(VLOOKUP($B120,[1]EQ!$A$1:$L$2000,9,0)/100000)","v":2.98723}]
[111,"CONCOR",{"$f":"VLOOKUP($B121,[1]EQ!$A$1:$L$2000,6,0)","v":537.15},{"v":537.4166666666666,"d":"537.42"},{"v":528.3333333333333,"d":"528.33"},{"v":519.5166666666667,"d":"519.52"},{"v":510.4333333333333,"d":"510.43"},{"v":546.2333333333332,"d":"546.23"},{"v":555.3166666666665,"d":"555.32"},{"v":564.1333333333332,"d":"564.13"},{"$f":"VLOOKUP($B121,[1]EQ!$A$1:$L$2000,4,0)","v":546.5},{"$f":"VLOOKUP($B121,[1]EQ!$A$1:$L$2000,5,0)","v":528.6},{"$f":"(VLOOKUP($B121,[1]EQ!$A$1:$L$2000,9,0)/100000)","v":31.75417}]
[112,"COROMANDEL",{"$f":"VLOOKUP($B122,[1]EQ!$A$1:$L$2000,6,0)","v":782.8},{"v":781.2166666666667,"d":"781.22"},{"v":775.6833333333334,"d":"775.68"},{"v":768.5666666666667,"d":"768.57"},{"v":763.0333333333334,"d":"763.03"},{"v":788.3333333333334,"d":"788.33"},{"v":793.8666666666667,"d":"793.87"},{"v":800.9833333333333,"d":"800.98"},{"$f":"VLOOKUP($B122,[1]EQ!$A$1:$L$2000,4,0)","v":786.75},{"$f":"VLOOKUP($B122,[1]EQ!$A$1:$L$2000,5,0)","v":774.1},{"$f":"(VLOOKUP($B122,[1]EQ!$A$1:$L$2000,9,0)/100000)","v":5.71802}]
[113,"CREDITACC",{"$f":"VLOOKUP($B123,[1]EQ!$A$1:$L$2000,6,0)","v":709.65},{"v":708.9833333333332,"d":"708.98"},{"v":704.7166666666665,"d":"704.72"},{"v":699.7833333333332,"d":"699.78"},{"v":695.5166666666664,"d":"695.52"},{"v":713.9166666666665,"d":"713.92"},{"v":718.1833333333332,"d":"718.18"},{"v":723.1166666666666,"d":"723.12"},{"$f":"VLOOKUP($B123,[1]EQ!$A$1:$L$2000,4,0)","v":713.25},{"$f":"VLOOKUP($B123,[1]EQ!$A$1:$L$2000,5,0)","v":704.05},{"$f":"(VLOOKUP($B123,[1]EQ!$A$1:$L$2000,9,0)/100000)","v":1.36669}]
[114,"CROMPTON",{"$f":"VLOOKUP($B124,[1]EQ!$A$1:$L$2000,6,0)","v":397.7},{"v":396.76666666666665,"d":"396.77"},{"v":392.9333333333333,"d":"392.93"},{"v":388.16666666666663,"d":"388.17"},{"v":384.33333333333326,"d":"384.33"},{"v":401.5333333333333,"d":"401.53"},{"v":405.3666666666667,"d":"405.37"},{"v":410.1333333333333,"d":"410.13"},{"$f":"VLOOKUP($B124,[1]EQ!$A$1:$L$2000,4,0)","v":400.6},{"$f":"VLOOKUP($B124,[1]EQ!$A$1:$L$2000,5,0)","v":392},{"$f":"(VLOOKUP($B124,[1]EQ!$A$1:$L$2000,9,0)/100000)","v":38.72811}]
[115,"CUMMINSIND",{"$f":"VLOOKUP($B125,[1]EQ!$A$1:$L$2000,6,0)","v":766.35},{"v":768.0666666666666,"d":"768.07"},{"v":759.8333333333333,"d":"759.83"},{"v":753.3166666666666,"d":"753.32"},{"v":745.0833333333333,"d":"745.08"},{"v":774.5833333333333,"d":"774.58"},{"v":782.8166666666666,"d":"782.82"},{"v":789.3333333333333,"d":"789.33"},{"$f":"VLOOKUP($B125,[1]EQ!$A$1:$L$2000,4,0)","v":776.3},{"$f":"VLOOKUP($B125,[1]EQ!$A$1:$L$2000,5,0)","v":761.55},{"$f":"(VLOOKUP($B125,[1]EQ!$A$1:$L$2000,9,0)/100000)","v":12.93232}]
[116,"CYIENT",{"$f":"VLOOKUP($B126,[1]EQ!$A$1:$L$2000,6,0)","v":619.65},622.15,{"v":611.5,"d":"611.50"},603.35,{"v":592.7,"d":"592.70"},{"v":630.3,"d":"630.30"},{"v":640.9499999999998,"d":"640.95"},{"v":649.0999999999999,"d":"649.10"},{"$f":"VLOOKUP($B126,[1]EQ!$A$1:$L$2000,4,0)","v":632.8},{"$f":"VLOOKUP($B126,[1]EQ!$A$1:$L$2000,5,0)","v":614},{"$f":"(VLOOKUP($B126,[1]EQ!$A$1:$L$2000,9,0)/100000)","v":3.58058}]
[117,"DBCORP",{"$f":"VLOOKUP($B127,[1]EQ!$A$1:$L$2000,6,0)","v":85.4},{"v":86.23333333333333,"d":"86.23"},{"v":84.16666666666667,"d":"84.17"},{"v":82.93333333333334,"d":"82.93"},{"v":80.86666666666667,"d":"80.87"},{"v":87.46666666666667,"d":"87.47"},{"v":89.53333333333333,"d":"89.53"},{"v":90.76666666666667,"d":"90.77"},{"$f":"VLOOKUP($B127,[1]EQ!$A$1:$L$2000,4,0)","v":88.3},{"$f":"VLOOKUP($B127,[1]EQ!$A$1:$L$2000,5,0)","v":85},{"$f":"(VLOOKUP($B127,[1]EQ!$A$1:$L$2000,9,0)/100000)","v":2.63627}]
[118,"DCBBANK",{"$f":"VLOOKUP($B128,[1]EQ!$A$1:$L$2000,6,0)","v":114.55},{"v":114.7,"d":"114.70"},113.15,111.75,{"v":110.2,"d":"110.20"},{"v":116.10000000000001,"d":"116.10"},{"v":117.64999999999999,"d":"117.65"},{"v":119.05000000000001,"d":"119.05"},{"$f":"VLOOKUP($B128,[1]EQ!$A$1:$L$2000,4,0)","v":116.25},{"$f":"VLOOKUP($B128,[1]EQ!$A$1:$L$2000,5,0)","v":113.3},{"$f":"(VLOOKUP($B128,[1]EQ!$A$1:$L$2000,9,0)/100000)","v":20.31457}]
[119,"DCMSHRIRAM",{"$f":"VLOOKUP($B129,[1]EQ!$A$1:$L$2000,6,0)","v":474.95},{"v":469.3666666666666,"d":"469.37"},{"v":460.78333333333325,"d":"460.78"},{"v":446.6166666666666,"d":"446.62"},{"v":438.03333333333325,"d":"438.03"},{"v":483.53333333333325,"d":"483.53"},{"v":492.1166666666666,"d":"492.12"},{"v":506.28333333333325,"d":"506.28"},{"$f":"VLOOKUP($B129,[1]EQ!$A$1:$L$2000,4,0)","v":477.95},{"$f":"VLOOKUP($B129,[1]EQ!$A$1:$L$2000,5,0)","v":455.2},{"$f":"(VLOOKUP($B129,[1]EQ!$A$1:$L$2000,9,0)/100000)","v":4.60506}]
[120,"DLF",{"$f":"VLOOKUP($B130,[1]EQ!$A$1:$L$2000,6,0)","v":319},{"v":320.90000000000003,"d":"320.90"},{"v":313.6000000000001,"d":"313.60"},{"v":308.20000000000005,"d":"308.20"},{"v":300.9000000000001,"d":"300.90"},{"v":326.30000000000007,"d":"326.30"},{"v":333.6,"d":"333.60"},{"v":339.00000000000006,"d":"339.00"},{"$f":"VLOOKUP($B130,[1]EQ!$A$1:$L$2000,4,0)","v":328.2},{"$f":"VLOOKUP($B130,[1]EQ!$A$1:$L$2000,5,0)","v":315.5},{"$f":"(VLOOKUP($B130,[1]EQ!$A$1:$L$2000,9,0)/100000)","v":193.00639}]
[121,"DABUR",{"$f":"VLOOKUP($B131,[1]EQ!$A$1:$L$2000,6,0)","v":522.6},525.25,517.75,{"v":512.9,"d":"512.90"},{"v":505.4,"d":"505.40"},{"v":530.1,"d":"530.10"},{"v":537.6,"d":"537.60"},542.45,{"$f":"VLOOKUP($B131,[1]EQ!$A$1:$L$2000,4,0)","v":532.75},{"$f":"VLOOKUP($B131,[1]EQ!$A$1:$L$2000,5,0)","v":520.4},{"$f":"(VLOOKUP($B131,[1]EQ!$A$1:$L$2000,9,0)/100000)","v":31.19109}]
[122,"DALBHARAT",{"$f":"VLOOKUP($B132,[1]EQ!$A$1:$L$2000,6,0)","v":1444.8},{"v":1436.6166666666668,"d":"1436.62"},{"v":1376.2333333333336,"d":"1376.23"},{"v":1307.6666666666667,"d":"1307.67"},{"v":1247.2833333333335,"d":"1247.28"},{"v":1505.1833333333336,"d":"1505.18"},{"v":1565.5666666666668,"d":"1565.57"},{"v":1634.1333333333337,"d":"1634.13"},{"$f":"VLOOKUP($B132,[1]EQ!$A$1:$L$2000,4,0)","v":1497},{"$f":"VLOOKUP($B132,[1]EQ!$A$1:$L$2000,5,0)","v":1368.05},{"$f":"(VLOOKUP($B132,[1]EQ!$A$1:$L$2000,9,0)/100000)","v":3.06389}]
[123,"DEEPAKNTR",{"$f":"VLOOKUP($B133,[1]EQ!$A$1:$L$2000,6,0)","v":1273.8},{"v":1243.5,"d":"1243.50"},{"v":1193,"d":"1193.00"},{"v":1112.2,"d":"1112.20"},{"v":1061.7,"d":"1061.70"},{"v":1324.3,"d":"1324.30"},{"v":1374.8,"d":"1374.80"},{"v":1455.6,"d":"1455.60"},{"$f":"VLOOKUP($B133,[1]EQ!$A$1:$L$2000,4,0)","v":1294},{"$f":"VLOOKUP($B133,[1]EQ!$A$1:$L$2000,5,0)","v":1162.7},{"$f":"(VLOOKUP($B133,[1]EQ!$A$1:$L$2000,9,0)/100000)","v":37.10214}]
[124,"DELTACORP",{"$f":"VLOOKUP($B134,[1]EQ!$A$1:$L$2000,6,0)","v":154.75},{"v":155.38333333333333,"d":"155.38"},{"v":152.81666666666666,"d":"152.82"},{"v":150.88333333333333,"d":"150.88"},{"v":148.31666666666666,"d":"148.32"},{"v":157.31666666666666,"d":"157.32"},{"v":159.88333333333333,"d":"159.88"},{"v":161.81666666666666,"d":"161.82"},{"$f":"VLOOKUP($B134,[1]EQ!$A$1:$L$2000,4,0)","v":157.95},{"$f":"VLOOKUP($B134,[1]EQ!$A$1:$L$2000,5,0)","v":153.45},{"$f":"(VLOOKUP($B134,[1]EQ!$A$1:$L$2000,9,0)/100000)","v":20.89645}]
[125,"DHANI",{"$f":"VLOOKUP($B135,[1]EQ!$A$1:$L$2000,6,0)","v":364.95},{"v":363.3333333333333,"d":"363.33"},{"v":356.66666666666663,"d":"356.67"},{"v":348.3833333333333,"d":"348.38"},{"v":341.71666666666664,"d":"341.72"},{"v":371.6166666666666,"d":"371.62"},{"v":378.28333333333325,"d":"378.28"},{"v":386.5666666666666,"d":"386.57"},{"$f":"VLOOKUP($B135,[1]EQ!$A$1:$L$2000,4,0)","v":370},{"$f":"VLOOKUP($B135,[1]EQ!$A$1:$L$2000,5,0)","v":355.05},{"$f":"(VLOOKUP($B135,[1]EQ!$A$1:$L$2000,9,0)/100000)","v":9.78217}]
[126,"DHANUKA",{"$f":"VLOOKUP($B136,[1]EQ!$A$1:$L$2000,6,0)","v":753.2},{"v":757.7333333333332,"d":"757.73"},{"v":745.4666666666665,"d":"745.47"},{"v":737.7333333333332,"d":"737.73"},{"v":725.4666666666665,"d":"725.47"},{"v":765.4666666666665,"d":"765.47"},{"v":777.7333333333331,"d":"777.73"},{"v":785.4666666666665,"d":"785.47"},{"$f":"VLOOKUP($B136,[1]EQ!$A$1:$L$2000,4,0)","v":770},{"$f":"VLOOKUP($B136,[1]EQ!$A$1:$L$2000,5,0)","v":750},{"$f":"(VLOOKUP($B136,[1]EQ!$A$1:$L$2000,9,0)/100000)","v":0.40133}]
[127,"DBL",{"$f":"VLOOKUP($B137,[1]EQ!$A$1:$L$2000,6,0)","v":554.8},{"v":551.6999999999999,"d":"551.70"},{"v":540.1499999999999,"d":"540.15"},{"v":525.4999999999999,"d":"525.50"},{"v":513.9499999999998,"d":"513.95"},{"v":566.3499999999999,"d":"566.35"},{"v":577.8999999999999,"d":"577.90"},592.55,{"$f":"VLOOKUP($B137,[1]EQ!$A$1:$L$2000,4,0)","v":563.25},{"$f":"VLOOKUP($B137,[1]EQ!$A$1:$L$2000,5,0)","v":537.05},{"$f":"(VLOOKUP($B137,[1]EQ!$A$1:$L$2000,9,0)/100000)","v":11.48956}]
[128,"DISHTV",{"$f":"VLOOKUP($B138,[1]EQ!$A$1:$L$2000,6,0)","v":11.5},{"v":11.566666666666668,"d":"11.57"},{"v":11.383333333333336,"d":"11.38"},{"v":11.266666666666667,"d":"11.27"},{"v":11.083333333333336,"d":"11.08"},{"v":11.683333333333337,"d":"11.68"},{"v":11.86666666666667,"d":"11.87"},{"v":11.983333333333338,"d":"11.98"},{"$f":"VLOOKUP($B138,[1]EQ!$A$1:$L$2000,4,0)","v":11.75},{"$f":"VLOOKUP($B138,[1]EQ!$A$1:$L$2000,5,0)","v":11.45},{"$f":"(VLOOKUP($B138,[1]EQ!$A$1:$L$2000,9,0)/100000)","v":39.01858}]
[129,"DCAL",{"$f":"VLOOKUP($B139,[1]EQ!$A$1:$L$2000,6,0)","v":120.05},{"$f":"(C139+K139+L139)/3","v":{"v":121.46666666666665,"d":"121.47"}},{"$f":"+(D139*2)-K139","v":{"v":118.08333333333331,"d":"118.08"}},{"$f":"+D139-K139+L139","v":{"v":116.11666666666666,"d":"116.12"}},{"$f":"L139-2*(K139-D139)","v":{"v":112.73333333333332,"d":"112.73"}},{"$f":"(D139*2)-L139","v":{"v":123.43333333333331,"d":"123.43"}},{"$f":"+D139+K139-L139","v":{"v":126.81666666666666,"d":"126.82"}},{"$f":"K139+2*(D139-L139)","v":{"v":128.7833333333333,"d":"128.78"}},{"$f":"VLOOKUP($B139,[1]EQ!$A$1:$L$2000,4,0)","v":124.85},{"$f":"VLOOKUP($B139,[1]EQ!$A$1:$L$2000,5,0)","v":119.5},{"$f":"(VLOOKUP($B139,[1]EQ!$A$1:$L$2000,9,0)/100000)","v":5.24942}]
[130,"DIVISLAB",{"$f":"VLOOKUP($B140,[1]EQ!$A$1:$L$2000,6,0)","v":3686.5},3690.65,{"v":3661.8500000000004,"d":"3661.85"},{"v":3637.2000000000003,"d":"3637.20"},{"v":3608.4000000000005,"d":"3608.40"},{"v":3715.3,"d":"3715.30"},{"v":3744.1000000000004,"d":"3744.10"},3768.75,{"$f":"VLOOKUP($B140,[1]EQ!$A$1:$L$2000,4,0)","v":3719.45},{"$f":"VLOOKUP($B140,[1]EQ!$A$1:$L$2000,5,0)","v":3666},{"$f":"(VLOOKUP($B140,[1]EQ!$A$1:$L$2000,9,0)/100000)","v":3.92393}]
[131,"DIXON",{"$f":"VLOOKUP($B141,[1]EQ!$A$1:$L$2000,6,0)","v":18620.5},{"v":18690.866666666665,"d":"18690.87"},{"v":18382.73333333333,"d":"18382.73"},{"v":18144.966666666664,"d":"18144.97"},{"v":17836.83333333333,"d":"17836.83"},{"v":18928.63333333333,"d":"18928.63"},{"v":19236.76666666667,"d":"19236.77"},{"v":19474.533333333333,"d":"19474.53"},{"$f":"VLOOKUP($B141,[1]EQ!$A$1:$L$2000,4,0)","v":18999},{"$f":"VLOOKUP($B141,[1]EQ!$A$1:$L$2000,5,0)","v":18453.1},{"$f":"(VLOOKUP($B141,[1]EQ!$A$1:$L$2000,9,0)/100000)","v":0.38987}]
[132,"LALPATHLAB",{"$f":"VLOOKUP($B142,[1]EQ!$A$1:$L$2000,6,0)","v":2387.85},{"v":2402.1,"d":"2402.10"},{"v":2365.7999999999997,"d":"2365.80"},2343.75,2307.45,{"v":2424.1499999999996,"d":"2424.15"},2460.45,{"v":2482.4999999999995,"d":"2482.50"},{"$f":"VLOOKUP($B142,[1]EQ!$A$1:$L$2000,4,0)","v":2438.4},{"$f":"VLOOKUP($B142,[1]EQ!$A$1:$L$2000,5,0)","v":2380.05},{"$f":"(VLOOKUP($B142,[1]EQ!$A$1:$L$2000,9,0)/100000)","v":0.84198}]
[133,"DRREDDY",{"$f":"VLOOKUP($B143,[1]EQ!$A$1:$L$2000,6,0)","v":4696.6},{"v":4709.400000000001,"d":"4709.40"},{"v":4657.200000000001,"d":"4657.20"},{"v":4617.8,"d":"4617.80"},{"v":4565.6,"d":"4565.60"},{"v":4748.800000000001,"d":"4748.80"},{"v":4801,"d":"4801.00"},{"v":4840.4000000000015,"d":"4840.40"},{"$f":"VLOOKUP($B143,[1]EQ!$A$1:$L$2000,4,0)","v":4761.6},{"$f":"VLOOKUP($B143,[1]EQ!$A$1:$L$2000,5,0)","v":4670},{"$f":"(VLOOKUP($B143,[1]EQ!$A$1:$L$2000,9,0)/100000)","v":8.1294}]
[134,"EIDPARRY",{"$f":"VLOOKUP($B144,[1]EQ!$A$1:$L$2000,6,0)","v":315.35},{"v":316.26666666666665,"d":"316.27"},{"v":313.5333333333333,"d":"313.53"},{"v":311.71666666666664,"d":"311.72"},{"v":308.9833333333333,"d":"308.98"},{"v":318.0833333333333,"d":"318.08"},{"v":320.81666666666666,"d":"320.82"},{"v":322.6333333333333,"d":"322.63"},{"$f":"VLOOKUP($B144,[1]EQ!$A$1:$L$2000,4,0)","v":319},{"$f":"VLOOKUP($B144,[1]EQ!$A$1:$L$2000,5,0)","v":314.45},{"$f":"(VLOOKUP($B144,[1]EQ!$A$1:$L$2000,9,0)/100000)","v":1.28404}]
[135,"EIHOTEL",{"$f":"VLOOKUP($B145,[1]EQ!$A$1:$L$2000,6,0)","v":99.35},{"v":99.56666666666666,"d":"99.57"},{"v":97.88333333333333,"d":"97.88"},{"v":96.41666666666666,"d":"96.42"},{"v":94.73333333333332,"d":"94.73"},{"v":101.03333333333333,"d":"101.03"},{"v":102.71666666666667,"d":"102.72"},{"v":104.18333333333334,"d":"104.18"},{"$f":"VLOOKUP($B145,[1]EQ!$A$1:$L$2000,4,0)","v":101.25},{"$f":"VLOOKUP($B145,[1]EQ!$A$1:$L$2000,5,0)","v":98.1},{"$f":"(VLOOKUP($B145,[1]EQ!$A$1:$L$2000,9,0)/100000)","v":8.42889}]
[136,"EPL",{"$f":"VLOOKUP($B146,[1]EQ!$A$1:$L$2000,6,0)","v":222.95},{"v":224.48333333333335,"d":"224.48"},{"v":219.66666666666669,"d":"219.67"},{"v":216.38333333333333,"d":"216.38"},{"v":211.56666666666666,"d":"211.57"},{"v":227.7666666666667,"d":"227.77"},{"v":232.58333333333337,"d":"232.58"},{"v":235.86666666666673,"d":"235.87"},{"$f":"VLOOKUP($B146,[1]EQ!$A$1:$L$2000,4,0)","v":229.3},{"$f":"VLOOKUP($B146,[1]EQ!$A$1:$L$2000,5,0)","v":221.2},{"$f":"(VLOOKUP($B146,[1]EQ!$A$1:$L$2000,9,0)/100000)","v":4.29991}]
[137,"ESABINDIA",{"$f":"VLOOKUP($B147,[1]EQ!$A$1:$L$2000,6,0)","v":1868.1},{"v":1872.5166666666667,"d":"1872.52"},{"v":1850.5833333333333,"d":"1850.58"},{"v":1833.0666666666666,"d":"1833.07"},{"v":1811.1333333333332,"d":"1811.13"},{"v":1890.0333333333333,"d":"1890.03"},{"v":1911.9666666666667,"d":"1911.97"},{"v":1929.4833333333333,"d":"1929.48"},{"$f":"VLOOKUP($B147,[1]EQ!$A$1:$L$2000,4,0)","v":1894.45},{"$f":"VLOOKUP($B147,[1]EQ!$A$1:$L$2000,5,0)","v":1855},{"$f":"(VLOOKUP($B147,[1]EQ!$A$1:$L$2000,9,0)/100000)","v":0.0441}]
[138,"EDELWEISS",{"$f":"VLOOKUP($B148,[1]EQ!$A$1:$L$2000,6,0)","v":66.8},{"v":67.43333333333334,"d":"67.43"},{"v":65.36666666666667,"d":"65.37"},{"v":63.93333333333334,"d":"63.93"},{"v":61.866666666666674,"d":"61.87"},{"v":68.86666666666667,"d":"68.87"},{"v":70.93333333333334,"d":"70.93"},{"v":72.36666666666667,"d":"72.37"},{"$f":"VLOOKUP($B148,[1]EQ!$A$1:$L$2000,4,0)","v":69.5},{"$f":"VLOOKUP($B148,[1]EQ!$A$1:$L$2000,5,0)","v":66},{"$f":"(VLOOKUP($B148,[1]EQ!$A$1:$L$2000,9,0)/100000)","v":30.87502}]
[139,"EICHERMOT",{"$f":"VLOOKUP($B149,[1]EQ!$A$1:$L$2000,6,0)","v":2726.95},{"v":2732.5166666666664,"d":"2732.52"},{"v":2686.8833333333328,"d":"2686.88"},{"v":2646.816666666666,"d":"2646.82"},{"v":2601.1833333333325,"d":"2601.18"},{"v":2772.583333333333,"d":"2772.58"},{"v":2818.2166666666662,"d":"2818.22"},{"v":2858.2833333333333,"d":"2858.28"},{"$f":"VLOOKUP($B149,[1]EQ!$A$1:$L$2000,4,0)","v":2778.15},{"$f":"VLOOKUP($B149,[1]EQ!$A$1:$L$2000,5,0)","v":2692.45},{"$f":"(VLOOKUP($B149,[1]EQ!$A$1:$L$2000,9,0)/100000)","v":15.25475}]
[140,"ELGIEQUIP",{"$f":"VLOOKUP($B150,[1]EQ!$A$1:$L$2000,6,0)","v":166.85},{"v":166.78333333333333,"d":"166.78"},{"v":165.06666666666666,"d":"165.07"},{"v":163.28333333333333,"d":"163.28"},{"v":161.56666666666666,"d":"161.57"},{"v":168.56666666666666,"d":"168.57"},{"v":170.2833333333333,"d":"170.28"},{"v":172.06666666666666,"d":"172.07"},{"$f":"VLOOKUP($B150,[1]EQ!$A$1:$L$2000,4,0)","v":168.5},{"$f":"VLOOKUP($B150,[1]EQ!$A$1:$L$2000,5,0)","v":165},{"$f":"(VLOOKUP($B150,[1]EQ!$A$1:$L$2000,9,0)/100000)","v":0.7225}]
[141,"EMAMILTD",{"$f":"VLOOKUP($B151,[1]EQ!$A$1:$L$2000,6,0)","v":478.3},{"v":474.6000000000001,"d":"474.60"},{"v":468.3000000000002,"d":"468.30"},{"v":458.3000000000001,"d":"458.30"},{"v":452.0000000000002,"d":"452.00"},{"v":484.60000000000014,"d":"484.60"},{"v":490.9,"d":"490.90"},{"v":500.9000000000001,"d":"500.90"},{"$f":"VLOOKUP($B151,[1]EQ!$A$1:$L$2000,4,0)","v":480.9},{"$f":"VLOOKUP($B151,[1]EQ!$A$1:$L$2000,5,0)","v":464.6},{"$f":"(VLOOKUP($B151,[1]EQ!$A$1:$L$2000,9,0)/100000)","v":4.22475}]
[142,"ENDURANCE",{"$f":"VLOOKUP($B152,[1]EQ!$A$1:$L$2000,6,0)","v":1471.5},1480.45,{"v":1452.0500000000002,"d":"1452.05"},{"v":1432.6000000000001,"d":"1432.60"},{"v":1404.2000000000003,"d":"1404.20"},{"v":1499.9,"d":"1499.90"},{"v":1528.3000000000002,"d":"1528.30"},1547.75,{"$f":"VLOOKUP($B152,[1]EQ!$A$1:$L$2000,4,0)","v":1508.85},{"$f":"VLOOKUP($B152,[1]EQ!$A$1:$L$2000,5,0)","v":1461},{"$f":"(VLOOKUP($B152,[1]EQ!$A$1:$L$2000,9,0)/100000)","v":0.65865}]
[143,"ENGINERSIN",{"$f":"VLOOKUP($B153,[1]EQ!$A$1:$L$2000,6,0)","v":71.3},{"v":72.35000000000001,"d":"72.35"},{"v":69.15000000000002,"d":"69.15"},{"v":67.00000000000001,"d":"67.00"},{"v":63.800000000000026,"d":"63.80"},{"v":74.50000000000001,"d":"74.50"},{"v":77.7,"d":"77.70"},{"v":79.85000000000001,"d":"79.85"},{"$f":"VLOOKUP($B153,[1]EQ!$A$1:$L$2000,4,0)","v":75.55},{"$f":"VLOOKUP($B153,[1]EQ!$A$1:$L$2000,5,0)","v":70.2},{"$f":"(VLOOKUP($B153,[1]EQ!$A$1:$L$2000,9,0)/100000)","v":80.49335}]
[144,"EQUITAS",{"$f":"VLOOKUP($B154,[1]EQ!$A$1:$L$2000,6,0)","v":83.95},{"v":84.68333333333332,"d":"84.68"},{"v":82.36666666666665,"d":"82.37"},{"v":80.78333333333332,"d":"80.78"},{"v":78.46666666666664,"d":"78.47"},{"v":86.26666666666665,"d":"86.27"},{"v":88.58333333333334,"d":"88.58"},{"v":90.16666666666666,"d":"90.17"},{"$f":"VLOOKUP($B154,[1]EQ!$A$1:$L$2000,4,0)","v":87},{"$f":"VLOOKUP($B154,[1]EQ!$A$1:$L$2000,5,0)","v":83.1},{"$f":"(VLOOKUP($B154,[1]EQ!$A$1:$L$2000,9,0)/100000)","v":16.98822}]
[145,"ERIS",{"$f":"VLOOKUP($B155,[1]EQ!$A$1:$L$2000,6,0)","v":575.8},{"v":576.2666666666667,"d":"576.27"},{"v":569.5333333333333,"d":"569.53"},{"v":563.2666666666667,"d":"563.27"},{"v":556.5333333333333,"d":"556.53"},{"v":582.5333333333333,"d":"582.53"},{"v":589.2666666666667,"d":"589.27"},{"v":595.5333333333333,"d":"595.53"},{"$f":"VLOOKUP($B155,[1]EQ!$A$1:$L$2000,4,0)","v":583},{"$f":"VLOOKUP($B155,[1]EQ!$A$1:$L$2000,5,0)","v":570},{"$f":"(VLOOKUP($B155,[1]EQ!$A$1:$L$2000,9,0)/100000)","v":0.58715}]
[146,"ESCORTS",{"$f":"VLOOKUP($B156,[1]EQ!$A$1:$L$2000,6,0)","v":1391.05},1392.05,{"v":1379.1,"d":"1379.10"},{"v":1367.1499999999999,"d":"1367.15"},{"v":1354.1999999999998,"d":"1354.20"},{"v":1404,"d":"1404.00"},{"v":1416.9500000000003,"d":"1416.95"},{"v":1428.9,"d":"1428.90"},{"$f":"VLOOKUP($B156,[1]EQ!$A$1:$L$2000,4,0)","v":1405},{"$f":"VLOOKUP($B156,[1]EQ!$A$1:$L$2000,5,0)","v":1380.1},{"$f":"(VLOOKUP($B156,[1]EQ!$A$1:$L$2000,9,0)/100000)","v":9.36005}]
[147,"EXIDEIND",{"$f":"VLOOKUP($B157,[1]EQ!$A$1:$L$2000,6,0)","v":211.4},{"v":211.26666666666665,"d":"211.27"},{"v":208.1333333333333,"d":"208.13"},{"v":204.86666666666665,"d":"204.87"},{"v":201.7333333333333,"d":"201.73"},{"v":214.5333333333333,"d":"214.53"},{"v":217.66666666666663,"d":"217.67"},{"v":220.9333333333333,"d":"220.93"},{"$f":"VLOOKUP($B157,[1]EQ!$A$1:$L$2000,4,0)","v":214.4},{"$f":"VLOOKUP($B157,[1]EQ!$A$1:$L$2000,5,0)","v":208},{"$f":"(VLOOKUP($B157,[1]EQ!$A$1:$L$2000,9,0)/100000)","v":58.7337}]
[148,"FDC",{"$f":"VLOOKUP($B158,[1]EQ!$A$1:$L$2000,6,0)","v":296.9},{"v":299.93333333333334,"d":"299.93"},{"v":293.06666666666666,"d":"293.07"},{"v":289.23333333333335,"d":"289.23"},{"v":282.3666666666667,"d":"282.37"},{"v":303.76666666666665,"d":"303.77"},{"v":310.6333333333333,"d":"310.63"},{"v":314.46666666666664,"d":"314.47"},{"$f":"VLOOKUP($B158,[1]EQ!$A$1:$L$2000,4,0)","v":306.8},{"$f":"VLOOKUP($B158,[1]EQ!$A$1:$L$2000,5,0)","v":296.1},{"$f":"(VLOOKUP($B158,[1]EQ!$A$1:$L$2000,9,0)/100000)","v":3.44724}]
[149,"FEDERALBNK",{"$f":"VLOOKUP($B159,[1]EQ!$A$1:$L$2000,6,0)","v":85.4},{"v":85.60000000000001,"d":"85.60"},{"v":83.95000000000002,"d":"83.95"},{"v":82.50000000000001,"d":"82.50"},{"v":80.85000000000002,"d":"80.85"},{"v":87.05000000000001,"d":"87.05"},{"v":88.70000000000002,"d":"88.70"},90.15,{"$f":"VLOOKUP($B159,[1]EQ!$A$1:$L$2000,4,0)","v":87.25},{"$f":"VLOOKUP($B159,[1]EQ!$A$1:$L$2000,5,0)","v":84.15},{"$f":"(VLOOKUP($B159,[1]EQ!$A$1:$L$2000,9,0)/100000)","v":278.05881}]
[150,"FINEORG",{"$f":"VLOOKUP($B160,[1]EQ!$A$1:$L$2000,6,0)","v":2391.5},{"v":2399.0333333333333,"d":"2399.03"},{"v":2373.0666666666666,"d":"2373.07"},{"v":2354.633333333333,"d":"2354.63"},{"v":2328.6666666666665,"d":"2328.67"},{"v":2417.4666666666667,"d":"2417.47"},{"v":2443.433333333333,"d":"2443.43"},{"v":2461.866666666667,"d":"2461.87"},{"$f":"VLOOKUP($B160,[1]EQ!$A$1:$L$2000,4,0)","v":2425},{"$f":"VLOOKUP($B160,[1]EQ!$A$1:$L$2000,5,0)","v":2380.6},{"$f":"(VLOOKUP($B160,[1]EQ!$A$1:$L$2000,9,0)/100000)","v":0.18027}]
[151,"FINCABLES",{"$f":"VLOOKUP($B161,[1]EQ!$A$1:$L$2000,6,0)","v":379.35},{"v":379.56666666666666,"d":"379.57"},{"v":372.0333333333333,"d":"372.03"},{"v":364.71666666666664,"d":"364.72"},{"v":357.1833333333333,"d":"357.18"},{"v":386.8833333333333,"d":"386.88"},{"v":394.41666666666674,"d":"394.42"},{"v":401.73333333333335,"d":"401.73"},{"$f":"VLOOKUP($B161,[1]EQ!$A$1:$L$2000,4,0)","v":387.1},{"$f":"VLOOKUP($B161,[1]EQ!$A$1:$L$2000,5,0)","v":372.25},{"$f":"(VLOOKUP($B161,[1]EQ!$A$1:$L$2000,9,0)/100000)","v":2.22961}]
[152,"FINPIPE",{"$f":"VLOOKUP($B162,[1]EQ!$A$1:$L$2000,6,0)","v":664.25},{"v":667.4833333333332,"d":"667.48"},{"v":656.8666666666664,"d":"656.87"},{"v":649.4833333333332,"d":"649.48"},{"v":638.8666666666664,"d":"638.87"},{"v":674.8666666666664,"d":"674.87"},{"v":685.4833333333332,"d":"685.48"},{"v":692.8666666666664,"d":"692.87"},{"$f":"VLOOKUP($B162,[1]EQ!$A$1:$L$2000,4,0)","v":678.1},{"$f":"VLOOKUP($B162,[1]EQ!$A$1:$L$2000,5,0)","v":660.1},{"$f":"(VLOOKUP($B162,[1]EQ!$A$1:$L$2000,9,0)/100000)","v":0.98525}]
[153,"FSL",{"$f":"VLOOKUP($B163,[1]EQ!$A$1:$L$2000,6,0)","v":97.5},{"v":97.43333333333334,"d":"97.43"},{"v":96.11666666666667,"d":"96.12"},{"v":94.73333333333333,"d":"94.73"},{"v":93.41666666666667,"d":"93.42"},{"v":98.81666666666668,"d":"98.82"},{"v":100.13333333333334,"d":"100.13"},{"v":101.51666666666668,"d":"101.52"},{"$f":"VLOOKUP($B163,[1]EQ!$A$1:$L$2000,4,0)","v":98.75},{"$f":"VLOOKUP($B163,[1]EQ!$A$1:$L$2000,5,0)","v":96.05},{"$f":"(VLOOKUP($B163,[1]EQ!$A$1:$L$2000,9,0)/100000)","v":15.87004}]
[154,"FORTIS",{"$f":"VLOOKUP($B164,[1]EQ!$A$1:$L$2000,6,0)","v":162.7},{"v":163.71666666666667,"d":"163.72"},{"v":160.58333333333334,"d":"160.58"},{"v":158.46666666666667,"d":"158.47"},{"v":155.33333333333334,"d":"155.33"},{"v":165.83333333333334,"d":"165.83"},{"v":168.96666666666667,"d":"168.97"},{"v":171.08333333333334,"d":"171.08"},{"$f":"VLOOKUP($B164,[1]EQ!$A$1:$L$2000,4,0)","v":166.85},{"$f":"VLOOKUP($B164,[1]EQ!$A$1:$L$2000,5,0)","v":161.6},{"$f":"(VLOOKUP($B164,[1]EQ!$A$1:$L$2000,9,0)/100000)","v":29.42249}]
[155,"FCONSUMER",{"$f":"VLOOKUP($B165,[1]EQ!$A$1:$L$2000,6,0)","v":8.3},{"v":8.333333333333334,"d":"8.33"},{"v":8.166666666666668,"d":"8.17"},{"v":8.033333333333333,"d":"8.03"},{"v":7.866666666666667,"d":"7.87"},{"v":8.466666666666669,"d":"8.47"},{"v":8.633333333333336,"d":"8.63"},{"v":8.76666666666667,"d":"8.77"},{"$f":"VLOOKUP($B165,[1]EQ!$A$1:$L$2000,4,0)","v":8.5},{"$f":"VLOOKUP($B165,[1]EQ!$A$1:$L$2000,5,0)","v":8.2},{"$f":"(VLOOKUP($B165,[1]EQ!$A$1:$L$2000,9,0)/100000)","v":44.45588}]
[156,"FRETAIL",{"$f":"VLOOKUP($B166,[1]EQ!$A$1:$L$2000,6,0)","v":76.6},{"v":77.26666666666667,"d":"77.27"},{"v":75.63333333333333,"d":"75.63"},{"v":74.66666666666666,"d":"74.67"},{"v":73.03333333333332,"d":"73.03"},{"v":78.23333333333333,"d":"78.23"},{"v":79.86666666666669,"d":"79.87"},{"v":80.83333333333334,"d":"80.83"},{"$f":"VLOOKUP($B166,[1]EQ!$A$1:$L$2000,4,0)","v":78.9},{"$f":"VLOOKUP($B166,[1]EQ!$A$1:$L$2000,5,0)","v":76.3},{"$f":"(VLOOKUP($B166,[1]EQ!$A$1:$L$2000,9,0)/100000)","v":19.98254}]
[157,"GAIL",{"$f":"VLOOKUP($B167,[1]EQ!$A$1:$L$2000,6,0)","v":133.1},{"v":133.61666666666667,"d":"133.62"},{"v":131.98333333333335,"d":"131.98"},{"v":130.86666666666667,"d":"130.87"},{"v":129.23333333333335,"d":"129.23"},{"v":134.73333333333335,"d":"134.73"},{"v":136.36666666666667,"d":"136.37"},{"v":137.48333333333335,"d":"137.48"},{"$f":"VLOOKUP($B167,[1]EQ!$A$1:$L$2000,4,0)","v":135.25},{"$f":"VLOOKUP($B167,[1]EQ!$A$1:$L$2000,5,0)","v":132.5},{"$f":"(VLOOKUP($B167,[1]EQ!$A$1:$L$2000,9,0)/100000)","v":152.27589}]
[158,"GEPIL",{"$f":"VLOOKUP($B168,[1]EQ!$A$1:$L$2000,6,0)","v":275},{"v":276.4666666666667,"d":"276.47"},{"v":272.58333333333337,"d":"272.58"},{"v":270.1666666666667,"d":"270.17"},{"v":266.28333333333336,"d":"266.28"},{"v":278.8833333333334,"d":"278.88"},{"v":282.7666666666667,"d":"282.77"},{"v":285.1833333333334,"d":"285.18"},{"$f":"VLOOKUP($B168,[1]EQ!$A$1:$L$2000,4,0)","v":280.35},{"$f":"VLOOKUP($B168,[1]EQ!$A$1:$L$2000,5,0)","v":274.05},{"$f":"(VLOOKUP($B168,[1]EQ!$A$1:$L$2000,9,0)/100000)","v":0.53558}]
[159,"GHCL",{"$f":"VLOOKUP($B169,[1]EQ!$A$1:$L$2000,6,0)","v":211.65},{"v":210.21666666666667,"d":"210.22"},{"v":208.43333333333334,"d":"208.43"},{"v":205.21666666666667,"d":"205.22"},{"v":203.43333333333334,"d":"203.43"},{"v":213.43333333333334,"d":"213.43"},{"v":215.2166666666667,"d":"215.22"},{"v":218.43333333333334,"d":"218.43"},{"$f":"VLOOKUP($B169,[1]EQ!$A$1:$L$2000,4,0)","v":212},{"$f":"VLOOKUP($B169,[1]EQ!$A$1:$L$2000,5,0)","v":207},{"$f":"(VLOOKUP($B169,[1]EQ!$A$1:$L$2000,9,0)/100000)","v":1.89652}]
[160,"GMMPFAUDLR",{"$f":"VLOOKUP($B170,[1]EQ!$A$1:$L$2000,6,0)","v":3736.1},{"v":3756.033333333333,"d":"3756.03"},{"v":3683.116666666666,"d":"3683.12"},{"v":3630.133333333333,"d":"3630.13"},{"v":3557.2166666666662,"d":"3557.22"},{"v":3809.0166666666655,"d":"3809.02"},{"v":3881.9333333333325,"d":"3881.93"},{"v":3934.916666666665,"d":"3934.92"},{"$f":"VLOOKUP($B170,[1]EQ!$A$1:$L$2000,4,0)","v":3828.95},{"$f":"VLOOKUP($B170,[1]EQ!$A$1:$L$2000,5,0)","v":3703.05},{"$f":"(VLOOKUP($B170,[1]EQ!$A$1:$L$2000,9,0)/100000)","v":0.42454}]
[161,"GMRINFRA",{"$f":"VLOOKUP($B171,[1]EQ!$A$1:$L$2000,6,0)","v":25.25},{"v":25.400000000000002,"d":"25.40"},{"v":24.900000000000006,"d":"24.90"},{"v":24.550000000000004,"d":"24.55"},{"v":24.050000000000008,"d":"24.05"},{"v":25.750000000000004,"d":"25.75"},{"v":26.249999999999996,"d":"26.25"},{"v":26.6,"d":"26.60"},{"$f":"VLOOKUP($B171,[1]EQ!$A$1:$L$2000,4,0)","v":25.9},{"$f":"VLOOKUP($B171,[1]EQ!$A$1:$L$2000,5,0)","v":25.05},{"$f":"(VLOOKUP($B171,[1]EQ!$A$1:$L$2000,9,0)/100000)","v":100.48122}]
[162,"GALAXYSURF",{"$f":"VLOOKUP($B172,[1]EQ!$A$1:$L$2000,6,0)","v":2192.05},{"v":2197.9666666666667,"d":"2197.97"},{"v":2170.9333333333334,"d":"2170.93"},{"v":2149.8166666666666,"d":"2149.82"},{"v":2122.7833333333333,"d":"2122.78"},{"v":2219.0833333333335,"d":"2219.08"},{"v":2246.1166666666672,"d":"2246.12"},{"v":2267.2333333333336,"d":"2267.23"},{"$f":"VLOOKUP($B172,[1]EQ!$A$1:$L$2000,4,0)","v":2225},{"$f":"VLOOKUP($B172,[1]EQ!$A$1:$L$2000,5,0)","v":2176.85},{"$f":"(VLOOKUP($B172,[1]EQ!$A$1:$L$2000,9,0)/100000)","v":0.12635}]
[163,"GRSE",{"$f":"VLOOKUP($B173,[1]EQ!$A$1:$L$2000,6,0)","v":198.3},198.15,195.15,{"v":192,"d":"192.00"},{"v":189,"d":"189.00"},{"v":201.3,"d":"201.30"},{"v":204.3,"d":"204.30"},{"v":207.45000000000002,"d":"207.45"},{"$f":"VLOOKUP($B173,[1]EQ!$A$1:$L$2000,4,0)","v":201.15},{"$f":"VLOOKUP($B173,[1]EQ!$A$1:$L$2000,5,0)","v":195},{"$f":"(VLOOKUP($B173,[1]EQ!$A$1:$L$2000,9,0)/100000)","v":1.40564}]
[164,"GARFIBRES",{"$f":"VLOOKUP($B174,[1]EQ!$A$1:$L$2000,6,0)","v":2262.2},{"v":2260.133333333333,"d":"2260.13"},{"v":2232.2166666666662,"d":"2232.22"},{"v":2202.233333333333,"d":"2202.23"},{"v":2174.316666666666,"d":"2174.32"},{"v":2290.1166666666663,"d":"2290.12"},{"v":2318.0333333333333,"d":"2318.03"},{"v":2348.0166666666664,"d":"2348.02"},{"$f":"VLOOKUP($B174,[1]EQ!$A$1:$L$2000,4,0)","v":2288.05},{"$f":"VLOOKUP($B174,[1]EQ!$A$1:$L$2000,5,0)","v":2230.15},{"$f":"(VLOOKUP($B174,[1]EQ!$A$1:$L$2000,9,0)/100000)","v":0.10177}]
[165,"GICRE",{"$f":"VLOOKUP($B175,[1]EQ!$A$1:$L$2000,6,0)","v":141.95},{"v":142.56666666666666,"d":"142.57"},{"v":140.38333333333333,"d":"140.38"},{"v":138.81666666666666,"d":"138.82"},{"v":136.63333333333333,"d":"136.63"},{"v":144.13333333333333,"d":"144.13"},{"v":146.31666666666666,"d":"146.32"},{"v":147.88333333333333,"d":"147.88"},{"$f":"VLOOKUP($B175,[1]EQ!$A$1:$L$2000,4,0)","v":144.75},{"$f":"VLOOKUP($B175,[1]EQ!$A$1:$L$2000,5,0)","v":141},{"$f":"(VLOOKUP($B175,[1]EQ!$A$1:$L$2000,9,0)/100000)","v":3.12747}]
[166,"GILLETTE",{"$f":"VLOOKUP($B176,[1]EQ!$A$1:$L$2000,6,0)","v":5652.1},{"v":5661.183333333333,"d":"5661.18"},{"v":5630.916666666667,"d":"5630.92"},{"v":5609.733333333334,"d":"5609.73"},{"v":5579.466666666667,"d":"5579.47"},{"v":5682.366666666667,"d":"5682.37"},{"v":5712.633333333333,"d":"5712.63"},{"v":5733.816666666667,"d":"5733.82"},{"$f":"VLOOKUP($B176,[1]EQ!$A$1:$L$2000,4,0)","v":5691.45},{"$f":"VLOOKUP($B176,[1]EQ!$A$1:$L$2000,5,0)","v":5640},{"$f":"(VLOOKUP($B176,[1]EQ!$A$1:$L$2000,9,0)/100000)","v":0.03351}]
[167,"GLAXO",{"$f":"VLOOKUP($B177,[1]EQ!$A$1:$L$2000,6,0)","v":1438.55},{"v":1437.8500000000001,"d":"1437.85"},{"v":1428.7000000000003,"d":"1428.70"},{"v":1418.8500000000001,"d":"1418.85"},{"v":1409.7000000000003,"d":"1409.70"},{"v":1447.7000000000003,"d":"1447.70"},{"v":1456.8500000000004,"d":"1456.85"},{"v":1466.7000000000003,"d":"1466.70"},{"$f":"VLOOKUP($B177,[1]EQ!$A$1:$L$2000,4,0)","v":1447},{"$f":"VLOOKUP($B177,[1]EQ!$A$1:$L$2000,5,0)","v":1428},{"$f":"(VLOOKUP($B177,[1]EQ!$A$1:$L$2000,9,0)/100000)","v":0.29186}]
[168,"GLENMARK",{"$f":"VLOOKUP($B178,[1]EQ!$A$1:$L$2000,6,0)","v":503.2},{"v":499.7,"d":"499.70"},{"v":493.59999999999997,"d":"493.60"},{"v":484,"d":"484.00"},{"v":477.9,"d":"477.90"},{"v":509.29999999999995,"d":"509.30"},{"v":515.4,"d":"515.40"},{"v":525,"d":"525.00"},{"$f":"VLOOKUP($B178,[1]EQ!$A$1:$L$2000,4,0)","v":505.8},{"$f":"VLOOKUP($B178,[1]EQ!$A$1:$L$2000,5,0)","v":490.1},{"$f":"(VLOOKUP($B178,[1]EQ!$A$1:$L$2000,9,0)/100000)","v":24.96554}]
[169,"GODFRYPHLP",{"$f":"VLOOKUP($B179,[1]EQ!$A$1:$L$2000,6,0)","v":922.95},{"v":924.6833333333334,"d":"924.68"},{"v":919.4666666666668,"d":"919.47"},{"v":915.9833333333335,"d":"915.98"},{"v":910.7666666666669,"d":"910.77"},{"v":928.1666666666667,"d":"928.17"},{"v":933.3833333333334,"d":"933.38"},{"v":936.8666666666667,"d":"936.87"},{"$f":"VLOOKUP($B179,[1]EQ!$A$1:$L$2000,4,0)","v":929.9},{"$f":"VLOOKUP($B179,[1]EQ!$A$1:$L$2000,5,0)","v":921.2},{"$f":"(VLOOKUP($B179,[1]EQ!$A$1:$L$2000,9,0)/100000)","v":0.26988}]
[170,"GODREJAGRO",{"$f":"VLOOKUP($B180,[1]EQ!$A$1:$L$2000,6,0)","v":494.85},{"v":495.8833333333334,"d":"495.88"},{"v":490.96666666666675,"d":"490.97"},{"v":487.08333333333337,"d":"487.08"},{"v":482.16666666666674,"d":"482.17"},{"v":499.76666666666677,"d":"499.77"},{"v":504.6833333333334,"d":"504.68"},{"v":508.5666666666668,"d":"508.57"},{"$f":"VLOOKUP($B180,[1]EQ!$A$1:$L$2000,4,0)","v":500.8},{"$f":"VLOOKUP($B180,[1]EQ!$A$1:$L$2000,5,0)","v":492},{"$f":"(VLOOKUP($B180,[1]EQ!$A$1:$L$2000,9,0)/100000)","v":0.84756}]
[171,"GODREJCP",{"$f":"VLOOKUP($B181,[1]EQ!$A$1:$L$2000,6,0)","v":721.1},{"v":728.9500000000002,"d":"728.95"},{"v":710.2000000000003,"d":"710.20"},{"v":699.3000000000001,"d":"699.30"},{"v":680.5500000000002,"d":"680.55"},{"v":739.8500000000004,"d":"739.85"},{"v":758.6000000000001,"d":"758.60"},{"v":769.5000000000005,"d":"769.50"},{"$f":"VLOOKUP($B181,[1]EQ!$A$1:$L$2000,4,0)","v":747.7},{"$f":"VLOOKUP($B181,[1]EQ!$A$1:$L$2000,5,0)","v":718.05},{"$f":"(VLOOKUP($B181,[1]EQ!$A$1:$L$2000,9,0)/100000)","v":16.30695}]
[172,"GODREJIND",{"$f":"VLOOKUP($B182,[1]EQ!$A$1:$L$2000,6,0)","v":446.25},{"v":445.8833333333334,"d":"445.88"},{"v":441.46666666666675,"d":"441.47"},{"v":436.6833333333334,"d":"436.68"},{"v":432.26666666666677,"d":"432.27"},{"v":450.66666666666674,"d":"450.67"},{"v":455.08333333333337,"d":"455.08"},{"v":459.86666666666673,"d":"459.87"},{"$f":"VLOOKUP($B182,[1]EQ!$A$1:$L$2000,4,0)","v":450.3},{"$f":"VLOOKUP($B182,[1]EQ!$A$1:$L$2000,5,0)","v":441.1},{"$f":"(VLOOKUP($B182,[1]EQ!$A$1:$L$2000,9,0)/100000)","v":1.22285}]
[173,"GODREJPROP",{"$f":"VLOOKUP($B183,[1]EQ!$A$1:$L$2000,6,0)","v":1522.8},{"v":1518.6000000000001,"d":"1518.60"},{"v":1497.2000000000003,"d":"1497.20"},{"v":1471.6000000000001,"d":"1471.60"},{"v":1450.2000000000003,"d":"1450.20"},{"v":1544.2000000000003,"d":"1544.20"},{"v":1565.6000000000004,"d":"1565.60"},{"v":1591.2000000000003,"d":"1591.20"},{"$f":"VLOOKUP($B183,[1]EQ!$A$1:$L$2000,4,0)","v":1540},{"$f":"VLOOKUP($B183,[1]EQ!$A$1:$L$2000,5,0)","v":1493},{"$f":"(VLOOKUP($B183,[1]EQ!$A$1:$L$2000,9,0)/100000)","v":5.83114}]
[174,"GRANULES",{"$f":"VLOOKUP($B184,[1]EQ!$A$1:$L$2000,6,0)","v":351},{"v":351.6166666666666,"d":"351.62"},{"v":344.58333333333326,"d":"344.58"},{"v":338.16666666666663,"d":"338.17"},{"v":331.13333333333327,"d":"331.13"},{"v":358.03333333333325,"d":"358.03"},{"v":365.06666666666666,"d":"365.07"},{"v":371.48333333333323,"d":"371.48"},{"$f":"VLOOKUP($B184,[1]EQ!$A$1:$L$2000,4,0)","v":358.65},{"$f":"VLOOKUP($B184,[1]EQ!$A$1:$L$2000,5,0)","v":345.2},{"$f":"(VLOOKUP($B184,[1]EQ!$A$1:$L$2000,9,0)/100000)","v":13.17585}]
[175,"GRAPHITE",{"$f":"VLOOKUP($B185,[1]EQ!$A$1:$L$2000,6,0)","v":486.85},{"v":473.0833333333333,"d":"473.08"},{"v":450.3666666666666,"d":"450.37"},{"v":413.8833333333333,"d":"413.88"},{"v":391.16666666666663,"d":"391.17"},{"v":509.5666666666666,"d":"509.57"},{"v":532.2833333333333,"d":"532.28"},{"v":568.7666666666667,"d":"568.77"},{"$f":"VLOOKUP($B185,[1]EQ!$A$1:$L$2000,4,0)","v":495.8},{"$f":"VLOOKUP($B185,[1]EQ!$A$1:$L$2000,5,0)","v":436.6},{"$f":"(VLOOKUP($B185,[1]EQ!$A$1:$L$2000,9,0)/100000)","v":56.72081}]
[176,"GRASIM",{"$f":"VLOOKUP($B186,[1]EQ!$A$1:$L$2000,6,0)","v":1243.75},{"v":1242.1166666666666,"d":"1242.12"},{"v":1227.2333333333331,"d":"1227.23"},{"v":1210.7166666666665,"d":"1210.72"},{"v":1195.833333333333,"d":"1195.83"},{"v":1258.6333333333332,"d":"1258.63"},{"v":1273.5166666666669,"d":"1273.52"},{"v":1290.0333333333333,"d":"1290.03"},{"$f":"VLOOKUP($B186,[1]EQ!$A$1:$L$2000,4,0)","v":1257},{"$f":"VLOOKUP($B186,[1]EQ!$A$1:$L$2000,5,0)","v":1225.6},{"$f":"(VLOOKUP($B186,[1]EQ!$A$1:$L$2000,9,0)/100000)","v":15.61647}]
[177,"GESHIP",{"$f":"VLOOKUP($B187,[1]EQ!$A$1:$L$2000,6,0)","v":258.05},{"v":257.56666666666666,"d":"257.57"},{"v":256.43333333333334,"d":"256.43"},{"v":254.81666666666666,"d":"254.82"},{"v":253.68333333333334,"d":"253.68"},{"v":259.18333333333334,"d":"259.18"},{"v":260.31666666666666,"d":"260.32"},{"v":261.93333333333334,"d":"261.93"},{"$f":"VLOOKUP($B187,[1]EQ!$A$1:$L$2000,4,0)","v":258.7},{"$f":"VLOOKUP($B187,[1]EQ!$A$1:$L$2000,5,0)","v":255.95},{"$f":"(VLOOKUP($B187,[1]EQ!$A$1:$L$2000,9,0)/100000)","v":1.5057}]
[178,"GREAVESCOT",{"$f":"VLOOKUP($B188,[1]EQ!$A$1:$L$2000,6,0)","v":98.95},{"v":97.81666666666668,"d":"97.82"},{"v":95.73333333333335,"d":"95.73"},{"v":92.51666666666667,"d":"92.52"},{"v":90.43333333333334,"d":"90.43"},{"v":101.03333333333336,"d":"101.03"},{"v":103.1166666666667,"d":"103.12"},{"v":106.33333333333337,"d":"106.33"},{"$f":"VLOOKUP($B188,[1]EQ!$A$1:$L$2000,4,0)","v":99.9},{"$f":"VLOOKUP($B188,[1]EQ!$A$1:$L$2000,5,0)","v":94.6},{"$f":"(VLOOKUP($B188,[1]EQ!$A$1:$L$2000,9,0)/100000)","v":66.26534}]
[179,"GRINDWELL",{"$f":"VLOOKUP($B189,[1]EQ!$A$1:$L$2000,6,0)","v":859.5},{"v":871.3333333333334,"d":"871.33"},{"v":843.4666666666667,"d":"843.47"},{"v":827.4333333333333,"d":"827.43"},{"v":799.5666666666666,"d":"799.57"},{"v":887.3666666666668,"d":"887.37"},{"v":915.2333333333333,"d":"915.23"},{"v":931.2666666666669,"d":"931.27"},{"$f":"VLOOKUP($B189,[1]EQ!$A$1:$L$2000,4,0)","v":899.2},{"$f":"VLOOKUP($B189,[1]EQ!$A$1:$L$2000,5,0)","v":855.3},{"$f":"(VLOOKUP($B189,[1]EQ!$A$1:$L$2000,9,0)/100000)","v":0.30128}]
[180,"GUJALKALI",{"$f":"VLOOKUP($B190,[1]EQ!$A$1:$L$2000,6,0)","v":309.9},{"v":313.0333333333333,"d":"313.03"},{"v":306.16666666666663,"d":"306.17"},{"v":302.43333333333334,"d":"302.43"},{"v":295.56666666666666,"d":"295.57"},{"v":316.7666666666666,"d":"316.77"},{"v":323.63333333333327,"d":"323.63"},{"v":327.36666666666656,"d":"327.37"},{"$f":"VLOOKUP($B190,[1]EQ!$A$1:$L$2000,4,0)","v":319.9},{"$f":"VLOOKUP($B190,[1]EQ!$A$1:$L$2000,5,0)","v":309.3},{"$f":"(VLOOKUP($B190,[1]EQ!$A$1:$L$2000,9,0)/100000)","v":2.06616}]
[181,"GAEL",{"$f":"VLOOKUP($B191,[1]EQ!$A$1:$L$2000,6,0)","v":127.6},{"v":127.89999999999999,"d":"127.90"},{"v":125.99999999999997,"d":"126.00"},{"v":124.39999999999998,"d":"124.40"},{"v":122.49999999999996,"d":"122.50"},{"v":129.5,"d":"129.50"},{"v":131.39999999999998,"d":"131.40"},{"v":133,"d":"133.00"},{"$f":"VLOOKUP($B191,[1]EQ!$A$1:$L$2000,4,0)","v":129.8},{"$f":"VLOOKUP($B191,[1]EQ!$A$1:$L$2000,5,0)","v":126.3},{"$f":"(VLOOKUP($B191,[1]EQ!$A$1:$L$2000,9,0)/100000)","v":1.68593}]
[182,"FLUOROCHEM",{"$f":"VLOOKUP($B192,[1]EQ!$A$1:$L$2000,6,0)","v":569.9},570.35,{"v":564.7,"d":"564.70"},{"v":559.5,"d":"559.50"},553.85,{"v":575.5500000000001,"d":"575.55"},{"v":581.1999999999999,"d":"581.20"},{"v":586.4000000000001,"d":"586.40"},{"$f":"VLOOKUP($B192,[1]EQ!$A$1:$L$2000,4,0)","v":576},{"$f":"VLOOKUP($B192,[1]EQ!$A$1:$L$2000,5,0)","v":565.15},{"$f":"(VLOOKUP($B192,[1]EQ!$A$1:$L$2000,9,0)/100000)","v":0.3398}]
[183,"GUJGASLTD",{"$f":"VLOOKUP($B193,[1]EQ!$A$1:$L$2000,6,0)","v":440.3},437.95,{"v":430.9,"d":"430.90"},{"v":421.5,"d":"421.50"},414.45,{"v":447.34999999999997,"d":"447.35"},{"v":454.40000000000003,"d":"454.40"},{"v":463.79999999999995,"d":"463.80"},{"$f":"VLOOKUP($B193,[1]EQ!$A$1:$L$2000,4,0)","v":445},{"$f":"VLOOKUP($B193,[1]EQ!$A$1:$L$2000,5,0)","v":428.55},{"$f":"(VLOOKUP($B193,[1]EQ!$A$1:$L$2000,9,0)/100000)","v":6.23515}]
[184,"GMDCLTD",{"$f":"VLOOKUP($B194,[1]EQ!$A$1:$L$2000,6,0)","v":54.8},{"v":54.96666666666666,"d":"54.97"},{"v":54.283333333333324,"d":"54.28"},{"v":53.766666666666666,"d":"53.77"},{"v":53.08333333333333,"d":"53.08"},{"v":55.48333333333332,"d":"55.48"},{"v":56.16666666666666,"d":"56.17"},{"v":56.683333333333316,"d":"56.68"},{"$f":"VLOOKUP($B194,[1]EQ!$A$1:$L$2000,4,0)","v":55.65},{"$f":"VLOOKUP($B194,[1]EQ!$A$1:$L$2000,5,0)","v":54.45},{"$f":"(VLOOKUP($B194,[1]EQ!$A$1:$L$2000,9,0)/100000)","v":8.90563}]
[185,"GNFC",{"$f":"VLOOKUP($B195,[1]EQ!$A$1:$L$2000,6,0)","v":227.55},{"v":228.6833333333333,"d":"228.68"},{"v":224.36666666666662,"d":"224.37"},{"v":221.1833333333333,"d":"221.18"},{"v":216.86666666666662,"d":"216.87"},{"v":231.86666666666662,"d":"231.87"},{"v":236.18333333333328,"d":"236.18"},{"v":239.36666666666662,"d":"239.37"},{"$f":"VLOOKUP($B195,[1]EQ!$A$1:$L$2000,4,0)","v":233},{"$f":"VLOOKUP($B195,[1]EQ!$A$1:$L$2000,5,0)","v":225.5},{"$f":"(VLOOKUP($B195,[1]EQ!$A$1:$L$2000,9,0)/100000)","v":7.18704}]
[186,"GPPL",{"$f":"VLOOKUP($B196,[1]EQ!$A$1:$L$2000,6,0)","v":95.1},{"v":94.43333333333334,"d":"94.43"},{"v":93.21666666666667,"d":"93.22"},{"v":91.33333333333333,"d":"91.33"},{"v":90.11666666666666,"d":"90.12"},{"v":96.31666666666668,"d":"96.32"},{"v":97.53333333333335,"d":"97.53"},{"v":99.41666666666669,"d":"99.42"},{"$f":"VLOOKUP($B196,[1]EQ!$A$1:$L$2000,4,0)","v":95.65},{"$f":"VLOOKUP($B196,[1]EQ!$A$1:$L$2000,5,0)","v":92.55},{"$f":"(VLOOKUP($B196,[1]EQ!$A$1:$L$2000,9,0)/100000)","v":5.44614}]
[187,"GSFC",{"$f":"VLOOKUP($B197,[1]EQ!$A$1:$L$2000,6,0)","v":76.65},{"v":76.71666666666667,"d":"76.72"},{"v":75.93333333333334,"d":"75.93"},{"v":75.21666666666667,"d":"75.22"},{"v":74.43333333333334,"d":"74.43"},{"v":77.43333333333334,"d":"77.43"},{"v":78.21666666666667,"d":"78.22"},{"v":78.93333333333334,"d":"78.93"},{"$f":"VLOOKUP($B197,[1]EQ!$A$1:$L$2000,4,0)","v":77.5},{"$f":"VLOOKUP($B197,[1]EQ!$A$1:$L$2000,5,0)","v":76},{"$f":"(VLOOKUP($B197,[1]EQ!$A$1:$L$2000,9,0)/100000)","v":4.64565}]
[188,"GSPL",{"$f":"VLOOKUP($B198,[1]EQ!$A$1:$L$2000,6,0)","v":236.3},{"v":235.21666666666667,"d":"235.22"},{"v":233.33333333333334,"d":"233.33"},{"v":230.36666666666667,"d":"230.37"},{"v":228.48333333333335,"d":"228.48"},{"v":238.18333333333334,"d":"238.18"},{"v":240.06666666666666,"d":"240.07"},{"v":243.03333333333333,"d":"243.03"},{"$f":"VLOOKUP($B198,[1]EQ!$A$1:$L$2000,4,0)","v":237.1},{"$f":"VLOOKUP($B198,[1]EQ!$A$1:$L$2000,5,0)","v":232.25},{"$f":"(VLOOKUP($B198,[1]EQ!$A$1:$L$2000,9,0)/100000)","v":8.89909}]
[189,"GULFOILLUB",{"$f":"VLOOKUP($B199,[1]EQ!$A$1:$L$2000,6,0)","v":749.2},{"v":743.5833333333334,"d":"743.58"},{"v":735.7166666666667,"d":"735.72"},{"v":722.2333333333333,"d":"722.23"},{"v":714.3666666666667,"d":"714.37"},{"v":757.0666666666667,"d":"757.07"},{"v":764.9333333333333,"d":"764.93"},{"v":778.4166666666667,"d":"778.42"},{"$f":"VLOOKUP($B199,[1]EQ!$A$1:$L$2000,4,0)","v":751.45},{"$f":"VLOOKUP($B199,[1]EQ!$A$1:$L$2000,5,0)","v":730.1},{"$f":"(VLOOKUP($B199,[1]EQ!$A$1:$L$2000,9,0)/100000)","v":0.22582}]
[190,"HEG",{"$f":"VLOOKUP($B200,[1]EQ!$A$1:$L$2000,6,0)","v":1451.55},{"v":1388.4333333333334,"d":"1388.43"},{"v":1309.8666666666668,"d":"1309.87"},{"v":1168.1833333333334,"d":"1168.18"},{"v":1089.6166666666668,"d":"1089.62"},{"v":1530.1166666666668,"d":"1530.12"},{"v":1608.6833333333334,"d":"1608.68"},{"v":1750.3666666666668,"d":"1750.37"},{"$f":"VLOOKUP($B200,[1]EQ!$A$1:$L$2000,4,0)","v":1467},{"$f":"VLOOKUP($B200,[1]EQ!$A$1:$L$2000,5,0)","v":1246.75},{"$f":"(VLOOKUP($B200,[1]EQ!$A$1:$L$2000,9,0)/100000)","v":30.26131}]
[191,"HCLTECH",{"$f":"VLOOKUP($B201,[1]EQ!$A$1:$L$2000,6,0)","v":952.3},{"v":952.8833333333333,"d":"952.88"},{"v":943.5166666666667,"d":"943.52"},{"v":934.7333333333333,"d":"934.73"},{"v":925.3666666666667,"d":"925.37"},{"v":961.6666666666666,"d":"961.67"},{"v":971.0333333333332,"d":"971.03"},{"v":979.8166666666666,"d":"979.82"},{"$f":"VLOOKUP($B201,[1]EQ!$A$1:$L$2000,4,0)","v":962.25},{"$f":"VLOOKUP($B201,[1]EQ!$A$1:$L$2000,5,0)","v":944.1},{"$f":"(VLOOKUP($B201,[1]EQ!$A$1:$L$2000,9,0)/100000)","v":32.77086}]
[192,"HDFCAMC",{"$f":"VLOOKUP($B202,[1]EQ!$A$1:$L$2000,6,0)","v":3000.55},3009.85,{"v":2971.7,"d":"2971.70"},2942.85,{"v":2904.7,"d":"2904.70"},{"v":3038.7,"d":"3038.70"},{"v":3076.8500000000004,"d":"3076.85"},{"v":3105.7,"d":"3105.70"},{"$f":"VLOOKUP($B202,[1]EQ!$A$1:$L$2000,4,0)","v":3048},{"$f":"VLOOKUP($B202,[1]EQ!$A$1:$L$2000,5,0)","v":2981},{"$f":"(VLOOKUP($B202,[1]EQ!$A$1:$L$2000,9,0)/100000)","v":1.89278}]
[193,"HDFCBANK",{"$f":"VLOOKUP($B203,[1]EQ!$A$1:$L$2000,6,0)","v":1626.65},{"$f":"(C203+K203+L203)/3","v":{"v":1625.3666666666668,"d":"1625.37"}},{"$f":"+(D203*2)-K203","v":{"v":1609.7333333333336,"d":"1609.73"}},{"$f":"+D203-K203+L203","v":{"v":1592.8166666666668,"d":"1592.82"}},{"$f":"L203-2*(K203-D203)","v":{"v":1577.1833333333336,"d":"1577.18"}},{"$f":"(D203*2)-L203","v":{"v":1642.2833333333335,"d":"1642.28"}},{"$f":"+D203+K203-L203","v":{"v":1657.9166666666667,"d":"1657.92"}},{"$f":"K203+2*(D203-L203)","v":{"v":1674.8333333333335,"d":"1674.83"}},{"$f":"VLOOKUP($B203,[1]EQ!$A$1:$L$2000,4,0)","v":1641},{"$f":"VLOOKUP($B203,[1]EQ!$A$1:$L$2000,5,0)","v":1608.45},{"$f":"(VLOOKUP($B203,[1]EQ!$A$1:$L$2000,9,0)/100000)","v":69.48679}]
[194,"HDFCLIFE",{"$f":"VLOOKUP($B204,[1]EQ!$A$1:$L$2000,6,0)","v":695.35},{"v":695.4333333333334,"d":"695.43"},{"v":686.8666666666668,"d":"686.87"},{"v":678.3833333333334,"d":"678.38"},{"v":669.8166666666668,"d":"669.82"},{"v":703.9166666666667,"d":"703.92"},{"v":712.4833333333333,"d":"712.48"},{"v":720.9666666666667,"d":"720.97"},{"$f":"VLOOKUP($B204,[1]EQ!$A$1:$L$2000,4,0)","v":704},{"$f":"VLOOKUP($B204,[1]EQ!$A$1:$L$2000,5,0)","v":686.95},{"$f":"(VLOOKUP($B204,[1]EQ!$A$1:$L$2000,9,0)/100000)","v":30.66134}]
[195,"HFCL",{"$f":"VLOOKUP($B205,[1]EQ!$A$1:$L$2000,6,0)","v":27.4},{"v":27.71666666666667,"d":"27.72"},{"v":26.933333333333337,"d":"26.93"},{"v":26.46666666666667,"d":"26.47"},{"v":25.683333333333337,"d":"25.68"},{"v":28.183333333333337,"d":"28.18"},{"v":28.96666666666667,"d":"28.97"},{"v":29.433333333333337,"d":"29.43"},{"$f":"VLOOKUP($B205,[1]EQ!$A$1:$L$2000,4,0)","v":28.5},{"$f":"VLOOKUP($B205,[1]EQ!$A$1:$L$2000,5,0)","v":27.25},{"$f":"(VLOOKUP($B205,[1]EQ!$A$1:$L$2000,9,0)/100000)","v":61.93943}]
[196,"HATHWAY",{"$f":"VLOOKUP($B206,[1]EQ!$A$1:$L$2000,6,0)","v":30.05},{"v":29.433333333333337,"d":"29.43"},{"v":28.216666666666676,"d":"28.22"},{"v":26.38333333333334,"d":"26.38"},{"v":25.16666666666668,"d":"25.17"},{"v":31.266666666666673,"d":"31.27"},{"v":32.483333333333334,"d":"32.48"},{"v":34.31666666666667,"d":"34.32"},{"$f":"VLOOKUP($B206,[1]EQ!$A$1:$L$2000,4,0)","v":30.65},{"$f":"VLOOKUP($B206,[1]EQ!$A$1:$L$2000,5,0)","v":27.6},{"$f":"(VLOOKUP($B206,[1]EQ!$A$1:$L$2000,9,0)/100000)","v":4.15046}]
[197,"HATSUN",{"$f":"VLOOKUP($B207,[1]EQ!$A$1:$L$2000,6,0)","v":708.5},{"v":710.0166666666668,"d":"710.02"},{"v":704.5333333333335,"d":"704.53"},{"v":700.5666666666667,"d":"700.57"},{"v":695.0833333333335,"d":"695.08"},{"v":713.9833333333336,"d":"713.98"},{"v":719.4666666666669,"d":"719.47"},{"v":723.4333333333336,"d":"723.43"},{"$f":"VLOOKUP($B207,[1]EQ!$A$1:$L$2000,4,0)","v":715.5},{"$f":"VLOOKUP($B207,[1]EQ!$A$1:$L$2000,5,0)","v":706.05},{"$f":"(VLOOKUP($B207,[1]EQ!$A$1:$L$2000,9,0)/100000)","v":0.15378}]
[198,"HAVELLS",{"$f":"VLOOKUP($B208,[1]EQ!$A$1:$L$2000,6,0)","v":1216.15},1200.55,{"v":1179.1,"d":"1179.10"},1142.05,{"v":1120.6,"d":"1120.60"},{"v":1237.6,"d":"1237.60"},{"v":1259.0500000000002,"d":"1259.05"},{"v":1296.1,"d":"1296.10"},{"$f":"VLOOKUP($B208,[1]EQ!$A$1:$L$2000,4,0)","v":1222},{"$f":"VLOOKUP($B208,[1]EQ!$A$1:$L$2000,5,0)","v":1163.5},{"$f":"(VLOOKUP($B208,[1]EQ!$A$1:$L$2000,9,0)/100000)","v":37.15493}]
[199,"HEIDELBERG",{"$f":"VLOOKUP($B209,[1]EQ!$A$1:$L$2000,6,0)","v":234.3},{"v":236.38333333333335,"d":"236.38"},{"v":231.1166666666667,"d":"231.12"},{"v":227.93333333333334,"d":"227.93"},{"v":222.66666666666669,"d":"222.67"},{"v":239.56666666666672,"d":"239.57"},{"v":244.83333333333337,"d":"244.83"},{"v":248.01666666666674,"d":"248.02"},{"$f":"VLOOKUP($B209,[1]EQ!$A$1:$L$2000,4,0)","v":241.65},{"$f":"VLOOKUP($B209,[1]EQ!$A$1:$L$2000,5,0)","v":233.2},{"$f":"(VLOOKUP($B209,[1]EQ!$A$1:$L$2000,9,0)/100000)","v":2.49582}]
[200,"HERITGFOOD",{"$f":"VLOOKUP($B210,[1]EQ!$A$1:$L$2000,6,0)","v":276.5},{"v":276.5,"d":"276.50"},{"v":274.1,"d":"274.10"},{"v":271.70000000000005,"d":"271.70"},{"v":269.30000000000007,"d":"269.30"},{"v":278.9,"d":"278.90"},{"v":281.29999999999995,"d":"281.30"},{"v":283.69999999999993,"d":"283.70"},{"$f":"VLOOKUP($B210,[1]EQ!$A$1:$L$2000,4,0)","v":278.9},{"$f":"VLOOKUP($B210,[1]EQ!$A$1:$L$2000,5,0)","v":274.1},{"$f":"(VLOOKUP($B210,[1]EQ!$A$1:$L$2000,9,0)/100000)","v":0.50375}]
[201,"HEROMOTOCO",{"$f":"VLOOKUP($B211,[1]EQ!$A$1:$L$2000,6,0)","v":3461.55},{"v":3459.616666666667,"d":"3459.62"},{"v":3433.9333333333334,"d":"3433.93"},{"v":3406.3166666666666,"d":"3406.32"},{"v":3380.633333333333,"d":"3380.63"},{"v":3487.2333333333336,"d":"3487.23"},{"v":3512.916666666667,"d":"3512.92"},{"v":3540.5333333333338,"d":"3540.53"},{"$f":"VLOOKUP($B211,[1]EQ!$A$1:$L$2000,4,0)","v":3485.3},{"$f":"VLOOKUP($B211,[1]EQ!$A$1:$L$2000,5,0)","v":3432},{"$f":"(VLOOKUP($B211,[1]EQ!$A$1:$L$2000,9,0)/100000)","v":7.59332}]
[202,"HSCL",{"$f":"VLOOKUP($B212,[1]EQ!$A$1:$L$2000,6,0)","v":44.65},44.85,{"v":44.2,"d":"44.20"},43.75,{"v":43.1,"d":"43.10"},{"v":45.300000000000004,"d":"45.30"},{"v":45.949999999999996,"d":"45.95"},{"v":46.400000000000006,"d":"46.40"},{"$f":"VLOOKUP($B212,[1]EQ!$A$1:$L$2000,4,0)","v":45.5},{"$f":"VLOOKUP($B212,[1]EQ!$A$1:$L$2000,5,0)","v":44.4},{"$f":"(VLOOKUP($B212,[1]EQ!$A$1:$L$2000,9,0)/100000)","v":17.27983}]
[203,"HINDALCO",{"$f":"VLOOKUP($B213,[1]EQ!$A$1:$L$2000,6,0)","v":302.7},{"v":301.01666666666665,"d":"301.02"},{"v":294.6833333333333,"d":"294.68"},{"v":286.66666666666663,"d":"286.67"},{"v":280.33333333333326,"d":"280.33"},{"v":309.0333333333333,"d":"309.03"},{"v":315.3666666666667,"d":"315.37"},{"v":323.3833333333333,"d":"323.38"},{"$f":"VLOOKUP($B213,[1]EQ!$A$1:$L$2000,4,0)","v":307.35},{"$f":"VLOOKUP($B213,[1]EQ!$A$1:$L$2000,5,0)","v":293},{"$f":"(VLOOKUP($B213,[1]EQ!$A$1:$L$2000,9,0)/100000)","v":275.19511}]
[204,"HAL",{"$f":"VLOOKUP($B214,[1]EQ!$A$1:$L$2000,6,0)","v":1017.05},{"v":1019.3166666666666,"d":"1019.32"},{"v":1003.6833333333332,"d":"1003.68"},{"v":990.3166666666666,"d":"990.32"},{"v":974.6833333333332,"d":"974.68"},{"v":1032.6833333333332,"d":"1032.68"},{"v":1048.3166666666664,"d":"1048.32"},{"v":1061.6833333333332,"d":"1061.68"},{"$f":"VLOOKUP($B214,[1]EQ!$A$1:$L$2000,4,0)","v":1034.95},{"$f":"VLOOKUP($B214,[1]EQ!$A$1:$L$2000,5,0)","v":1005.95},{"$f":"(VLOOKUP($B214,[1]EQ!$A$1:$L$2000,9,0)/100000)","v":3.89678}]
[205,"HINDCOPPER",{"$f":"VLOOKUP($B215,[1]EQ!$A$1:$L$2000,6,0)","v":76.4},76.55,{"v":74.44999999999999,"d":"74.45"},{"v":72.49999999999999,"d":"72.50"},{"v":70.39999999999998,"d":"70.40"},{"v":78.5,"d":"78.50"},{"v":80.6,"d":"80.60"},{"v":82.55000000000001,"d":"82.55"},{"$f":"VLOOKUP($B215,[1]EQ!$A$1:$L$2000,4,0)","v":78.65},{"$f":"VLOOKUP($B215,[1]EQ!$A$1:$L$2000,5,0)","v":74.6},{"$f":"(VLOOKUP($B215,[1]EQ!$A$1:$L$2000,9,0)/100000)","v":36.13588}]
[206,"HINDPETRO",{"$f":"VLOOKUP($B216,[1]EQ!$A$1:$L$2000,6,0)","v":225.65},{"v":224.6833333333333,"d":"224.68"},{"v":222.36666666666662,"d":"222.37"},{"v":219.08333333333331,"d":"219.08"},{"v":216.76666666666662,"d":"216.77"},{"v":227.9666666666666,"d":"227.97"},{"v":230.28333333333327,"d":"230.28"},{"v":233.5666666666666,"d":"233.57"},{"$f":"VLOOKUP($B216,[1]EQ!$A$1:$L$2000,4,0)","v":227},{"$f":"VLOOKUP($B216,[1]EQ!$A$1:$L$2000,5,0)","v":221.4},{"$f":"(VLOOKUP($B216,[1]EQ!$A$1:$L$2000,9,0)/100000)","v":71.11409}]
[207,"HINDUNILVR",{"$f":"VLOOKUP($B217,[1]EQ!$A$1:$L$2000,6,0)","v":2196.1},{"v":2205.0666666666666,"d":"2205.07"},{"v":2181.083333333333,"d":"2181.08"},{"v":2166.0666666666666,"d":"2166.07"},{"v":2142.083333333333,"d":"2142.08"},{"v":2220.083333333333,"d":"2220.08"},{"v":2244.0666666666666,"d":"2244.07"},{"v":2259.083333333333,"d":"2259.08"},{"$f":"VLOOKUP($B217,[1]EQ!$A$1:$L$2000,4,0)","v":2229.05},{"$f":"VLOOKUP($B217,[1]EQ!$A$1:$L$2000,5,0)","v":2190.05},{"$f":"(VLOOKUP($B217,[1]EQ!$A$1:$L$2000,9,0)/100000)","v":23.96356}]
[208,"HINDZINC",{"$f":"VLOOKUP($B218,[1]EQ!$A$1:$L$2000,6,0)","v":304.7},{"v":304,"d":"304.00"},298.15,{"v":291.59999999999997,"d":"291.60"},{"v":285.74999999999994,"d":"285.75"},310.55,{"v":316.40000000000003,"d":"316.40"},{"v":322.95000000000005,"d":"322.95"},{"$f":"VLOOKUP($B218,[1]EQ!$A$1:$L$2000,4,0)","v":309.85},{"$f":"VLOOKUP($B218,[1]EQ!$A$1:$L$2000,5,0)","v":297.45},{"$f":"(VLOOKUP($B218,[1]EQ!$A$1:$L$2000,9,0)/100000)","v":26.91599}]
[209,"HONAUT",{"$f":"VLOOKUP($B219,[1]EQ!$A$1:$L$2000,6,0)","v":43347.95},{"v":42998.23333333333,"d":"42998.23"},{"v":42586.46666666666,"d":"42586.47"},{"v":41824.98333333333,"d":"41824.98"},{"v":41413.21666666666,"d":"41413.22"},{"v":43759.71666666666,"d":"43759.72"},{"v":44171.48333333334,"d":"44171.48"},{"v":44932.96666666666,"d":"44932.97"},{"$f":"VLOOKUP($B219,[1]EQ!$A$1:$L$2000,4,0)","v":43410},{"$f":"VLOOKUP($B219,[1]EQ!$A$1:$L$2000,5,0)","v":42236.75},{"$f":"(VLOOKUP($B219,[1]EQ!$A$1:$L$2000,9,0)/100000)","v":0.13624}]
[210,"HUDCO",{"$f":"VLOOKUP($B220,[1]EQ!$A$1:$L$2000,6,0)","v":44.15},44.25,43.65,43.15,42.55,44.75,{"v":45.349999999999994,"d":"45.35"},45.85,{"$f":"VLOOKUP($B220,[1]EQ!$A$1:$L$2000,4,0)","v":44.85},{"$f":"VLOOKUP($B220,[1]EQ!$A$1:$L$2000,5,0)","v":43.75},{"$f":"(VLOOKUP($B220,[1]EQ!$A$1:$L$2000,9,0)/100000)","v":14.20764}]
[211,"HDFC",{"$f":"VLOOKUP($B221,[1]EQ!$A$1:$L$2000,6,0)","v":2858.65},{"v":2864.2166666666667,"d":"2864.22"},{"v":2832.4333333333334,"d":"2832.43"},{"v":2806.2166666666667,"d":"2806.22"},{"v":2774.4333333333334,"d":"2774.43"},{"v":2890.4333333333334,"d":"2890.43"},{"v":2922.216666666667,"d":"2922.22"},{"v":2948.4333333333334,"d":"2948.43"},{"$f":"VLOOKUP($B221,[1]EQ!$A$1:$L$2000,4,0)","v":2896},{"$f":"VLOOKUP($B221,[1]EQ!$A$1:$L$2000,5,0)","v":2838},{"$f":"(VLOOKUP($B221,[1]EQ!$A$1:$L$2000,9,0)/100000)","v":22.951}]
[212,"HUHTAMAKI",{"$f":"VLOOKUP($B222,[1]EQ!$A$1:$L$2000,6,0)","v":317.65},{"v":317.8666666666666,"d":"317.87"},{"v":315.78333333333325,"d":"315.78"},{"v":313.91666666666663,"d":"313.92"},{"v":311.83333333333326,"d":"311.83"},{"v":319.73333333333323,"d":"319.73"},{"v":321.8166666666666,"d":"321.82"},{"v":323.6833333333332,"d":"323.68"},{"$f":"VLOOKUP($B222,[1]EQ!$A$1:$L$2000,4,0)","v":319.95},{"$f":"VLOOKUP($B222,[1]EQ!$A$1:$L$2000,5,0)","v":316},{"$f":"(VLOOKUP($B222,[1]EQ!$A$1:$L$2000,9,0)/100000)","v":0.42652}]
[213,"ICICIBANK",{"$f":"VLOOKUP($B223,[1]EQ!$A$1:$L$2000,6,0)","v":658.35},{"v":662.4333333333333,"d":"662.43"},{"v":645.4666666666666,"d":"645.47"},{"v":632.5833333333333,"d":"632.58"},{"v":615.6166666666666,"d":"615.62"},{"v":675.3166666666666,"d":"675.32"},{"v":692.2833333333333,"d":"692.28"},{"v":705.1666666666666,"d":"705.17"},{"$f":"VLOOKUP($B223,[1]EQ!$A$1:$L$2000,4,0)","v":679.4},{"$f":"VLOOKUP($B223,[1]EQ!$A$1:$L$2000,5,0)","v":649.55},{"$f":"(VLOOKUP($B223,[1]EQ!$A$1:$L$2000,9,0)/100000)","v":249.66739}]
[214,"ICICIGI",{"$f":"VLOOKUP($B224,[1]EQ!$A$1:$L$2000,6,0)","v":1504.9},{"v":1503.8166666666666,"d":"1503.82"},{"v":1488.6333333333332,"d":"1488.63"},{"v":1472.3666666666666,"d":"1472.37"},{"v":1457.1833333333332,"d":"1457.18"},{"v":1520.0833333333333,"d":"1520.08"},{"v":1535.2666666666667,"d":"1535.27"},{"v":1551.5333333333333,"d":"1551.53"},{"$f":"VLOOKUP($B224,[1]EQ!$A$1:$L$2000,4,0)","v":1519},{"$f":"VLOOKUP($B224,[1]EQ!$A$1:$L$2000,5,0)","v":1487.55},{"$f":"(VLOOKUP($B224,[1]EQ!$A$1:$L$2000,9,0)/100000)","v":4.28431}]
[215,"ICICIPRULI",{"$f":"VLOOKUP($B225,[1]EQ!$A$1:$L$2000,6,0)","v":490.75},{"v":490.7833333333333,"d":"490.78"},{"v":486.1166666666666,"d":"486.12"},{"v":481.4833333333333,"d":"481.48"},{"v":476.8166666666666,"d":"476.82"},{"v":495.41666666666663,"d":"495.42"},{"v":500.08333333333337,"d":"500.08"},{"v":504.71666666666664,"d":"504.72"},{"$f":"VLOOKUP($B225,[1]EQ!$A$1:$L$2000,4,0)","v":495.45},{"$f":"VLOOKUP($B225,[1]EQ!$A$1:$L$2000,5,0)","v":486.15},{"$f":"(VLOOKUP($B225,[1]EQ!$A$1:$L$2000,9,0)/100000)","v":19.89191}]
[216,"ISEC",{"$f":"VLOOKUP($B226,[1]EQ!$A$1:$L$2000,6,0)","v":413.85},{"v":415.3,"d":"415.30"},407.85,401.85,{"v":394.40000000000003,"d":"394.40"},{"v":421.3,"d":"421.30"},{"v":428.74999999999994,"d":"428.75"},434.75,{"$f":"VLOOKUP($B226,[1]EQ!$A$1:$L$2000,4,0)","v":422.75},{"$f":"VLOOKUP($B226,[1]EQ!$A$1:$L$2000,5,0)","v":409.3},{"$f":"(VLOOKUP($B226,[1]EQ!$A$1:$L$2000,9,0)/100000)","v":5.13669}]
[217,"ICRA",{"$f":"VLOOKUP($B227,[1]EQ!$A$1:$L$2000,6,0)","v":2821},{"v":2823.316666666667,"d":"2823.32"},{"v":2807.6833333333343,"d":"2807.68"},{"v":2794.3666666666672,"d":"2794.37"},{"v":2778.7333333333345,"d":"2778.73"},{"v":2836.633333333334,"d":"2836.63"},{"v":2852.2666666666664,"d":"2852.27"},{"v":2865.583333333334,"d":"2865.58"},{"$f":"VLOOKUP($B227,[1]EQ!$A$1:$L$2000,4,0)","v":2838.95},{"$f":"VLOOKUP($B227,[1]EQ!$A$1:$L$2000,5,0)","v":2810},{"$f":"(VLOOKUP($B227,[1]EQ!$A$1:$L$2000,9,0)/100000)","v":0.00933}]
[218,"IDBI",{"$f":"VLOOKUP($B228,[1]EQ!$A$1:$L$2000,6,0)","v":28.85},{"v":29.03333333333333,"d":"29.03"},{"v":28.566666666666663,"d":"28.57"},{"v":28.28333333333333,"d":"28.28"},{"v":27.816666666666663,"d":"27.82"},{"v":29.316666666666663,"d":"29.32"},{"v":29.78333333333333,"d":"29.78"},{"v":30.066666666666663,"d":"30.07"},{"$f":"VLOOKUP($B228,[1]EQ!$A$1:$L$2000,4,0)","v":29.5},{"$f":"VLOOKUP($B228,[1]EQ!$A$1:$L$2000,5,0)","v":28.75},{"$f":"(VLOOKUP($B228,[1]EQ!$A$1:$L$2000,9,0)/100000)","v":69.04533}]
[219,"IDFCFIRSTB",{"$f":"VLOOKUP($B229,[1]EQ!$A$1:$L$2000,6,0)","v":53.85},{"v":53.71666666666667,"d":"53.72"},{"v":52.833333333333336,"d":"52.83"},{"v":51.81666666666667,"d":"51.82"},{"v":50.93333333333334,"d":"50.93"},{"v":54.733333333333334,"d":"54.73"},{"v":55.61666666666666,"d":"55.62"},{"v":56.63333333333333,"d":"56.63"},{"$f":"VLOOKUP($B229,[1]EQ!$A$1:$L$2000,4,0)","v":54.6},{"$f":"VLOOKUP($B229,[1]EQ!$A$1:$L$2000,5,0)","v":52.7},{"$f":"(VLOOKUP($B229,[1]EQ!$A$1:$L$2000,9,0)/100000)","v":469.08035}]
[220,"IDFC",{"$f":"VLOOKUP($B230,[1]EQ!$A$1:$L$2000,6,0)","v":47.85},{"v":48.28333333333334,"d":"48.28"},{"v":46.866666666666674,"d":"46.87"},{"v":45.88333333333333,"d":"45.88"},{"v":44.46666666666667,"d":"44.47"},{"v":49.26666666666668,"d":"49.27"},{"v":50.68333333333335,"d":"50.68"},{"v":51.666666666666686,"d":"51.67"},{"$f":"VLOOKUP($B230,[1]EQ!$A$1:$L$2000,4,0)","v":49.7},{"$f":"VLOOKUP($B230,[1]EQ!$A$1:$L$2000,5,0)","v":47.3},{"$f":"(VLOOKUP($B230,[1]EQ!$A$1:$L$2000,9,0)/100000)","v":87.53197}]
[221,"IFBIND",{"$f":"VLOOKUP($B231,[1]EQ!$A$1:$L$2000,6,0)","v":1287.45},{"v":1296.8999999999999,"d":"1296.90"},{"v":1271.5499999999997,"d":"1271.55"},{"v":1255.6499999999999,"d":"1255.65"},{"v":1230.2999999999997,"d":"1230.30"},{"v":1312.7999999999997,"d":"1312.80"},{"v":1338.1499999999996,"d":"1338.15"},{"v":1354.0499999999997,"d":"1354.05"},{"$f":"VLOOKUP($B231,[1]EQ!$A$1:$L$2000,4,0)","v":1322.25},{"$f":"VLOOKUP($B231,[1]EQ!$A$1:$L$2000,5,0)","v":1281},{"$f":"(VLOOKUP($B231,[1]EQ!$A$1:$L$2000,9,0)/100000)","v":0.29734}]
[222,"IIFL",{"$f":"VLOOKUP($B232,[1]EQ!$A$1:$L$2000,6,0)","v":241.6},{"v":244.83333333333334,"d":"244.83"},{"v":236.76666666666668,"d":"236.77"},{"v":231.93333333333334,"d":"231.93"},{"v":223.86666666666667,"d":"223.87"},{"v":249.66666666666669,"d":"249.67"},{"v":257.73333333333335,"d":"257.73"},{"v":262.5666666666667,"d":"262.57"},{"$f":"VLOOKUP($B232,[1]EQ!$A$1:$L$2000,4,0)","v":252.9},{"$f":"VLOOKUP($B232,[1]EQ!$A$1:$L$2000,5,0)","v":240},{"$f":"(VLOOKUP($B232,[1]EQ!$A$1:$L$2000,9,0)/100000)","v":4.93033}]
[223,"IIFLWAM",{"$f":"VLOOKUP($B233,[1]EQ!$A$1:$L$2000,6,0)","v":1225.8},{"v":1232.3166666666668,"d":"1232.32"},{"v":1214.6333333333337,"d":"1214.63"},{"v":1203.466666666667,"d":"1203.47"},{"v":1185.7833333333338,"d":"1185.78"},{"v":1243.4833333333336,"d":"1243.48"},{"v":1261.1666666666665,"d":"1261.17"},{"v":1272.3333333333335,"d":"1272.33"},{"$f":"VLOOKUP($B233,[1]EQ!$A$1:$L$2000,4,0)","v":1250},{"$f":"VLOOKUP($B233,[1]EQ!$A$1:$L$2000,5,0)","v":1221.15},{"$f":"(VLOOKUP($B233,[1]EQ!$A$1:$L$2000,9,0)/100000)","v":0.18749}]
[224,"IOLCP",{"$f":"VLOOKUP($B234,[1]EQ!$A$1:$L$2000,6,0)","v":652.1},{"v":656.9333333333334,"d":"656.93"},{"v":645.1666666666667,"d":"645.17"},{"v":638.2333333333333,"d":"638.23"},{"v":626.4666666666667,"d":"626.47"},{"v":663.8666666666668,"d":"663.87"},{"v":675.6333333333334,"d":"675.63"},{"v":682.5666666666668,"d":"682.57"},{"$f":"VLOOKUP($B234,[1]EQ!$A$1:$L$2000,4,0)","v":668.7},{"$f":"VLOOKUP($B234,[1]EQ!$A$1:$L$2000,5,0)","v":650},{"$f":"(VLOOKUP($B234,[1]EQ!$A$1:$L$2000,9,0)/100000)","v":3.41626}]
[225,"IRB",{"$f":"VLOOKUP($B235,[1]EQ!$A$1:$L$2000,6,0)","v":107.85},{"v":108.53333333333335,"d":"108.53"},{"v":106.81666666666669,"d":"106.82"},{"v":105.78333333333335,"d":"105.78"},{"v":104.06666666666669,"d":"104.07"},{"v":109.56666666666669,"d":"109.57"},{"v":111.28333333333336,"d":"111.28"},{"v":112.31666666666669,"d":"112.32"},{"$f":"VLOOKUP($B235,[1]EQ!$A$1:$L$2000,4,0)","v":110.25},{"$f":"VLOOKUP($B235,[1]EQ!$A$1:$L$2000,5,0)","v":107.5},{"$f":"(VLOOKUP($B235,[1]EQ!$A$1:$L$2000,9,0)/100000)","v":5.93127}]
[226,"IRCON",{"$f":"VLOOKUP($B236,[1]EQ!$A$1:$L$2000,6,0)","v":93.55},{"v":93.59999999999998,"d":"93.60"},{"v":92.29999999999995,"d":"92.30"},{"v":91.04999999999997,"d":"91.05"},{"v":89.74999999999994,"d":"89.75"},{"v":94.84999999999997,"d":"94.85"},96.15,{"v":97.39999999999998,"d":"97.40"},{"$f":"VLOOKUP($B236,[1]EQ!$A$1:$L$2000,4,0)","v":94.9},{"$f":"VLOOKUP($B236,[1]EQ!$A$1:$L$2000,5,0)","v":92.35},{"$f":"(VLOOKUP($B236,[1]EQ!$A$1:$L$2000,9,0)/100000)","v":32.254}]
[227,"ITC",{"$f":"VLOOKUP($B237,[1]EQ!$A$1:$L$2000,6,0)","v":218.25},{"v":219.1,"d":"219.10"},{"v":216.39999999999998,"d":"216.40"},{"v":214.54999999999998,"d":"214.55"},{"v":211.84999999999997,"d":"211.85"},220.95,{"v":223.64999999999998,"d":"223.65"},{"v":225.5,"d":"225.50"},{"$f":"VLOOKUP($B237,[1]EQ!$A$1:$L$2000,4,0)","v":221.8},{"$f":"VLOOKUP($B237,[1]EQ!$A$1:$L$2000,5,0)","v":217.25},{"$f":"(VLOOKUP($B237,[1]EQ!$A$1:$L$2000,9,0)/100000)","v":291.48891}]
[228,"ITI",{"$f":"VLOOKUP($B238,[1]EQ!$A$1:$L$2000,6,0)","v":121.8},{"v":122.11666666666667,"d":"122.12"},{"v":120.93333333333335,"d":"120.93"},{"v":120.06666666666668,"d":"120.07"},{"v":118.88333333333335,"d":"118.88"},{"v":122.98333333333335,"d":"122.98"},{"v":124.16666666666669,"d":"124.17"},{"v":125.03333333333335,"d":"125.03"},{"$f":"VLOOKUP($B238,[1]EQ!$A$1:$L$2000,4,0)","v":123.3},{"$f":"VLOOKUP($B238,[1]EQ!$A$1:$L$2000,5,0)","v":121.25},{"$f":"(VLOOKUP($B238,[1]EQ!$A$1:$L$2000,9,0)/100000)","v":2.34471}]
[229,"INDIACEM",{"$f":"VLOOKUP($B239,[1]EQ!$A$1:$L$2000,6,0)","v":170.15},{"v":171,"d":"171.00"},167.15,164.15,{"v":160.3,"d":"160.30"},{"v":174,"d":"174.00"},{"v":177.85000000000002,"d":"177.85"},180.85,{"$f":"VLOOKUP($B239,[1]EQ!$A$1:$L$2000,4,0)","v":174.85},{"$f":"VLOOKUP($B239,[1]EQ!$A$1:$L$2000,5,0)","v":168},{"$f":"(VLOOKUP($B239,[1]EQ!$A$1:$L$2000,9,0)/100000)","v":20.01518}]
[230,"IBULHSGFIN",{"$f":"VLOOKUP($B240,[1]EQ!$A$1:$L$2000,6,0)","v":226.1},{"v":224.6833333333333,"d":"224.68"},{"v":219.9666666666666,"d":"219.97"},{"v":213.83333333333331,"d":"213.83"},{"v":209.11666666666662,"d":"209.12"},{"v":230.8166666666666,"d":"230.82"},{"v":235.5333333333333,"d":"235.53"},{"v":241.6666666666666,"d":"241.67"},{"$f":"VLOOKUP($B240,[1]EQ!$A$1:$L$2000,4,0)","v":229.4},{"$f":"VLOOKUP($B240,[1]EQ!$A$1:$L$2000,5,0)","v":218.55},{"$f":"(VLOOKUP($B240,[1]EQ!$A$1:$L$2000,9,0)/100000)","v":200.97806}]
[231,"IBREALEST",{"$f":"VLOOKUP($B241,[1]EQ!$A$1:$L$2000,6,0)","v":85.1},{"v":84.53333333333335,"d":"84.53"},{"v":81.86666666666669,"d":"81.87"},{"v":78.63333333333334,"d":"78.63"},{"v":75.96666666666668,"d":"75.97"},{"v":87.7666666666667,"d":"87.77"},{"v":90.43333333333335,"d":"90.43"},{"v":93.6666666666667,"d":"93.67"},{"$f":"VLOOKUP($B241,[1]EQ!$A$1:$L$2000,4,0)","v":87.2},{"$f":"VLOOKUP($B241,[1]EQ!$A$1:$L$2000,5,0)","v":81.3},{"$f":"(VLOOKUP($B241,[1]EQ!$A$1:$L$2000,9,0)/100000)","v":54.55611}]
[232,"INDIAMART",{"$f":"VLOOKUP($B242,[1]EQ!$A$1:$L$2000,6,0)","v":8855.85},{"v":8960.783333333333,"d":"8960.78"},{"v":8697.066666666666,"d":"8697.07"},{"v":8538.283333333333,"d":"8538.28"},{"v":8274.566666666666,"d":"8274.57"},{"v":9119.566666666666,"d":"9119.57"},{"v":9383.283333333333,"d":"9383.28"},{"v":9542.066666666666,"d":"9542.07"},{"$f":"VLOOKUP($B242,[1]EQ!$A$1:$L$2000,4,0)","v":9224.5},{"$f":"VLOOKUP($B242,[1]EQ!$A$1:$L$2000,5,0)","v":8802},{"$f":"(VLOOKUP($B242,[1]EQ!$A$1:$L$2000,9,0)/100000)","v":0.94314}]
[233,"INDIANB",{"$f":"VLOOKUP($B243,[1]EQ!$A$1:$L$2000,6,0)","v":129.85},{"v":131.03333333333333,"d":"131.03"},{"v":125.06666666666666,"d":"125.07"},{"v":120.28333333333333,"d":"120.28"},{"v":114.31666666666666,"d":"114.32"},{"v":135.81666666666666,"d":"135.82"},{"v":141.7833333333333,"d":"141.78"},{"v":146.56666666666666,"d":"146.57"},{"$f":"VLOOKUP($B243,[1]EQ!$A$1:$L$2000,4,0)","v":137},{"$f":"VLOOKUP($B243,[1]EQ!$A$1:$L$2000,5,0)","v":126.25},{"$f":"(VLOOKUP($B243,[1]EQ!$A$1:$L$2000,9,0)/100000)","v":119.71941}]
[234,"IEX",{"$f":"VLOOKUP($B244,[1]EQ!$A$1:$L$2000,6,0)","v":277.2},{"v":282.6,"d":"282.60"},{"v":271.20000000000005,"d":"271.20"},{"v":265.20000000000005,"d":"265.20"},{"v":253.80000000000007,"d":"253.80"},{"v":288.6,"d":"288.60"},{"v":300,"d":"300.00"},{"v":306,"d":"306.00"},{"$f":"VLOOKUP($B244,[1]EQ!$A$1:$L$2000,4,0)","v":294},{"$f":"VLOOKUP($B244,[1]EQ!$A$1:$L$2000,5,0)","v":276.6},{"$f":"(VLOOKUP($B244,[1]EQ!$A$1:$L$2000,9,0)/100000)","v":15.492}]
[235,"INDHOTEL",{"$f":"VLOOKUP($B245,[1]EQ!$A$1:$L$2000,6,0)","v":126.8},{"v":128.46666666666667,"d":"128.47"},{"v":124.33333333333334,"d":"124.33"},{"v":121.86666666666667,"d":"121.87"},{"v":117.73333333333335,"d":"117.73"},{"v":130.93333333333334,"d":"130.93"},{"v":135.06666666666666,"d":"135.07"},{"v":137.53333333333333,"d":"137.53"},{"$f":"VLOOKUP($B245,[1]EQ!$A$1:$L$2000,4,0)","v":132.6},{"$f":"VLOOKUP($B245,[1]EQ!$A$1:$L$2000,5,0)","v":126},{"$f":"(VLOOKUP($B245,[1]EQ!$A$1:$L$2000,9,0)/100000)","v":52.26027}]
[236,"IOC",{"$f":"VLOOKUP($B246,[1]EQ!$A$1:$L$2000,6,0)","v":95.6},{"v":95.36666666666667,"d":"95.37"},{"v":94.23333333333335,"d":"94.23"},{"v":92.86666666666667,"d":"92.87"},{"v":91.73333333333335,"d":"91.73"},{"v":96.73333333333335,"d":"96.73"},{"v":97.86666666666667,"d":"97.87"},{"v":99.23333333333335,"d":"99.23"},{"$f":"VLOOKUP($B246,[1]EQ!$A$1:$L$2000,4,0)","v":96.5},{"$f":"VLOOKUP($B246,[1]EQ!$A$1:$L$2000,5,0)","v":94},{"$f":"(VLOOKUP($B246,[1]EQ!$A$1:$L$2000,9,0)/100000)","v":248.69144}]
[237,"IOB",{"$f":"VLOOKUP($B247,[1]EQ!$A$1:$L$2000,6,0)","v":13.1},{"v":12.700000000000001,"d":"12.70"},{"v":12.300000000000002,"d":"12.30"},{"v":11.500000000000002,"d":"11.50"},{"v":11.100000000000003,"d":"11.10"},{"v":13.500000000000002,"d":"13.50"},{"v":13.9,"d":"13.90"},{"v":14.700000000000001,"d":"14.70"},{"$f":"VLOOKUP($B247,[1]EQ!$A$1:$L$2000,4,0)","v":13.1},{"$f":"VLOOKUP($B247,[1]EQ!$A$1:$L$2000,5,0)","v":11.9},{"$f":"(VLOOKUP($B247,[1]EQ!$A$1:$L$2000,9,0)/100000)","v":1205.12679}]
[238,"IRCTC",{"$f":"VLOOKUP($B248,[1]EQ!$A$1:$L$2000,6,0)","v":1674.15},{"v":1689.9666666666665,"d":"1689.97"},{"v":1646.183333333333,"d":"1646.18"},{"v":1618.2166666666665,"d":"1618.22"},{"v":1574.433333333333,"d":"1574.43"},{"v":1717.933333333333,"d":"1717.93"},{"v":1761.7166666666662,"d":"1761.72"},{"v":1789.683333333333,"d":"1789.68"},{"$f":"VLOOKUP($B248,[1]EQ!$A$1:$L$2000,4,0)","v":1733.75},{"$f":"VLOOKUP($B248,[1]EQ!$A$1:$L$2000,5,0)","v":1662},{"$f":"(VLOOKUP($B248,[1]EQ!$A$1:$L$2000,9,0)/100000)","v":17.7637}]
[239,"INDOCO",{"$f":"VLOOKUP($B249,[1]EQ!$A$1:$L$2000,6,0)","v":292.8},{"v":294.48333333333335,"d":"294.48"},{"v":290.3166666666667,"d":"290.32"},{"v":287.83333333333337,"d":"287.83"},{"v":283.66666666666674,"d":"283.67"},{"v":296.9666666666667,"d":"296.97"},{"v":301.1333333333333,"d":"301.13"},{"v":303.6166666666667,"d":"303.62"},{"$f":"VLOOKUP($B249,[1]EQ!$A$1:$L$2000,4,0)","v":298.65},{"$f":"VLOOKUP($B249,[1]EQ!$A$1:$L$2000,5,0)","v":292},{"$f":"(VLOOKUP($B249,[1]EQ!$A$1:$L$2000,9,0)/100000)","v":0.42526}]
[240,"IGL",{"$f":"VLOOKUP($B250,[1]EQ!$A$1:$L$2000,6,0)","v":547.65},{"v":547.6833333333333,"d":"547.68"},{"v":538.5666666666666,"d":"538.57"},{"v":529.4833333333333,"d":"529.48"},{"v":520.3666666666667,"d":"520.37"},{"v":556.7666666666665,"d":"556.77"},{"v":565.8833333333331,"d":"565.88"},{"v":574.9666666666665,"d":"574.97"},{"$f":"VLOOKUP($B250,[1]EQ!$A$1:$L$2000,4,0)","v":556.8},{"$f":"VLOOKUP($B250,[1]EQ!$A$1:$L$2000,5,0)","v":538.6},{"$f":"(VLOOKUP($B250,[1]EQ!$A$1:$L$2000,9,0)/100000)","v":23.23058}]
[241,"INDUSTOWER",{"$f":"VLOOKUP($B251,[1]EQ!$A$1:$L$2000,6,0)","v":247.15},{"v":247.8166666666667,"d":"247.82"},{"v":243.4333333333334,"d":"243.43"},{"v":239.7166666666667,"d":"239.72"},{"v":235.3333333333334,"d":"235.33"},{"v":251.5333333333334,"d":"251.53"},{"v":255.91666666666666,"d":"255.92"},{"v":259.6333333333334,"d":"259.63"},{"$f":"VLOOKUP($B251,[1]EQ!$A$1:$L$2000,4,0)","v":252.2},{"$f":"VLOOKUP($B251,[1]EQ!$A$1:$L$2000,5,0)","v":244.1},{"$f":"(VLOOKUP($B251,[1]EQ!$A$1:$L$2000,9,0)/100000)","v":31.84642}]
[242,"INDUSINDBK",{"$f":"VLOOKUP($B252,[1]EQ!$A$1:$L$2000,6,0)","v":1058.25},{"v":1065.2833333333333,"d":"1065.28"},{"v":1034.0666666666666,"d":"1034.07"},{"v":1009.8833333333332,"d":"1009.88"},{"v":978.6666666666665,"d":"978.67"},{"v":1089.4666666666667,"d":"1089.47"},{"v":1120.6833333333334,"d":"1120.68"},{"v":1144.8666666666668,"d":"1144.87"},{"$f":"VLOOKUP($B252,[1]EQ!$A$1:$L$2000,4,0)","v":1096.5},{"$f":"VLOOKUP($B252,[1]EQ!$A$1:$L$2000,5,0)","v":1041.1},{"$f":"(VLOOKUP($B252,[1]EQ!$A$1:$L$2000,9,0)/100000)","v":138.83441}]
[243,"NAUKRI",{"$f":"VLOOKUP($B253,[1]EQ!$A$1:$L$2000,6,0)","v":5095.2},{"v":5216.166666666667,"d":"5216.17"},{"v":4881.233333333334,"d":"4881.23"},{"v":4667.266666666666,"d":"4667.27"},{"v":4332.333333333333,"d":"4332.33"},{"v":5430.133333333334,"d":"5430.13"},{"v":5765.066666666667,"d":"5765.07"},{"v":5979.033333333335,"d":"5979.03"},{"$f":"VLOOKUP($B253,[1]EQ!$A$1:$L$2000,4,0)","v":5551.1},{"$f":"VLOOKUP($B253,[1]EQ!$A$1:$L$2000,5,0)","v":5002.2},{"$f":"(VLOOKUP($B253,[1]EQ!$A$1:$L$2000,9,0)/100000)","v":18.02188}]
[244,"INFY",{"$f":"VLOOKUP($B254,[1]EQ!$A$1:$L$2000,6,0)","v":1290.4},{"v":1298.7166666666667,"d":"1298.72"},{"v":1277.6833333333334,"d":"1277.68"},{"v":1264.9666666666667,"d":"1264.97"},{"v":1243.9333333333334,"d":"1243.93"},{"v":1311.4333333333334,"d":"1311.43"},{"v":1332.4666666666667,"d":"1332.47"},{"v":1345.1833333333334,"d":"1345.18"},{"$f":"VLOOKUP($B254,[1]EQ!$A$1:$L$2000,4,0)","v":1319.75},{"$f":"VLOOKUP($B254,[1]EQ!$A$1:$L$2000,5,0)","v":1286},{"$f":"(VLOOKUP($B254,[1]EQ!$A$1:$L$2000,9,0)/100000)","v":68.96421}]
[245,"INGERRAND",{"$f":"VLOOKUP($B255,[1]EQ!$A$1:$L$2000,6,0)","v":761.2},{"v":770.6666666666666,"d":"770.67"},{"v":746.5333333333333,"d":"746.53"},{"v":731.8666666666667,"d":"731.87"},{"v":707.7333333333333,"d":"707.73"},{"v":785.3333333333333,"d":"785.33"},{"v":809.4666666666667,"d":"809.47"},{"v":824.1333333333332,"d":"824.13"},{"$f":"VLOOKUP($B255,[1]EQ!$A$1:$L$2000,4,0)","v":794.8},{"$f":"VLOOKUP($B255,[1]EQ!$A$1:$L$2000,5,0)","v":756},{"$f":"(VLOOKUP($B255,[1]EQ!$A$1:$L$2000,9,0)/100000)","v":0.7276}]
[246,"INOXLEISUR",{"$f":"VLOOKUP($B256,[1]EQ!$A$1:$L$2000,6,0)","v":328.45},{"v":328.81666666666666,"d":"328.82"},{"v":326.1333333333333,"d":"326.13"},{"v":323.81666666666666,"d":"323.82"},{"v":321.1333333333333,"d":"321.13"},{"v":331.1333333333333,"d":"331.13"},{"v":333.8166666666666,"d":"333.82"},{"v":336.1333333333333,"d":"336.13"},{"$f":"VLOOKUP($B256,[1]EQ!$A$1:$L$2000,4,0)","v":331.5},{"$f":"VLOOKUP($B256,[1]EQ!$A$1:$L$2000,5,0)","v":326.5},{"$f":"(VLOOKUP($B256,[1]EQ!$A$1:$L$2000,9,0)/100000)","v":2.98644}]
[247,"INDIGO",{"$f":"VLOOKUP($B257,[1]EQ!$A$1:$L$2000,6,0)","v":1610.45},{"v":1617.7166666666665,"d":"1617.72"},{"v":1588.883333333333,"d":"1588.88"},{"v":1567.3166666666666,"d":"1567.32"},{"v":1538.4833333333331,"d":"1538.48"},{"v":1639.2833333333328,"d":"1639.28"},{"v":1668.1166666666663,"d":"1668.12"},{"v":1689.6833333333327,"d":"1689.68"},{"$f":"VLOOKUP($B257,[1]EQ!$A$1:$L$2000,4,0)","v":1646.55},{"$f":"VLOOKUP($B257,[1]EQ!$A$1:$L$2000,5,0)","v":1596.15},{"$f":"(VLOOKUP($B257,[1]EQ!$A$1:$L$2000,9,0)/100000)","v":9.29036}]
[248,"IPCALAB",{"$f":"VLOOKUP($B258,[1]EQ!$A$1:$L$2000,6,0)","v":1901.25},{"v":1896,"d":"1896.00"},{"v":1883.2,"d":"1883.20"},1865.15,{"v":1852.3500000000001,"d":"1852.35"},1914.05,{"v":1926.8500000000001,"d":"1926.85"},{"v":1944.8999999999999,"d":"1944.90"},{"$f":"VLOOKUP($B258,[1]EQ!$A$1:$L$2000,4,0)","v":1908.8},{"$f":"VLOOKUP($B258,[1]EQ!$A$1:$L$2000,5,0)","v":1877.95},{"$f":"(VLOOKUP($B258,[1]EQ!$A$1:$L$2000,9,0)/100000)","v":2.36624}]
[249,"JBCHEPHARM",{"$f":"VLOOKUP($B259,[1]EQ!$A$1:$L$2000,6,0)","v":1248.15},{"v":1241.0166666666667,"d":"1241.02"},{"v":1222.4333333333334,"d":"1222.43"},{"v":1196.7166666666667,"d":"1196.72"},{"v":1178.1333333333334,"d":"1178.13"},{"v":1266.7333333333333,"d":"1266.73"},{"v":1285.3166666666668,"d":"1285.32"},{"v":1311.0333333333333,"d":"1311.03"},{"$f":"VLOOKUP($B259,[1]EQ!$A$1:$L$2000,4,0)","v":1259.6},{"$f":"VLOOKUP($B259,[1]EQ!$A$1:$L$2000,5,0)","v":1215.3},{"$f":"(VLOOKUP($B259,[1]EQ!$A$1:$L$2000,9,0)/100000)","v":2.23891}]
[250,"JKCEMENT",{"$f":"VLOOKUP($B260,[1]EQ!$A$1:$L$2000,6,0)","v":2695.55},{"v":2732,"d":"2732.00"},2644.05,2592.55,{"v":2504.6000000000004,"d":"2504.60"},{"v":2783.5,"d":"2783.50"},2871.45,2922.95,{"$f":"VLOOKUP($B260,[1]EQ!$A$1:$L$2000,4,0)","v":2819.95},{"$f":"VLOOKUP($B260,[1]EQ!$A$1:$L$2000,5,0)","v":2680.5},{"$f":"(VLOOKUP($B260,[1]EQ!$A$1:$L$2000,9,0)/100000)","v":1.67055}]
[251,"JKLAKSHMI",{"$f":"VLOOKUP($B261,[1]EQ!$A$1:$L$2000,6,0)","v":378.55},{"v":376.7833333333333,"d":"376.78"},{"v":373.5666666666666,"d":"373.57"},{"v":368.5833333333333,"d":"368.58"},{"v":365.3666666666666,"d":"365.37"},{"v":381.7666666666666,"d":"381.77"},{"v":384.9833333333333,"d":"384.98"},{"v":389.9666666666666,"d":"389.97"},{"$f":"VLOOKUP($B261,[1]EQ!$A$1:$L$2000,4,0)","v":380},{"$f":"VLOOKUP($B261,[1]EQ!$A$1:$L$2000,5,0)","v":371.8},{"$f":"(VLOOKUP($B261,[1]EQ!$A$1:$L$2000,9,0)/100000)","v":3.16009}]
[252,"JKPAPER",{"$f":"VLOOKUP($B262,[1]EQ!$A$1:$L$2000,6,0)","v":140.65},{"v":140.6,"d":"140.60"},138.25,135.85,{"v":133.5,"d":"133.50"},{"v":143,"d":"143.00"},{"v":145.34999999999997,"d":"145.35"},147.75,{"$f":"VLOOKUP($B262,[1]EQ!$A$1:$L$2000,4,0)","v":142.95},{"$f":"VLOOKUP($B262,[1]EQ!$A$1:$L$2000,5,0)","v":138.2},{"$f":"(VLOOKUP($B262,[1]EQ!$A$1:$L$2000,9,0)/100000)","v":14.88136}]
[253,"JKTYRE",{"$f":"VLOOKUP($B263,[1]EQ!$A$1:$L$2000,6,0)","v":125.25},{"v":125.8,"d":"125.80"},123.75,122.25,{"v":120.2,"d":"120.20"},{"v":127.3,"d":"127.30"},{"v":129.34999999999997,"d":"129.35"},130.85,{"$f":"VLOOKUP($B263,[1]EQ!$A$1:$L$2000,4,0)","v":127.85},{"$f":"VLOOKUP($B263,[1]EQ!$A$1:$L$2000,5,0)","v":124.3},{"$f":"(VLOOKUP($B263,[1]EQ!$A$1:$L$2000,9,0)/100000)","v":16.83104}]
[254,"JMFINANCIL",{"$f":"VLOOKUP($B264,[1]EQ!$A$1:$L$2000,6,0)","v":93.4},{"v":92.46666666666665,"d":"92.47"},{"v":90.83333333333331,"d":"90.83"},{"v":88.26666666666667,"d":"88.27"},{"v":86.63333333333333,"d":"86.63"},{"v":95.0333333333333,"d":"95.03"},{"v":96.66666666666666,"d":"96.67"},{"v":99.23333333333329,"d":"99.23"},{"$f":"VLOOKUP($B264,[1]EQ!$A$1:$L$2000,4,0)","v":94.1},{"$f":"VLOOKUP($B264,[1]EQ!$A$1:$L$2000,5,0)","v":89.9},{"$f":"(VLOOKUP($B264,[1]EQ!$A$1:$L$2000,9,0)/100000)","v":11.2743}]
[255,"JSWENERGY",{"$f":"VLOOKUP($B265,[1]EQ!$A$1:$L$2000,6,0)","v":75},{"v":75.26666666666667,"d":"75.27"},{"v":73.78333333333333,"d":"73.78"},{"v":72.56666666666666,"d":"72.57"},{"v":71.08333333333333,"d":"71.08"},{"v":76.48333333333333,"d":"76.48"},{"v":77.96666666666665,"d":"77.97"},{"v":79.18333333333334,"d":"79.18"},{"$f":"VLOOKUP($B265,[1]EQ!$A$1:$L$2000,4,0)","v":76.75},{"$f":"VLOOKUP($B265,[1]EQ!$A$1:$L$2000,5,0)","v":74.05},{"$f":"(VLOOKUP($B265,[1]EQ!$A$1:$L$2000,9,0)/100000)","v":27.64907}]
[256,"JSWSTEEL",{"$f":"VLOOKUP($B266,[1]EQ!$A$1:$L$2000,6,0)","v":407.65},{"v":411.0833333333333,"d":"411.08"},{"v":400.26666666666665,"d":"400.27"},{"v":392.8833333333333,"d":"392.88"},{"v":382.06666666666666,"d":"382.07"},{"v":418.46666666666664,"d":"418.47"},{"v":429.28333333333336,"d":"429.28"},{"v":436.66666666666663,"d":"436.67"},{"$f":"VLOOKUP($B266,[1]EQ!$A$1:$L$2000,4,0)","v":421.9},{"$f":"VLOOKUP($B266,[1]EQ!$A$1:$L$2000,5,0)","v":403.7},{"$f":"(VLOOKUP($B266,[1]EQ!$A$1:$L$2000,9,0)/100000)","v":105.94928}]
[257,"JTEKTINDIA",{"$f":"VLOOKUP($B267,[1]EQ!$A$1:$L$2000,6,0)","v":88.9},{"$f":"(C267+K267+L267)/3","v":{"v":89.65000000000002,"d":"89.65"}},{"$f":"+(D267*2)-K267","v":{"v":87.60000000000004,"d":"87.60"}},{"$f":"+D267-K267+L267","v":{"v":86.30000000000001,"d":"86.30"}},{"$f":"L267-2*(K267-D267)","v":{"v":84.25000000000003,"d":"84.25"}},{"$f":"(D267*2)-L267","v":{"v":90.95000000000005,"d":"90.95"}},{"$f":"+D267+K267-L267","v":{"v":93.00000000000003,"d":"93.00"}},{"$f":"K267+2*(D267-L267)","v":{"v":94.30000000000005,"d":"94.30"}},{"$f":"VLOOKUP($B267,[1]EQ!$A$1:$L$2000,4,0)","v":91.7},{"$f":"VLOOKUP($B267,[1]EQ!$A$1:$L$2000,5,0)","v":88.35},{"$f":"(VLOOKUP($B267,[1]EQ!$A$1:$L$2000,9,0)/100000)","v":2.80436}]
[258,"JAGRAN",{"$f":"VLOOKUP($B268,[1]EQ!$A$1:$L$2000,6,0)","v":43.95},{"v":44.366666666666674,"d":"44.37"},{"v":43.13333333333335,"d":"43.13"},{"v":42.31666666666667,"d":"42.32"},{"v":41.08333333333334,"d":"41.08"},{"v":45.18333333333335,"d":"45.18"},{"v":46.41666666666667,"d":"46.42"},{"v":47.233333333333356,"d":"47.23"},{"$f":"VLOOKUP($B268,[1]EQ!$A$1:$L$2000,4,0)","v":45.6},{"$f":"VLOOKUP($B268,[1]EQ!$A$1:$L$2000,5,0)","v":43.55},{"$f":"(VLOOKUP($B268,[1]EQ!$A$1:$L$2000,9,0)/100000)","v":6.24961}]
[259,"JAICORPLTD",{"$f":"VLOOKUP($B269,[1]EQ!$A$1:$L$2000,6,0)","v":88.4},{"v":88.90000000000002,"d":"88.90"},{"v":87.60000000000004,"d":"87.60"},{"v":86.80000000000001,"d":"86.80"},{"v":85.50000000000003,"d":"85.50"},{"v":89.70000000000005,"d":"89.70"},{"v":91.00000000000003,"d":"91.00"},{"v":91.80000000000005,"d":"91.80"},{"$f":"VLOOKUP($B269,[1]EQ!$A$1:$L$2000,4,0)","v":90.2},{"$f":"VLOOKUP($B269,[1]EQ!$A$1:$L$2000,5,0)","v":88.1},{"$f":"(VLOOKUP($B269,[1]EQ!$A$1:$L$2000,9,0)/100000)","v":4.96073}]
[260,"J&KBANK",{"$f":"VLOOKUP($B270,[1]EQ!$A$1:$L$2000,6,0)","v":28.8},{"v":29.083333333333332,"d":"29.08"},{"v":28.316666666666663,"d":"28.32"},{"v":27.833333333333332,"d":"27.83"},{"v":27.066666666666663,"d":"27.07"},{"v":29.566666666666663,"d":"29.57"},{"v":30.333333333333336,"d":"30.33"},{"v":30.816666666666663,"d":"30.82"},{"$f":"VLOOKUP($B270,[1]EQ!$A$1:$L$2000,4,0)","v":29.85},{"$f":"VLOOKUP($B270,[1]EQ!$A$1:$L$2000,5,0)","v":28.6},{"$f":"(VLOOKUP($B270,[1]EQ!$A$1:$L$2000,9,0)/100000)","v":34.66567}]
[261,"JAMNAAUTO",{"$f":"VLOOKUP($B271,[1]EQ!$A$1:$L$2000,6,0)","v":69.85},{"v":70.08333333333333,"d":"70.08"},{"v":68.81666666666666,"d":"68.82"},{"v":67.78333333333333,"d":"67.78"},{"v":66.51666666666667,"d":"66.52"},{"v":71.11666666666666,"d":"71.12"},{"v":72.38333333333334,"d":"72.38"},{"v":73.41666666666666,"d":"73.42"},{"$f":"VLOOKUP($B271,[1]EQ!$A$1:$L$2000,4,0)","v":71.35},{"$f":"VLOOKUP($B271,[1]EQ!$A$1:$L$2000,5,0)","v":69.05},{"$f":"(VLOOKUP($B271,[1]EQ!$A$1:$L$2000,9,0)/100000)","v":10.38368}]
[262,"JINDALSAW",{"$f":"VLOOKUP($B272,[1]EQ!$A$1:$L$2000,6,0)","v":71.25},{"v":71.51666666666667,"d":"71.52"},{"v":70.33333333333333,"d":"70.33"},{"v":69.41666666666666,"d":"69.42"},{"v":68.23333333333332,"d":"68.23"},{"v":72.43333333333334,"d":"72.43"},{"v":73.61666666666667,"d":"73.62"},{"v":74.53333333333335,"d":"74.53"},{"$f":"VLOOKUP($B272,[1]EQ!$A$1:$L$2000,4,0)","v":72.7},{"$f":"VLOOKUP($B272,[1]EQ!$A$1:$L$2000,5,0)","v":70.6},{"$f":"(VLOOKUP($B272,[1]EQ!$A$1:$L$2000,9,0)/100000)","v":18.72325}]
[263,"JSLHISAR",{"$f":"VLOOKUP($B273,[1]EQ!$A$1:$L$2000,6,0)","v":124.8},{"v":123.83333333333333,"d":"123.83"},{"v":122.16666666666666,"d":"122.17"},{"v":119.53333333333333,"d":"119.53"},{"v":117.86666666666666,"d":"117.87"},{"v":126.46666666666665,"d":"126.47"},{"v":128.13333333333333,"d":"128.13"},{"v":130.76666666666665,"d":"130.77"},{"$f":"VLOOKUP($B273,[1]EQ!$A$1:$L$2000,4,0)","v":125.5},{"$f":"VLOOKUP($B273,[1]EQ!$A$1:$L$2000,5,0)","v":121.2},{"$f":"(VLOOKUP($B273,[1]EQ!$A$1:$L$2000,9,0)/100000)","v":4.05731}]
[264,"JSL",{"$f":"VLOOKUP($B274,[1]EQ!$A$1:$L$2000,6,0)","v":71.65},{"v":72.2,"d":"72.20"},70.25,68.85,{"v":66.89999999999999,"d":"66.90"},{"v":73.60000000000001,"d":"73.60"},{"v":75.55000000000003,"d":"75.55"},{"v":76.95000000000002,"d":"76.95"},{"$f":"VLOOKUP($B274,[1]EQ!$A$1:$L$2000,4,0)","v":74.15},{"$f":"VLOOKUP($B274,[1]EQ!$A$1:$L$2000,5,0)","v":70.8},{"$f":"(VLOOKUP($B274,[1]EQ!$A$1:$L$2000,9,0)/100000)","v":9.69825}]
[265,"JINDALSTEL",{"$f":"VLOOKUP($B275,[1]EQ!$A$1:$L$2000,6,0)","v":332.65},{"v":325.7833333333333,"d":"325.78"},{"v":315.66666666666663,"d":"315.67"},{"v":298.68333333333334,"d":"298.68"},{"v":288.56666666666666,"d":"288.57"},{"v":342.7666666666666,"d":"342.77"},{"v":352.88333333333327,"d":"352.88"},{"v":369.86666666666656,"d":"369.87"},{"$f":"VLOOKUP($B275,[1]EQ!$A$1:$L$2000,4,0)","v":335.9},{"$f":"VLOOKUP($B275,[1]EQ!$A$1:$L$2000,5,0)","v":308.8},{"$f":"(VLOOKUP($B275,[1]EQ!$A$1:$L$2000,9,0)/100000)","v":263.20619}]
[266,"JCHAC",{"$f":"VLOOKUP($B276,[1]EQ!$A$1:$L$2000,6,0)","v":2464.25},{"v":2472.5,"d":"2472.50"},2430.15,2396.05,{"v":2353.7000000000003,"d":"2353.70"},{"v":2506.6,"d":"2506.60"},{"v":2548.9500000000003,"d":"2548.95"},{"v":2583.0499999999997,"d":"2583.05"},{"$f":"VLOOKUP($B276,[1]EQ!$A$1:$L$2000,4,0)","v":2514.85},{"$f":"VLOOKUP($B276,[1]EQ!$A$1:$L$2000,5,0)","v":2438.4},{"$f":"(VLOOKUP($B276,[1]EQ!$A$1:$L$2000,9,0)/100000)","v":0.12661}]
[267,"JUBLFOOD",{"$f":"VLOOKUP($B277,[1]EQ!$A$1:$L$2000,6,0)","v":2881.65},{"v":2884.0833333333335,"d":"2884.08"},{"v":2852.166666666667,"d":"2852.17"},{"v":2822.6833333333334,"d":"2822.68"},{"v":2790.766666666667,"d":"2790.77"},{"v":2913.566666666667,"d":"2913.57"},{"v":2945.483333333334,"d":"2945.48"},{"v":2974.966666666667,"d":"2974.97"},{"$f":"VLOOKUP($B277,[1]EQ!$A$1:$L$2000,4,0)","v":2916},{"$f":"VLOOKUP($B277,[1]EQ!$A$1:$L$2000,5,0)","v":2854.6},{"$f":"(VLOOKUP($B277,[1]EQ!$A$1:$L$2000,9,0)/100000)","v":11.34266}]
[268,"JUSTDIAL",{"$f":"VLOOKUP($B278,[1]EQ!$A$1:$L$2000,6,0)","v":661.45},{"v":670.1833333333334,"d":"670.18"},{"v":649.3666666666668,"d":"649.37"},{"v":637.2833333333334,"d":"637.28"},{"v":616.4666666666668,"d":"616.47"},{"v":682.2666666666668,"d":"682.27"},{"v":703.0833333333334,"d":"703.08"},{"v":715.1666666666667,"d":"715.17"},{"$f":"VLOOKUP($B278,[1]EQ!$A$1:$L$2000,4,0)","v":691},{"$f":"VLOOKUP($B278,[1]EQ!$A$1:$L$2000,5,0)","v":658.1},{"$f":"(VLOOKUP($B278,[1]EQ!$A$1:$L$2000,9,0)/100000)","v":10.77192}]
[269,"JYOTHYLAB",{"$f":"VLOOKUP($B279,[1]EQ!$A$1:$L$2000,6,0)","v":151.95},{"v":151.9,"d":"151.90"},151.05,150.15,{"v":149.3,"d":"149.30"},{"v":152.8,"d":"152.80"},{"v":153.64999999999998,"d":"153.65"},154.55,{"$f":"VLOOKUP($B279,[1]EQ!$A$1:$L$2000,4,0)","v":152.75},{"$f":"VLOOKUP($B279,[1]EQ!$A$1:$L$2000,5,0)","v":151},{"$f":"(VLOOKUP($B279,[1]EQ!$A$1:$L$2000,9,0)/100000)","v":6.25932}]
[270,"KEI",{"$f":"VLOOKUP($B280,[1]EQ!$A$1:$L$2000,6,0)","v":509.15},{"v":512.3333333333334,"d":"512.33"},{"v":501.26666666666677,"d":"501.27"},{"v":493.3833333333334,"d":"493.38"},{"v":482.3166666666668,"d":"482.32"},{"v":520.2166666666667,"d":"520.22"},{"v":531.2833333333333,"d":"531.28"},{"v":539.1666666666667,"d":"539.17"},{"$f":"VLOOKUP($B280,[1]EQ!$A$1:$L$2000,4,0)","v":523.4},{"$f":"VLOOKUP($B280,[1]EQ!$A$1:$L$2000,5,0)","v":504.45},{"$f":"(VLOOKUP($B280,[1]EQ!$A$1:$L$2000,9,0)/100000)","v":1.20715}]
[271,"KNRCON",{"$f":"VLOOKUP($B281,[1]EQ!$A$1:$L$2000,6,0)","v":220.05},{"v":220.46666666666667,"d":"220.47"},{"v":216.23333333333335,"d":"216.23"},{"v":212.41666666666669,"d":"212.42"},{"v":208.18333333333337,"d":"208.18"},{"v":224.28333333333333,"d":"224.28"},{"v":228.51666666666662,"d":"228.52"},{"v":232.33333333333331,"d":"232.33"},{"$f":"VLOOKUP($B281,[1]EQ!$A$1:$L$2000,4,0)","v":224.7},{"$f":"VLOOKUP($B281,[1]EQ!$A$1:$L$2000,5,0)","v":216.65},{"$f":"(VLOOKUP($B281,[1]EQ!$A$1:$L$2000,9,0)/100000)","v":6.33216}]
[272,"KRBL",{"$f":"VLOOKUP($B282,[1]EQ!$A$1:$L$2000,6,0)","v":187.95},{"v":188.2833333333333,"d":"188.28"},{"v":185.11666666666662,"d":"185.12"},{"v":182.2833333333333,"d":"182.28"},{"v":179.11666666666662,"d":"179.12"},{"v":191.11666666666662,"d":"191.12"},{"v":194.2833333333333,"d":"194.28"},{"v":197.11666666666662,"d":"197.12"},{"$f":"VLOOKUP($B282,[1]EQ!$A$1:$L$2000,4,0)","v":191.45},{"$f":"VLOOKUP($B282,[1]EQ!$A$1:$L$2000,5,0)","v":185.45},{"$f":"(VLOOKUP($B282,[1]EQ!$A$1:$L$2000,9,0)/100000)","v":3.96886}]
[273,"KSB",{"$f":"VLOOKUP($B283,[1]EQ!$A$1:$L$2000,6,0)","v":676.45},{"v":677.5833333333334,"d":"677.58"},{"v":662.6666666666667,"d":"662.67"},{"v":648.8833333333333,"d":"648.88"},{"v":633.9666666666667,"d":"633.97"},{"v":691.3666666666668,"d":"691.37"},{"v":706.2833333333335,"d":"706.28"},{"v":720.0666666666668,"d":"720.07"},{"$f":"VLOOKUP($B283,[1]EQ!$A$1:$L$2000,4,0)","v":692.5},{"$f":"VLOOKUP($B283,[1]EQ!$A$1:$L$2000,5,0)","v":663.8},{"$f":"(VLOOKUP($B283,[1]EQ!$A$1:$L$2000,9,0)/100000)","v":0.25968}]
[274,"KAJARIACER",{"$f":"VLOOKUP($B284,[1]EQ!$A$1:$L$2000,6,0)","v":974.7},{"v":968.2333333333332,"d":"968.23"},{"v":956.5666666666665,"d":"956.57"},{"v":938.4333333333333,"d":"938.43"},{"v":926.7666666666665,"d":"926.77"},{"v":986.3666666666664,"d":"986.37"},{"v":998.0333333333332,"d":"998.03"},{"v":1016.1666666666664,"d":"1016.17"},{"$f":"VLOOKUP($B284,[1]EQ!$A$1:$L$2000,4,0)","v":979.9},{"$f":"VLOOKUP($B284,[1]EQ!$A$1:$L$2000,5,0)","v":950.1},{"$f":"(VLOOKUP($B284,[1]EQ!$A$1:$L$2000,9,0)/100000)","v":3.12277}]
[275,"KALPATPOWR",{"$f":"VLOOKUP($B285,[1]EQ!$A$1:$L$2000,6,0)","v":371.1},{"v":377.01666666666665,"d":"377.02"},{"v":364.3333333333333,"d":"364.33"},{"v":357.56666666666666,"d":"357.57"},{"v":344.8833333333333,"d":"344.88"},{"v":383.7833333333333,"d":"383.78"},{"v":396.4666666666667,"d":"396.47"},{"v":403.2333333333333,"d":"403.23"},{"$f":"VLOOKUP($B285,[1]EQ!$A$1:$L$2000,4,0)","v":389.7},{"$f":"VLOOKUP($B285,[1]EQ!$A$1:$L$2000,5,0)","v":370.25},{"$f":"(VLOOKUP($B285,[1]EQ!$A$1:$L$2000,9,0)/100000)","v":6.23278}]
[276,"KANSAINER",{"$f":"VLOOKUP($B286,[1]EQ!$A$1:$L$2000,6,0)","v":586.65},587.25,{"v":580.8,"d":"580.80"},{"v":574.9499999999999,"d":"574.95"},{"v":568.4999999999999,"d":"568.50"},{"v":593.1,"d":"593.10"},{"v":599.5500000000001,"d":"599.55"},{"v":605.4000000000001,"d":"605.40"},{"$f":"VLOOKUP($B286,[1]EQ!$A$1:$L$2000,4,0)","v":593.7},{"$f":"VLOOKUP($B286,[1]EQ!$A$1:$L$2000,5,0)","v":581.4},{"$f":"(VLOOKUP($B286,[1]EQ!$A$1:$L$2000,9,0)/100000)","v":3.14037}]
[277,"KTKBANK",{"$f":"VLOOKUP($B287,[1]EQ!$A$1:$L$2000,6,0)","v":65.4},{"v":65.73333333333333,"d":"65.73"},{"v":64.56666666666666,"d":"64.57"},{"v":63.733333333333334,"d":"63.73"},{"v":62.56666666666666,"d":"62.57"},{"v":66.56666666666666,"d":"66.57"},{"v":67.73333333333332,"d":"67.73"},{"v":68.56666666666666,"d":"68.57"},{"$f":"VLOOKUP($B287,[1]EQ!$A$1:$L$2000,4,0)","v":66.9},{"$f":"VLOOKUP($B287,[1]EQ!$A$1:$L$2000,5,0)","v":64.9},{"$f":"(VLOOKUP($B287,[1]EQ!$A$1:$L$2000,9,0)/100000)","v":29.18079}]
[278,"KARURVYSYA",{"$f":"VLOOKUP($B288,[1]EQ!$A$1:$L$2000,6,0)","v":54.85},{"v":54.71666666666666,"d":"54.72"},{"v":53.93333333333332,"d":"53.93"},{"v":53.01666666666666,"d":"53.02"},{"v":52.23333333333332,"d":"52.23"},{"v":55.633333333333326,"d":"55.63"},{"v":56.41666666666667,"d":"56.42"},{"v":57.33333333333333,"d":"57.33"},{"$f":"VLOOKUP($B288,[1]EQ!$A$1:$L$2000,4,0)","v":55.5},{"$f":"VLOOKUP($B288,[1]EQ!$A$1:$L$2000,5,0)","v":53.8},{"$f":"(VLOOKUP($B288,[1]EQ!$A$1:$L$2000,9,0)/100000)","v":15.33424}]
[279,"KSCL",{"$f":"VLOOKUP($B289,[1]EQ!$A$1:$L$2000,6,0)","v":517.1},{"v":520.8333333333334,"d":"520.83"},{"v":512.1166666666668,"d":"512.12"},{"v":507.13333333333344,"d":"507.13"},{"v":498.41666666666686,"d":"498.42"},{"v":525.8166666666667,"d":"525.82"},{"v":534.5333333333332,"d":"534.53"},{"v":539.5166666666667,"d":"539.52"},{"$f":"VLOOKUP($B289,[1]EQ!$A$1:$L$2000,4,0)","v":529.55},{"$f":"VLOOKUP($B289,[1]EQ!$A$1:$L$2000,5,0)","v":515.85},{"$f":"(VLOOKUP($B289,[1]EQ!$A$1:$L$2000,9,0)/100000)","v":1.71024}]
[280,"KEC",{"$f":"VLOOKUP($B290,[1]EQ!$A$1:$L$2000,6,0)","v":428.95},{"v":431.7166666666667,"d":"431.72"},{"v":423.4833333333334,"d":"423.48"},{"v":418.0166666666667,"d":"418.02"},{"v":409.7833333333334,"d":"409.78"},{"v":437.1833333333334,"d":"437.18"},{"v":445.41666666666674,"d":"445.42"},{"v":450.8833333333334,"d":"450.88"},{"$f":"VLOOKUP($B290,[1]EQ!$A$1:$L$2000,4,0)","v":439.95},{"$f":"VLOOKUP($B290,[1]EQ!$A$1:$L$2000,5,0)","v":426.25},{"$f":"(VLOOKUP($B290,[1]EQ!$A$1:$L$2000,9,0)/100000)","v":1.2519}]
[281,"KOLTEPATIL",{"$f":"VLOOKUP($B291,[1]EQ!$A$1:$L$2000,6,0)","v":250.1},{"v":250.31666666666663,"d":"250.32"},{"v":246.18333333333328,"d":"246.18"},{"v":242.26666666666665,"d":"242.27"},{"v":238.1333333333333,"d":"238.13"},{"v":254.23333333333326,"d":"254.23"},{"v":258.3666666666667,"d":"258.37"},{"v":262.28333333333325,"d":"262.28"},{"$f":"VLOOKUP($B291,[1]EQ!$A$1:$L$2000,4,0)","v":254.45},{"$f":"VLOOKUP($B291,[1]EQ!$A$1:$L$2000,5,0)","v":246.4},{"$f":"(VLOOKUP($B291,[1]EQ!$A$1:$L$2000,9,0)/100000)","v":1.78025}]
[282,"KOTAKBANK",{"$f":"VLOOKUP($B292,[1]EQ!$A$1:$L$2000,6,0)","v":2019.65},{"v":2022.2166666666665,"d":"2022.22"},{"v":1995.433333333333,"d":"1995.43"},{"v":1971.2166666666665,"d":"1971.22"},{"v":1944.433333333333,"d":"1944.43"},{"v":2046.433333333333,"d":"2046.43"},{"v":2073.2166666666662,"d":"2073.22"},{"v":2097.433333333333,"d":"2097.43"},{"$f":"VLOOKUP($B292,[1]EQ!$A$1:$L$2000,4,0)","v":2049},{"$f":"VLOOKUP($B292,[1]EQ!$A$1:$L$2000,5,0)","v":1998},{"$f":"(VLOOKUP($B292,[1]EQ!$A$1:$L$2000,9,0)/100000)","v":54.80183}]
[283,"L&TFH",{"$f":"VLOOKUP($B293,[1]EQ!$A$1:$L$2000,6,0)","v":98.6},{"v":98.98333333333333,"d":"98.98"},{"v":96.96666666666667,"d":"96.97"},{"v":95.33333333333333,"d":"95.33"},{"v":93.31666666666666,"d":"93.32"},{"v":100.61666666666667,"d":"100.62"},{"v":102.63333333333335,"d":"102.63"},{"v":104.26666666666668,"d":"104.27"},{"$f":"VLOOKUP($B293,[1]EQ!$A$1:$L$2000,4,0)","v":101},{"$f":"VLOOKUP($B293,[1]EQ!$A$1:$L$2000,5,0)","v":97.35},{"$f":"(VLOOKUP($B293,[1]EQ!$A$1:$L$2000,9,0)/100000)","v":230.11432}]
[284,"LTTS",{"$f":"VLOOKUP($B294,[1]EQ!$A$1:$L$2000,6,0)","v":2660.3},{"v":2641.7999999999997,"d":"2641.80"},{"v":2604.5999999999995,"d":"2604.60"},{"v":2548.8999999999996,"d":"2548.90"},{"v":2511.6999999999994,"d":"2511.70"},{"v":2697.4999999999995,"d":"2697.50"},{"v":2734.6999999999994,"d":"2734.70"},{"v":2790.3999999999996,"d":"2790.40"},{"$f":"VLOOKUP($B294,[1]EQ!$A$1:$L$2000,4,0)","v":2679},{"$f":"VLOOKUP($B294,[1]EQ!$A$1:$L$2000,5,0)","v":2586.1},{"$f":"(VLOOKUP($B294,[1]EQ!$A$1:$L$2000,9,0)/100000)","v":2.25924}]
[285,"LICHSGFIN",{"$f":"VLOOKUP($B295,[1]EQ!$A$1:$L$2000,6,0)","v":469.8},{"v":472.9666666666667,"d":"472.97"},{"v":462.58333333333337,"d":"462.58"},{"v":455.3666666666667,"d":"455.37"},{"v":444.98333333333335,"d":"444.98"},{"v":480.1833333333334,"d":"480.18"},{"v":490.5666666666667,"d":"490.57"},{"v":497.7833333333334,"d":"497.78"},{"$f":"VLOOKUP($B295,[1]EQ!$A$1:$L$2000,4,0)","v":483.35},{"$f":"VLOOKUP($B295,[1]EQ!$A$1:$L$2000,5,0)","v":465.75},{"$f":"(VLOOKUP($B295,[1]EQ!$A$1:$L$2000,9,0)/100000)","v":64.89108}]
[286,"LAOPALA",{"$f":"VLOOKUP($B296,[1]EQ!$A$1:$L$2000,6,0)","v":215.8},{"v":217.51666666666665,"d":"217.52"},{"v":206.2833333333333,"d":"206.28"},{"v":196.76666666666665,"d":"196.77"},{"v":185.5333333333333,"d":"185.53"},{"v":227.0333333333333,"d":"227.03"},{"v":238.26666666666665,"d":"238.27"},{"v":247.7833333333333,"d":"247.78"},{"$f":"VLOOKUP($B296,[1]EQ!$A$1:$L$2000,4,0)","v":228.75},{"$f":"VLOOKUP($B296,[1]EQ!$A$1:$L$2000,5,0)","v":208},{"$f":"(VLOOKUP($B296,[1]EQ!$A$1:$L$2000,9,0)/100000)","v":10.20392}]
[287,"LAXMIMACH",{"$f":"VLOOKUP($B297,[1]EQ!$A$1:$L$2000,6,0)","v":6153.05},{"v":6189.016666666666,"d":"6189.02"},{"v":6084.033333333333,"d":"6084.03"},{"v":6015.016666666666,"d":"6015.02"},{"v":5910.033333333333,"d":"5910.03"},{"v":6258.033333333333,"d":"6258.03"},{"v":6363.016666666666,"d":"6363.02"},{"v":6432.033333333333,"d":"6432.03"},{"$f":"VLOOKUP($B297,[1]EQ!$A$1:$L$2000,4,0)","v":6294},{"$f":"VLOOKUP($B297,[1]EQ!$A$1:$L$2000,5,0)","v":6120},{"$f":"(VLOOKUP($B297,[1]EQ!$A$1:$L$2000,9,0)/100000)","v":0.02944}]
[288,"LTI",{"$f":"VLOOKUP($B298,[1]EQ!$A$1:$L$2000,6,0)","v":3944.95},{"v":3974.316666666667,"d":"3974.32"},{"v":3890.633333333334,"d":"3890.63"},{"v":3836.316666666667,"d":"3836.32"},{"v":3752.633333333334,"d":"3752.63"},{"v":4028.633333333334,"d":"4028.63"},{"v":4112.3166666666675,"d":"4112.32"},{"v":4166.633333333334,"d":"4166.63"},{"$f":"VLOOKUP($B298,[1]EQ!$A$1:$L$2000,4,0)","v":4058},{"$f":"VLOOKUP($B298,[1]EQ!$A$1:$L$2000,5,0)","v":3920},{"$f":"(VLOOKUP($B298,[1]EQ!$A$1:$L$2000,9,0)/100000)","v":0.9206}]
[289,"LT",{"$f":"VLOOKUP($B299,[1]EQ!$A$1:$L$2000,6,0)","v":1549.45},{"v":1554.1499999999999,"d":"1554.15"},{"v":1534.2999999999997,"d":"1534.30"},{"v":1519.1499999999999,"d":"1519.15"},{"v":1499.2999999999997,"d":"1499.30"},{"v":1569.2999999999997,"d":"1569.30"},{"v":1589.1499999999996,"d":"1589.15"},{"v":1604.2999999999997,"d":"1604.30"},{"$f":"VLOOKUP($B299,[1]EQ!$A$1:$L$2000,4,0)","v":1574},{"$f":"VLOOKUP($B299,[1]EQ!$A$1:$L$2000,5,0)","v":1539},{"$f":"(VLOOKUP($B299,[1]EQ!$A$1:$L$2000,9,0)/100000)","v":38.38556}]
[290,"LAURUSLABS",{"$f":"VLOOKUP($B300,[1]EQ!$A$1:$L$2000,6,0)","v":372.7},{"v":370.9333333333334,"d":"370.93"},{"v":366.8666666666668,"d":"366.87"},{"v":361.0333333333334,"d":"361.03"},{"v":356.9666666666668,"d":"356.97"},{"v":376.76666666666677,"d":"376.77"},{"v":380.83333333333337,"d":"380.83"},{"v":386.66666666666674,"d":"386.67"},{"$f":"VLOOKUP($B300,[1]EQ!$A$1:$L$2000,4,0)","v":375},{"$f":"VLOOKUP($B300,[1]EQ!$A$1:$L$2000,5,0)","v":365.1},{"$f":"(VLOOKUP($B300,[1]EQ!$A$1:$L$2000,9,0)/100000)","v":17.65871}]
[291,"LEMONTREE",{"$f":"VLOOKUP($B301,[1]EQ!$A$1:$L$2000,6,0)","v":43.95},{"v":44.23333333333333,"d":"44.23"},{"v":43.01666666666665,"d":"43.02"},{"v":42.08333333333332,"d":"42.08"},{"v":40.866666666666646,"d":"40.87"},{"v":45.16666666666666,"d":"45.17"},{"v":46.38333333333334,"d":"46.38"},{"v":47.31666666666666,"d":"47.32"},{"$f":"VLOOKUP($B301,[1]EQ!$A$1:$L$2000,4,0)","v":45.45},{"$f":"VLOOKUP($B301,[1]EQ!$A$1:$L$2000,5,0)","v":43.3},{"$f":"(VLOOKUP($B301,[1]EQ!$A$1:$L$2000,9,0)/100000)","v":27.25455}]
[292,"LINDEINDIA",{"$f":"VLOOKUP($B302,[1]EQ!$A$1:$L$2000,6,0)","v":1279.6},{"v":1272.5333333333333,"d":"1272.53"},{"v":1237.0666666666666,"d":"1237.07"},{"v":1194.5333333333333,"d":"1194.53"},{"v":1159.0666666666666,"d":"1159.07"},{"v":1315.0666666666666,"d":"1315.07"},{"v":1350.5333333333333,"d":"1350.53"},{"v":1393.0666666666666,"d":"1393.07"},{"$f":"VLOOKUP($B302,[1]EQ!$A$1:$L$2000,4,0)","v":1308},{"$f":"VLOOKUP($B302,[1]EQ!$A$1:$L$2000,5,0)","v":1230},{"$f":"(VLOOKUP($B302,[1]EQ!$A$1:$L$2000,9,0)/100000)","v":1.19727}]
[293,"LUPIN",{"$f":"VLOOKUP($B303,[1]EQ!$A$1:$L$2000,6,0)","v":1096.8},1082.75,1064.05,{"v":1031.3,"d":"1031.30"},{"v":1012.5999999999999,"d":"1012.60"},{"v":1115.5,"d":"1115.50"},{"v":1134.1999999999998,"d":"1134.20"},1166.95,{"$f":"VLOOKUP($B303,[1]EQ!$A$1:$L$2000,4,0)","v":1101.45},{"$f":"VLOOKUP($B303,[1]EQ!$A$1:$L$2000,5,0)","v":1050},{"$f":"(VLOOKUP($B303,[1]EQ!$A$1:$L$2000,9,0)/100000)","v":38.22108}]
[294,"LUXIND",{"$f":"VLOOKUP($B304,[1]EQ!$A$1:$L$2000,6,0)","v":1838.3},{"v":1846.7666666666667,"d":"1846.77"},{"v":1820.5333333333333,"d":"1820.53"},{"v":1802.7666666666667,"d":"1802.77"},{"v":1776.5333333333333,"d":"1776.53"},{"v":1864.5333333333333,"d":"1864.53"},{"v":1890.7666666666664,"d":"1890.77"},{"v":1908.5333333333333,"d":"1908.53"},{"$f":"VLOOKUP($B304,[1]EQ!$A$1:$L$2000,4,0)","v":1873},{"$f":"VLOOKUP($B304,[1]EQ!$A$1:$L$2000,5,0)","v":1829},{"$f":"(VLOOKUP($B304,[1]EQ!$A$1:$L$2000,9,0)/100000)","v":0.30295}]
[295,"MASFIN",{"$f":"VLOOKUP($B305,[1]EQ!$A$1:$L$2000,6,0)","v":837.1},{"v":836.3333333333334,"d":"836.33"},{"v":818.7166666666667,"d":"818.72"},{"v":800.3333333333334,"d":"800.33"},{"v":782.7166666666667,"d":"782.72"},{"v":854.7166666666667,"d":"854.72"},{"v":872.3333333333333,"d":"872.33"},{"v":890.7166666666667,"d":"890.72"},{"$f":"VLOOKUP($B305,[1]EQ!$A$1:$L$2000,4,0)","v":853.95},{"$f":"VLOOKUP($B305,[1]EQ!$A$1:$L$2000,5,0)","v":817.95},{"$f":"(VLOOKUP($B305,[1]EQ!$A$1:$L$2000,9,0)/100000)","v":0.82217}]
[296,"MMTC",{"$f":"VLOOKUP($B306,[1]EQ!$A$1:$L$2000,6,0)","v":27.65},{"v":27.733333333333334,"d":"27.73"},{"v":27.116666666666667,"d":"27.12"},{"v":26.583333333333332,"d":"26.58"},{"v":25.966666666666665,"d":"25.97"},{"v":28.26666666666667,"d":"28.27"},{"v":28.883333333333336,"d":"28.88"},{"v":29.41666666666667,"d":"29.42"},{"$f":"VLOOKUP($B306,[1]EQ!$A$1:$L$2000,4,0)","v":28.35},{"$f":"VLOOKUP($B306,[1]EQ!$A$1:$L$2000,5,0)","v":27.2},{"$f":"(VLOOKUP($B306,[1]EQ!$A$1:$L$2000,9,0)/100000)","v":14.79267}]
[297,"MOIL",{"$f":"VLOOKUP($B307,[1]EQ!$A$1:$L$2000,6,0)","v":140.2},{"v":140.48333333333332,"d":"140.48"},{"v":139.16666666666663,"d":"139.17"},{"v":138.1333333333333,"d":"138.13"},{"v":136.8166666666666,"d":"136.82"},{"v":141.51666666666665,"d":"141.52"},{"v":142.83333333333331,"d":"142.83"},{"v":143.86666666666667,"d":"143.87"},{"$f":"VLOOKUP($B307,[1]EQ!$A$1:$L$2000,4,0)","v":141.8},{"$f":"VLOOKUP($B307,[1]EQ!$A$1:$L$2000,5,0)","v":139.45},{"$f":"(VLOOKUP($B307,[1]EQ!$A$1:$L$2000,9,0)/100000)","v":2.6072}]
[298,"MRF",{"$f":"VLOOKUP($B308,[1]EQ!$A$1:$L$2000,6,0)","v":89575.35},90043.05,{"v":88536.1,"d":"88536.10"},87496.85,{"v":85989.90000000001,"d":"85989.90"},{"v":91082.3,"d":"91082.30"},{"v":92589.24999999999,"d":"92589.25"},{"v":93628.5,"d":"93628.50"},{"$f":"VLOOKUP($B308,[1]EQ!$A$1:$L$2000,4,0)","v":91550},{"$f":"VLOOKUP($B308,[1]EQ!$A$1:$L$2000,5,0)","v":89003.8},{"$f":"(VLOOKUP($B308,[1]EQ!$A$1:$L$2000,9,0)/100000)","v":0.58998}]
[299,"MGL",{"$f":"VLOOKUP($B309,[1]EQ!$A$1:$L$2000,6,0)","v":1145.25},{"v":1140.7333333333333,"d":"1140.73"},{"v":1131.5166666666667,"d":"1131.52"},{"v":1117.7833333333333,"d":"1117.78"},{"v":1108.5666666666666,"d":"1108.57"},{"v":1154.4666666666667,"d":"1154.47"},{"v":1163.6833333333334,"d":"1163.68"},{"v":1177.4166666666667,"d":"1177.42"},{"$f":"VLOOKUP($B309,[1]EQ!$A$1:$L$2000,4,0)","v":1149.95},{"$f":"VLOOKUP($B309,[1]EQ!$A$1:$L$2000,5,0)","v":1127},{"$f":"(VLOOKUP($B309,[1]EQ!$A$1:$L$2000,9,0)/100000)","v":5.61526}]
[300,"MAHSCOOTER",{"$f":"VLOOKUP($B310,[1]EQ!$A$1:$L$2000,6,0)","v":3917.4},{"v":3910.1999999999994,"d":"3910.20"},{"v":3882.1499999999987,"d":"3882.15"},{"v":3846.899999999999,"d":"3846.90"},{"v":3818.8499999999985,"d":"3818.85"},{"v":3945.449999999999,"d":"3945.45"},{"v":3973.499999999999,"d":"3973.50"},{"v":4008.749999999999,"d":"4008.75"},{"$f":"VLOOKUP($B310,[1]EQ!$A$1:$L$2000,4,0)","v":3938.25},{"$f":"VLOOKUP($B310,[1]EQ!$A$1:$L$2000,5,0)","v":3874.95},{"$f":"(VLOOKUP($B310,[1]EQ!$A$1:$L$2000,9,0)/100000)","v":0.06269}]
[301,"MAHSEAMLES",{"$f":"VLOOKUP($B311,[1]EQ!$A$1:$L$2000,6,0)","v":284.4},{"v":284.21666666666664,"d":"284.22"},{"v":279.2833333333333,"d":"279.28"},{"v":274.1666666666667,"d":"274.17"},{"v":269.23333333333335,"d":"269.23"},{"v":289.33333333333326,"d":"289.33"},{"v":294.26666666666654,"d":"294.27"},{"v":299.3833333333332,"d":"299.38"},{"$f":"VLOOKUP($B311,[1]EQ!$A$1:$L$2000,4,0)","v":289.15},{"$f":"VLOOKUP($B311,[1]EQ!$A$1:$L$2000,5,0)","v":279.1},{"$f":"(VLOOKUP($B311,[1]EQ!$A$1:$L$2000,9,0)/100000)","v":0.31947}]
[302,"M&MFIN",{"$f":"VLOOKUP($B312,[1]EQ!$A$1:$L$2000,6,0)","v":220.75},{"v":218.03333333333333,"d":"218.03"},{"v":213.51666666666665,"d":"213.52"},{"v":206.28333333333333,"d":"206.28"},{"v":201.76666666666665,"d":"201.77"},{"v":225.26666666666665,"d":"225.27"},{"v":229.78333333333336,"d":"229.78"},{"v":237.01666666666665,"d":"237.02"},{"$f":"VLOOKUP($B312,[1]EQ!$A$1:$L$2000,4,0)","v":222.55},{"$f":"VLOOKUP($B312,[1]EQ!$A$1:$L$2000,5,0)","v":210.8},{"$f":"(VLOOKUP($B312,[1]EQ!$A$1:$L$2000,9,0)/100000)","v":169.12835}]
[303,"M&M",{"$f":"VLOOKUP($B313,[1]EQ!$A$1:$L$2000,6,0)","v":912.2},{"v":912.0166666666668,"d":"912.02"},{"v":902.2833333333335,"d":"902.28"},{"v":892.3666666666668,"d":"892.37"},{"v":882.6333333333336,"d":"882.63"},{"v":921.9333333333335,"d":"921.93"},{"v":931.6666666666669,"d":"931.67"},{"v":941.5833333333335,"d":"941.58"},{"$f":"VLOOKUP($B313,[1]EQ!$A$1:$L$2000,4,0)","v":921.75},{"$f":"VLOOKUP($B313,[1]EQ!$A$1:$L$2000,5,0)","v":902.1},{"$f":"(VLOOKUP($B313,[1]EQ!$A$1:$L$2000,9,0)/100000)","v":42.23635}]
[304,"MAHINDCIE",{"$f":"VLOOKUP($B314,[1]EQ!$A$1:$L$2000,6,0)","v":200.55},{"v":209.68333333333337,"d":"209.68"},{"v":184.46666666666673,"d":"184.47"},{"v":168.38333333333335,"d":"168.38"},{"v":143.1666666666667,"d":"143.17"},{"v":225.76666666666674,"d":"225.77"},{"v":250.98333333333338,"d":"250.98"},{"v":267.0666666666667,"d":"267.07"},{"$f":"VLOOKUP($B314,[1]EQ!$A$1:$L$2000,4,0)","v":234.9},{"$f":"VLOOKUP($B314,[1]EQ!$A$1:$L$2000,5,0)","v":193.6},{"$f":"(VLOOKUP($B314,[1]EQ!$A$1:$L$2000,9,0)/100000)","v":90.69325}]
[305,"MHRIL",{"$f":"VLOOKUP($B315,[1]EQ!$A$1:$L$2000,6,0)","v":231.5},{"v":232.4333333333333,"d":"232.43"},{"v":229.11666666666662,"d":"229.12"},{"v":226.73333333333332,"d":"226.73"},{"v":223.41666666666663,"d":"223.42"},{"v":234.8166666666666,"d":"234.82"},{"v":238.13333333333327,"d":"238.13"},{"v":240.5166666666666,"d":"240.52"},{"$f":"VLOOKUP($B315,[1]EQ!$A$1:$L$2000,4,0)","v":235.75},{"$f":"VLOOKUP($B315,[1]EQ!$A$1:$L$2000,5,0)","v":230.05},{"$f":"(VLOOKUP($B315,[1]EQ!$A$1:$L$2000,9,0)/100000)","v":0.46765}]
[306,"MAHLOG",{"$f":"VLOOKUP($B316,[1]EQ!$A$1:$L$2000,6,0)","v":500.85},501.05,{"v":492.1,"d":"492.10"},483.35,{"v":474.40000000000003,"d":"474.40"},{"v":509.8,"d":"509.80"},518.75,{"v":527.5,"d":"527.50"},{"$f":"VLOOKUP($B316,[1]EQ!$A$1:$L$2000,4,0)","v":510},{"$f":"VLOOKUP($B316,[1]EQ!$A$1:$L$2000,5,0)","v":492.3},{"$f":"(VLOOKUP($B316,[1]EQ!$A$1:$L$2000,9,0)/100000)","v":1.0203}]
[307,"MANAPPURAM",{"$f":"VLOOKUP($B317,[1]EQ!$A$1:$L$2000,6,0)","v":175.75},{"v":176.38333333333333,"d":"176.38"},{"v":173.31666666666666,"d":"173.32"},{"v":170.88333333333333,"d":"170.88"},{"v":167.81666666666666,"d":"167.82"},{"v":178.81666666666666,"d":"178.82"},{"v":181.88333333333333,"d":"181.88"},{"v":184.31666666666666,"d":"184.32"},{"$f":"VLOOKUP($B317,[1]EQ!$A$1:$L$2000,4,0)","v":179.45},{"$f":"VLOOKUP($B317,[1]EQ!$A$1:$L$2000,5,0)","v":173.95},{"$f":"(VLOOKUP($B317,[1]EQ!$A$1:$L$2000,9,0)/100000)","v":29.47464}]
[308,"MRPL",{"$f":"VLOOKUP($B318,[1]EQ!$A$1:$L$2000,6,0)","v":34.5},{"v":34.61666666666667,"d":"34.62"},{"v":34.233333333333334,"d":"34.23"},{"v":33.96666666666667,"d":"33.97"},{"v":33.583333333333336,"d":"33.58"},{"v":34.88333333333333,"d":"34.88"},{"v":35.26666666666667,"d":"35.27"},{"v":35.53333333333333,"d":"35.53"},{"$f":"VLOOKUP($B318,[1]EQ!$A$1:$L$2000,4,0)","v":35},{"$f":"VLOOKUP($B318,[1]EQ!$A$1:$L$2000,5,0)","v":34.35},{"$f":"(VLOOKUP($B318,[1]EQ!$A$1:$L$2000,9,0)/100000)","v":6.93104}]
[309,"MARICO",{"$f":"VLOOKUP($B319,[1]EQ!$A$1:$L$2000,6,0)","v":409.25},{"v":409.40000000000003,"d":"409.40"},{"v":405.55000000000007,"d":"405.55"},401.85,{"v":398.00000000000006,"d":"398.00"},{"v":413.1000000000001,"d":"413.10"},{"v":416.9500000000001,"d":"416.95"},{"v":420.6500000000001,"d":"420.65"},{"$f":"VLOOKUP($B319,[1]EQ!$A$1:$L$2000,4,0)","v":413.25},{"$f":"VLOOKUP($B319,[1]EQ!$A$1:$L$2000,5,0)","v":405.7},{"$f":"(VLOOKUP($B319,[1]EQ!$A$1:$L$2000,9,0)/100000)","v":13.5875}]
[310,"MARUTI",{"$f":"VLOOKUP($B320,[1]EQ!$A$1:$L$2000,6,0)","v":7697.05},{"v":7707.099999999999,"d":"7707.10"},{"v":7615.199999999999,"d":"7615.20"},{"v":7533.349999999999,"d":"7533.35"},{"v":7441.449999999999,"d":"7441.45"},{"v":7788.949999999999,"d":"7788.95"},{"v":7880.8499999999985,"d":"7880.85"},{"v":7962.699999999999,"d":"7962.70"},{"$f":"VLOOKUP($B320,[1]EQ!$A$1:$L$2000,4,0)","v":7799},{"$f":"VLOOKUP($B320,[1]EQ!$A$1:$L$2000,5,0)","v":7625.25},{"$f":"(VLOOKUP($B320,[1]EQ!$A$1:$L$2000,9,0)/100000)","v":13.21126}]
[311,"MFSL",{"$f":"VLOOKUP($B321,[1]EQ!$A$1:$L$2000,6,0)","v":852.75},{"v":844.7833333333333,"d":"844.78"},{"v":829.7166666666666,"d":"829.72"},{"v":806.6833333333333,"d":"806.68"},{"v":791.6166666666666,"d":"791.62"},{"v":867.8166666666666,"d":"867.82"},{"v":882.8833333333332,"d":"882.88"},{"v":905.9166666666666,"d":"905.92"},{"$f":"VLOOKUP($B321,[1]EQ!$A$1:$L$2000,4,0)","v":859.85},{"$f":"VLOOKUP($B321,[1]EQ!$A$1:$L$2000,5,0)","v":821.75},{"$f":"(VLOOKUP($B321,[1]EQ!$A$1:$L$2000,9,0)/100000)","v":35.55872}]
[312,"METROPOLIS",{"$f":"VLOOKUP($B322,[1]EQ!$A$1:$L$2000,6,0)","v":1936.05},{"v":1950.3500000000001,"d":"1950.35"},{"v":1900.7000000000003,"d":"1900.70"},{"v":1865.3500000000001,"d":"1865.35"},{"v":1815.7000000000003,"d":"1815.70"},{"v":1985.7000000000003,"d":"1985.70"},{"v":2035.3500000000004,"d":"2035.35"},{"v":2070.7000000000003,"d":"2070.70"},{"$f":"VLOOKUP($B322,[1]EQ!$A$1:$L$2000,4,0)","v":2000},{"$f":"VLOOKUP($B322,[1]EQ!$A$1:$L$2000,5,0)","v":1915},{"$f":"(VLOOKUP($B322,[1]EQ!$A$1:$L$2000,9,0)/100000)","v":3.43901}]
[313,"MINDTREE",{"$f":"VLOOKUP($B323,[1]EQ!$A$1:$L$2000,6,0)","v":1686.65},1700.45,{"v":1658.2,"d":"1658.20"},1629.75,{"v":1587.5,"d":"1587.50"},{"v":1728.9,"d":"1728.90"},1771.15,{"v":1799.6000000000001,"d":"1799.60"},{"$f":"VLOOKUP($B323,[1]EQ!$A$1:$L$2000,4,0)","v":1742.7},{"$f":"VLOOKUP($B323,[1]EQ!$A$1:$L$2000,5,0)","v":1672},{"$f":"(VLOOKUP($B323,[1]EQ!$A$1:$L$2000,9,0)/100000)","v":5.4583}]
[314,"MINDACORP",{"$f":"VLOOKUP($B324,[1]EQ!$A$1:$L$2000,6,0)","v":95.7},95.55,{"v":94.14999999999999,"d":"94.15"},{"v":92.6,"d":"92.60"},{"v":91.19999999999999,"d":"91.20"},{"v":97.1,"d":"97.10"},{"v":98.5,"d":"98.50"},100.05,{"$f":"VLOOKUP($B324,[1]EQ!$A$1:$L$2000,4,0)","v":96.95},{"$f":"VLOOKUP($B324,[1]EQ!$A$1:$L$2000,5,0)","v":94},{"$f":"(VLOOKUP($B324,[1]EQ!$A$1:$L$2000,9,0)/100000)","v":3.23575}]
[315,"MINDAIND",{"$f":"VLOOKUP($B325,[1]EQ!$A$1:$L$2000,6,0)","v":570.25},{"v":575.0666666666667,"d":"575.07"},{"v":560.6833333333334,"d":"560.68"},{"v":551.1166666666667,"d":"551.12"},{"v":536.7333333333333,"d":"536.73"},{"v":584.6333333333334,"d":"584.63"},{"v":599.0166666666669,"d":"599.02"},{"v":608.5833333333335,"d":"608.58"},{"$f":"VLOOKUP($B325,[1]EQ!$A$1:$L$2000,4,0)","v":589.45},{"$f":"VLOOKUP($B325,[1]EQ!$A$1:$L$2000,5,0)","v":565.5},{"$f":"(VLOOKUP($B325,[1]EQ!$A$1:$L$2000,9,0)/100000)","v":1.01235}]
[316,"MIDHANI",{"$f":"VLOOKUP($B326,[1]EQ!$A$1:$L$2000,6,0)","v":184.4},{"v":184.86666666666667,"d":"184.87"},{"v":182.53333333333336,"d":"182.53"},{"v":180.66666666666669,"d":"180.67"},{"v":178.33333333333337,"d":"178.33"},{"v":186.73333333333335,"d":"186.73"},{"v":189.06666666666666,"d":"189.07"},{"v":190.93333333333334,"d":"190.93"},{"$f":"VLOOKUP($B326,[1]EQ!$A$1:$L$2000,4,0)","v":187.2},{"$f":"VLOOKUP($B326,[1]EQ!$A$1:$L$2000,5,0)","v":183},{"$f":"(VLOOKUP($B326,[1]EQ!$A$1:$L$2000,9,0)/100000)","v":3.89389}]
[317,"MOTHERSUMI",{"$f":"VLOOKUP($B327,[1]EQ!$A$1:$L$2000,6,0)","v":213.45},{"v":213.61666666666667,"d":"213.62"},{"v":210.48333333333335,"d":"210.48"},{"v":207.51666666666668,"d":"207.52"},{"v":204.38333333333335,"d":"204.38"},{"v":216.58333333333334,"d":"216.58"},{"v":219.71666666666667,"d":"219.72"},{"v":222.68333333333334,"d":"222.68"},{"$f":"VLOOKUP($B327,[1]EQ!$A$1:$L$2000,4,0)","v":216.75},{"$f":"VLOOKUP($B327,[1]EQ!$A$1:$L$2000,5,0)","v":210.65},{"$f":"(VLOOKUP($B327,[1]EQ!$A$1:$L$2000,9,0)/100000)","v":356.09075}]
[318,"MOTILALOFS",{"$f":"VLOOKUP($B328,[1]EQ!$A$1:$L$2000,6,0)","v":606.25},{"v":608.4333333333333,"d":"608.43"},{"v":600.3666666666666,"d":"600.37"},{"v":594.4833333333332,"d":"594.48"},{"v":586.4166666666665,"d":"586.42"},{"v":614.3166666666666,"d":"614.32"},{"v":622.3833333333334,"d":"622.38"},{"v":628.2666666666667,"d":"628.27"},{"$f":"VLOOKUP($B328,[1]EQ!$A$1:$L$2000,4,0)","v":616.5},{"$f":"VLOOKUP($B328,[1]EQ!$A$1:$L$2000,5,0)","v":602.55},{"$f":"(VLOOKUP($B328,[1]EQ!$A$1:$L$2000,9,0)/100000)","v":1.14547}]
[319,"MPHASIS",{"$f":"VLOOKUP($B329,[1]EQ!$A$1:$L$2000,6,0)","v":1683.6},1682.95,{"v":1670.9,"d":"1670.90"},{"v":1658.2,"d":"1658.20"},1646.15,1695.65,{"v":1707.6999999999998,"d":"1707.70"},{"v":1720.4,"d":"1720.40"},{"$f":"VLOOKUP($B329,[1]EQ!$A$1:$L$2000,4,0)","v":1695},{"$f":"VLOOKUP($B329,[1]EQ!$A$1:$L$2000,5,0)","v":1670.25},{"$f":"(VLOOKUP($B329,[1]EQ!$A$1:$L$2000,9,0)/100000)","v":2.3089}]
[320,"MCX",{"$f":"VLOOKUP($B330,[1]EQ!$A$1:$L$2000,6,0)","v":1535.45},{"v":1545.1166666666668,"d":"1545.12"},{"v":1502.2333333333336,"d":"1502.23"},{"v":1469.0166666666669,"d":"1469.02"},{"v":1426.1333333333337,"d":"1426.13"},{"v":1578.3333333333335,"d":"1578.33"},{"v":1621.2166666666667,"d":"1621.22"},{"v":1654.4333333333334,"d":"1654.43"},{"$f":"VLOOKUP($B330,[1]EQ!$A$1:$L$2000,4,0)","v":1588},{"$f":"VLOOKUP($B330,[1]EQ!$A$1:$L$2000,5,0)","v":1511.9},{"$f":"(VLOOKUP($B330,[1]EQ!$A$1:$L$2000,9,0)/100000)","v":4.56825}]
[321,"MUTHOOTFIN",{"$f":"VLOOKUP($B331,[1]EQ!$A$1:$L$2000,6,0)","v":1315.3},{"$f":"(C331+K331+L331)/3","v":{"v":1322.7166666666665,"d":"1322.72"}},{"$f":"+(D331*2)-K331","v":{"v":1301.583333333333,"d":"1301.58"}},{"$f":"+D331-K331+L331","v":{"v":1287.8666666666666,"d":"1287.87"}},{"$f":"L331-2*(K331-D331)","v":{"v":1266.7333333333331,"d":"1266.73"}},{"$f":"(D331*2)-L331","v":{"v":1336.433333333333,"d":"1336.43"}},{"$f":"+D331+K331-L331","v":{"v":1357.5666666666666,"d":"1357.57"}},{"$f":"K331+2*(D331-L331)","v":{"v":1371.2833333333328,"d":"1371.28"}},{"$f":"VLOOKUP($B331,[1]EQ!$A$1:$L$2000,4,0)","v":1343.85},{"$f":"VLOOKUP($B331,[1]EQ!$A$1:$L$2000,5,0)","v":1309},{"$f":"(VLOOKUP($B331,[1]EQ!$A$1:$L$2000,9,0)/100000)","v":17.21816}]
[322,"NATCOPHARM",{"$f":"VLOOKUP($B332,[1]EQ!$A$1:$L$2000,6,0)","v":819.35},{"v":825.9000000000001,"d":"825.90"},{"v":805.8500000000001,"d":"805.85"},792.35,{"v":772.3000000000001,"d":"772.30"},{"v":839.4000000000002,"d":"839.40"},{"v":859.4500000000002,"d":"859.45"},{"v":872.9500000000003,"d":"872.95"},{"$f":"VLOOKUP($B332,[1]EQ!$A$1:$L$2000,4,0)","v":845.95},{"$f":"VLOOKUP($B332,[1]EQ!$A$1:$L$2000,5,0)","v":812.4},{"$f":"(VLOOKUP($B332,[1]EQ!$A$1:$L$2000,9,0)/100000)","v":6.2435}]
[323,"NBCC",{"$f":"VLOOKUP($B333,[1]EQ!$A$1:$L$2000,6,0)","v":32.4},{"v":32.3,"d":"32.30"},{"v":31.89999999999999,"d":"31.90"},{"v":31.399999999999995,"d":"31.40"},{"v":30.99999999999999,"d":"31.00"},{"v":32.8,"d":"32.80"},{"v":33.2,"d":"33.20"},{"v":33.699999999999996,"d":"33.70"},{"$f":"VLOOKUP($B333,[1]EQ!$A$1:$L$2000,4,0)","v":32.7},{"$f":"VLOOKUP($B333,[1]EQ!$A$1:$L$2000,5,0)","v":31.8},{"$f":"(VLOOKUP($B333,[1]EQ!$A$1:$L$2000,9,0)/100000)","v":67.38976}]
[324,"NCC",{"$f":"VLOOKUP($B334,[1]EQ!$A$1:$L$2000,6,0)","v":82.9},{"v":83.86666666666667,"d":"83.87"},{"v":81.03333333333335,"d":"81.03"},{"v":79.16666666666667,"d":"79.17"},{"v":76.33333333333334,"d":"76.33"},{"v":85.73333333333335,"d":"85.73"},{"v":88.56666666666666,"d":"88.57"},{"v":90.43333333333335,"d":"90.43"},{"$f":"VLOOKUP($B334,[1]EQ!$A$1:$L$2000,4,0)","v":86.7},{"$f":"VLOOKUP($B334,[1]EQ!$A$1:$L$2000,5,0)","v":82},{"$f":"(VLOOKUP($B334,[1]EQ!$A$1:$L$2000,9,0)/100000)","v":62.24116}]
[325,"NESCO",{"$f":"VLOOKUP($B335,[1]EQ!$A$1:$L$2000,6,0)","v":615.6},{"v":620.3833333333333,"d":"620.38"},{"v":606.3166666666666,"d":"606.32"},{"v":597.0333333333333,"d":"597.03"},{"v":582.9666666666666,"d":"582.97"},{"v":629.6666666666666,"d":"629.67"},{"v":643.7333333333335,"d":"643.73"},{"v":653.0166666666667,"d":"653.02"},{"$f":"VLOOKUP($B335,[1]EQ!$A$1:$L$2000,4,0)","v":634.45},{"$f":"VLOOKUP($B335,[1]EQ!$A$1:$L$2000,5,0)","v":611.1},{"$f":"(VLOOKUP($B335,[1]EQ!$A$1:$L$2000,9,0)/100000)","v":0.71988}]
[326,"NHPC",{"$f":"VLOOKUP($B336,[1]EQ!$A$1:$L$2000,6,0)","v":25.25},{"v":25.400000000000002,"d":"25.40"},{"v":24.950000000000003,"d":"24.95"},{"v":24.650000000000002,"d":"24.65"},{"v":24.200000000000003,"d":"24.20"},{"v":25.700000000000003,"d":"25.70"},26.15,{"v":26.450000000000003,"d":"26.45"},{"$f":"VLOOKUP($B336,[1]EQ!$A$1:$L$2000,4,0)","v":25.85},{"$f":"VLOOKUP($B336,[1]EQ!$A$1:$L$2000,5,0)","v":25.1},{"$f":"(VLOOKUP($B336,[1]EQ!$A$1:$L$2000,9,0)/100000)","v":134.91016}]
[327,"NLCINDIA",{"$f":"VLOOKUP($B337,[1]EQ!$A$1:$L$2000,6,0)","v":51.3},{"v":51.333333333333336,"d":"51.33"},{"v":50.96666666666667,"d":"50.97"},{"v":50.63333333333333,"d":"50.63"},{"v":50.266666666666666,"d":"50.27"},{"v":51.66666666666667,"d":"51.67"},{"v":52.03333333333333,"d":"52.03"},{"v":52.366666666666674,"d":"52.37"},{"$f":"VLOOKUP($B337,[1]EQ!$A$1:$L$2000,4,0)","v":51.7},{"$f":"VLOOKUP($B337,[1]EQ!$A$1:$L$2000,5,0)","v":51},{"$f":"(VLOOKUP($B337,[1]EQ!$A$1:$L$2000,9,0)/100000)","v":9.99983}]
[328,"NMDC",{"$f":"VLOOKUP($B338,[1]EQ!$A$1:$L$2000,6,0)","v":115.5},{"v":115.33333333333333,"d":"115.33"},{"v":113.36666666666666,"d":"113.37"},{"v":111.23333333333333,"d":"111.23"},{"v":109.26666666666667,"d":"109.27"},{"v":117.46666666666665,"d":"117.47"},{"v":119.43333333333332,"d":"119.43"},{"v":121.56666666666665,"d":"121.57"},{"$f":"VLOOKUP($B338,[1]EQ!$A$1:$L$2000,4,0)","v":117.3},{"$f":"VLOOKUP($B338,[1]EQ!$A$1:$L$2000,5,0)","v":113.2},{"$f":"(VLOOKUP($B338,[1]EQ!$A$1:$L$2000,9,0)/100000)","v":158.26952}]
[329,"NOCIL",{"$f":"VLOOKUP($B339,[1]EQ!$A$1:$L$2000,6,0)","v":175},{"v":172.61666666666667,"d":"172.62"},{"v":168.38333333333335,"d":"168.38"},{"v":161.76666666666668,"d":"161.77"},{"v":157.53333333333336,"d":"157.53"},{"v":179.23333333333335,"d":"179.23"},{"v":183.4666666666667,"d":"183.47"},{"v":190.08333333333334,"d":"190.08"},{"$f":"VLOOKUP($B339,[1]EQ!$A$1:$L$2000,4,0)","v":176.85},{"$f":"VLOOKUP($B339,[1]EQ!$A$1:$L$2000,5,0)","v":166},{"$f":"(VLOOKUP($B339,[1]EQ!$A$1:$L$2000,9,0)/100000)","v":47.49726}]
[330,"NTPC",{"$f":"VLOOKUP($B340,[1]EQ!$A$1:$L$2000,6,0)","v":98},97.55,{"v":95.94999999999999,"d":"95.95"},{"v":93.89999999999999,"d":"93.90"},{"v":92.29999999999998,"d":"92.30"},{"v":99.6,"d":"99.60"},{"v":101.19999999999999,"d":"101.20"},103.25,{"$f":"VLOOKUP($B340,[1]EQ!$A$1:$L$2000,4,0)","v":99.15},{"$f":"VLOOKUP($B340,[1]EQ!$A$1:$L$2000,5,0)","v":95.5},{"$f":"(VLOOKUP($B340,[1]EQ!$A$1:$L$2000,9,0)/100000)","v":328.65663}]
[331,"NH",{"$f":"VLOOKUP($B341,[1]EQ!$A$1:$L$2000,6,0)","v":464.9},467.45,{"v":458.9,"d":"458.90"},{"v":452.9,"d":"452.90"},{"v":444.34999999999997,"d":"444.35"},473.45,{"v":482.00000000000006,"d":"482.00"},{"v":488,"d":"488.00"},{"$f":"VLOOKUP($B341,[1]EQ!$A$1:$L$2000,4,0)","v":476},{"$f":"VLOOKUP($B341,[1]EQ!$A$1:$L$2000,5,0)","v":461.45},{"$f":"(VLOOKUP($B341,[1]EQ!$A$1:$L$2000,9,0)/100000)","v":1.99358}]
[332,"NATIONALUM",{"$f":"VLOOKUP($B342,[1]EQ!$A$1:$L$2000,6,0)","v":50.15},49.65,{"v":48.9,"d":"48.90"},47.65,{"v":46.9,"d":"46.90"},{"v":50.9,"d":"50.90"},51.65,{"v":52.9,"d":"52.90"},{"$f":"VLOOKUP($B342,[1]EQ!$A$1:$L$2000,4,0)","v":50.4},{"$f":"VLOOKUP($B342,[1]EQ!$A$1:$L$2000,5,0)","v":48.4},{"$f":"(VLOOKUP($B342,[1]EQ!$A$1:$L$2000,9,0)/100000)","v":225.31335}]
[333,"NFL",{"$f":"VLOOKUP($B343,[1]EQ!$A$1:$L$2000,6,0)","v":38.85},{"v":38.93333333333334,"d":"38.93"},{"v":38.66666666666667,"d":"38.67"},{"v":38.483333333333334,"d":"38.48"},{"v":38.21666666666667,"d":"38.22"},{"v":39.116666666666674,"d":"39.12"},{"v":39.38333333333334,"d":"39.38"},{"v":39.56666666666668,"d":"39.57"},{"$f":"VLOOKUP($B343,[1]EQ!$A$1:$L$2000,4,0)","v":39.2},{"$f":"VLOOKUP($B343,[1]EQ!$A$1:$L$2000,5,0)","v":38.75},{"$f":"(VLOOKUP($B343,[1]EQ!$A$1:$L$2000,9,0)/100000)","v":6.03024}]
[334,"NAVINFLUOR",{"$f":"VLOOKUP($B344,[1]EQ!$A$1:$L$2000,6,0)","v":2509.1},{"v":2527.316666666666,"d":"2527.32"},{"v":2476.9333333333325,"d":"2476.93"},{"v":2444.7666666666664,"d":"2444.77"},{"v":2394.3833333333328,"d":"2394.38"},{"v":2559.483333333332,"d":"2559.48"},{"v":2609.8666666666663,"d":"2609.87"},{"v":2642.033333333332,"d":"2642.03"},{"$f":"VLOOKUP($B344,[1]EQ!$A$1:$L$2000,4,0)","v":2577.7},{"$f":"VLOOKUP($B344,[1]EQ!$A$1:$L$2000,5,0)","v":2495.15},{"$f":"(VLOOKUP($B344,[1]EQ!$A$1:$L$2000,9,0)/100000)","v":1.32248}]
[335,"NAVNETEDUL",{"$f":"VLOOKUP($B345,[1]EQ!$A$1:$L$2000,6,0)","v":84.25},84.25,{"v":83.5,"d":"83.50"},82.75,{"v":82,"d":"82.00"},{"v":85,"d":"85.00"},85.75,{"v":86.5,"d":"86.50"},{"$f":"VLOOKUP($B345,[1]EQ!$A$1:$L$2000,4,0)","v":85},{"$f":"VLOOKUP($B345,[1]EQ!$A$1:$L$2000,5,0)","v":83.5},{"$f":"(VLOOKUP($B345,[1]EQ!$A$1:$L$2000,9,0)/100000)","v":1.18614}]
[336,"NESTLEIND",{"$f":"VLOOKUP($B346,[1]EQ!$A$1:$L$2000,6,0)","v":17217.25},{"v":17334.116666666665,"d":"17334.12"},{"v":17022.23333333333,"d":"17022.23"},{"v":16827.216666666664,"d":"16827.22"},{"v":16515.33333333333,"d":"16515.33"},{"v":17529.13333333333,"d":"17529.13"},{"v":17841.01666666667,"d":"17841.02"},{"v":18036.033333333333,"d":"18036.03"},{"$f":"VLOOKUP($B346,[1]EQ!$A$1:$L$2000,4,0)","v":17646},{"$f":"VLOOKUP($B346,[1]EQ!$A$1:$L$2000,5,0)","v":17139.1},{"$f":"(VLOOKUP($B346,[1]EQ!$A$1:$L$2000,9,0)/100000)","v":2.29774}]
[337,"NETWORK18",{"$f":"VLOOKUP($B347,[1]EQ!$A$1:$L$2000,6,0)","v":36.7},{"v":36.73333333333333,"d":"36.73"},{"v":36.316666666666656,"d":"36.32"},{"v":35.93333333333333,"d":"35.93"},{"v":35.51666666666666,"d":"35.52"},{"v":37.11666666666665,"d":"37.12"},{"v":37.533333333333324,"d":"37.53"},{"v":37.91666666666665,"d":"37.92"},{"$f":"VLOOKUP($B347,[1]EQ!$A$1:$L$2000,4,0)","v":37.15},{"$f":"VLOOKUP($B347,[1]EQ!$A$1:$L$2000,5,0)","v":36.35},{"$f":"(VLOOKUP($B347,[1]EQ!$A$1:$L$2000,9,0)/100000)","v":9.73857}]
[338,"NILKAMAL",{"$f":"VLOOKUP($B348,[1]EQ!$A$1:$L$2000,6,0)","v":1810.3},{"v":1814.1833333333332,"d":"1814.18"},{"v":1775.5166666666664,"d":"1775.52"},{"v":1740.7333333333333,"d":"1740.73"},{"v":1702.0666666666666,"d":"1702.07"},{"v":1848.9666666666662,"d":"1848.97"},{"v":1887.6333333333328,"d":"1887.63"},{"v":1922.416666666666,"d":"1922.42"},{"$f":"VLOOKUP($B348,[1]EQ!$A$1:$L$2000,4,0)","v":1852.85},{"$f":"VLOOKUP($B348,[1]EQ!$A$1:$L$2000,5,0)","v":1779.4},{"$f":"(VLOOKUP($B348,[1]EQ!$A$1:$L$2000,9,0)/100000)","v":0.23108}]
[339,"NAM-INDIA",{"$f":"VLOOKUP($B349,[1]EQ!$A$1:$L$2000,6,0)","v":345.2},342.05,{"v":336.1,"d":"336.10"},{"v":327,"d":"327.00"},321.05,{"v":351.15000000000003,"d":"351.15"},{"v":357.09999999999997,"d":"357.10"},{"v":366.20000000000005,"d":"366.20"},{"$f":"VLOOKUP($B349,[1]EQ!$A$1:$L$2000,4,0)","v":348},{"$f":"VLOOKUP($B349,[1]EQ!$A$1:$L$2000,5,0)","v":332.95},{"$f":"(VLOOKUP($B349,[1]EQ!$A$1:$L$2000,9,0)/100000)","v":7.388}]
[340,"OBEROIRLTY",{"$f":"VLOOKUP($B350,[1]EQ!$A$1:$L$2000,6,0)","v":577.6},{"v":581.3833333333333,"d":"581.38"},{"v":567.7666666666667,"d":"567.77"},{"v":557.9333333333333,"d":"557.93"},{"v":544.3166666666666,"d":"544.32"},{"v":591.2166666666667,"d":"591.22"},{"v":604.8333333333333,"d":"604.83"},{"v":614.6666666666667,"d":"614.67"},{"$f":"VLOOKUP($B350,[1]EQ!$A$1:$L$2000,4,0)","v":595},{"$f":"VLOOKUP($B350,[1]EQ!$A$1:$L$2000,5,0)","v":571.55},{"$f":"(VLOOKUP($B350,[1]EQ!$A$1:$L$2000,9,0)/100000)","v":1.44772}]
[341,"ONGC",{"$f":"VLOOKUP($B351,[1]EQ!$A$1:$L$2000,6,0)","v":103.75},{"v":102.61666666666667,"d":"102.62"},{"v":100.38333333333335,"d":"100.38"},{"v":97.01666666666668,"d":"97.02"},{"v":94.78333333333336,"d":"94.78"},{"v":105.98333333333335,"d":"105.98"},{"v":108.21666666666667,"d":"108.22"},{"v":111.58333333333334,"d":"111.58"},{"$f":"VLOOKUP($B351,[1]EQ!$A$1:$L$2000,4,0)","v":104.85},{"$f":"VLOOKUP($B351,[1]EQ!$A$1:$L$2000,5,0)","v":99.25},{"$f":"(VLOOKUP($B351,[1]EQ!$A$1:$L$2000,9,0)/100000)","v":762.36798}]
[342,"OIL",{"$f":"VLOOKUP($B352,[1]EQ!$A$1:$L$2000,6,0)","v":118.25},117.95,{"v":117,"d":"117.00"},115.75,{"v":114.8,"d":"114.80"},{"v":119.2,"d":"119.20"},{"v":120.15000000000002,"d":"120.15"},{"v":121.4,"d":"121.40"},{"$f":"VLOOKUP($B352,[1]EQ!$A$1:$L$2000,4,0)","v":118.9},{"$f":"VLOOKUP($B352,[1]EQ!$A$1:$L$2000,5,0)","v":116.7},{"$f":"(VLOOKUP($B352,[1]EQ!$A$1:$L$2000,9,0)/100000)","v":14.8938}]
[343,"OMAXE",{"$f":"VLOOKUP($B353,[1]EQ!$A$1:$L$2000,6,0)","v":71.95},72.75,{"v":70.7,"d":"70.70"},69.45,{"v":67.4,"d":"67.40"},{"v":74,"d":"74.00"},{"v":76.05000000000001,"d":"76.05"},{"v":77.3,"d":"77.30"},{"$f":"VLOOKUP($B353,[1]EQ!$A$1:$L$2000,4,0)","v":74.8},{"$f":"VLOOKUP($B353,[1]EQ!$A$1:$L$2000,5,0)","v":71.5},{"$f":"(VLOOKUP($B353,[1]EQ!$A$1:$L$2000,9,0)/100000)","v":0.26323}]
[344,"OFSS",{"$f":"VLOOKUP($B354,[1]EQ!$A$1:$L$2000,6,0)","v":3134.7},{"v":3148.616666666667,"d":"3148.62"},{"v":3107.0833333333335,"d":"3107.08"},{"v":3079.4666666666667,"d":"3079.47"},{"v":3037.9333333333334,"d":"3037.93"},{"v":3176.2333333333336,"d":"3176.23"},{"v":3217.7666666666664,"d":"3217.77"},{"v":3245.3833333333337,"d":"3245.38"},{"$f":"VLOOKUP($B354,[1]EQ!$A$1:$L$2000,4,0)","v":3190.15},{"$f":"VLOOKUP($B354,[1]EQ!$A$1:$L$2000,5,0)","v":3121},{"$f":"(VLOOKUP($B354,[1]EQ!$A$1:$L$2000,9,0)/100000)","v":0.53701}]
[345,"ORIENTCEM",{"$f":"VLOOKUP($B355,[1]EQ!$A$1:$L$2000,6,0)","v":96},{"v":96.98333333333333,"d":"96.98"},{"v":94.46666666666667,"d":"94.47"},{"v":92.93333333333334,"d":"92.93"},{"v":90.41666666666667,"d":"90.42"},{"v":98.51666666666667,"d":"98.52"},{"v":101.03333333333335,"d":"101.03"},{"v":102.56666666666666,"d":"102.57"},{"$f":"VLOOKUP($B355,[1]EQ!$A$1:$L$2000,4,0)","v":99.5},{"$f":"VLOOKUP($B355,[1]EQ!$A$1:$L$2000,5,0)","v":95.45},{"$f":"(VLOOKUP($B355,[1]EQ!$A$1:$L$2000,9,0)/100000)","v":16.72356}]
[346,"ORIENTELEC",{"$f":"VLOOKUP($B356,[1]EQ!$A$1:$L$2000,6,0)","v":281.85},{"v":283.1666666666667,"d":"283.17"},{"v":272.73333333333335,"d":"272.73"},{"v":263.6166666666667,"d":"263.62"},{"v":253.18333333333334,"d":"253.18"},{"v":292.28333333333336,"d":"292.28"},{"v":302.71666666666664,"d":"302.72"},{"v":311.83333333333337,"d":"311.83"},{"$f":"VLOOKUP($B356,[1]EQ!$A$1:$L$2000,4,0)","v":293.6},{"$f":"VLOOKUP($B356,[1]EQ!$A$1:$L$2000,5,0)","v":274.05},{"$f":"(VLOOKUP($B356,[1]EQ!$A$1:$L$2000,9,0)/100000)","v":3.96751}]
[347,"ORIENTREF",{"$f":"VLOOKUP($B357,[1]EQ!$A$1:$L$2000,6,0)","v":237.65},{"v":237.48333333333335,"d":"237.48"},{"v":231.0166666666667,"d":"231.02"},{"v":224.38333333333335,"d":"224.38"},{"v":217.9166666666667,"d":"217.92"},{"v":244.1166666666667,"d":"244.12"},{"v":250.58333333333334,"d":"250.58"},{"v":257.2166666666667,"d":"257.22"},{"$f":"VLOOKUP($B357,[1]EQ!$A$1:$L$2000,4,0)","v":243.95},{"$f":"VLOOKUP($B357,[1]EQ!$A$1:$L$2000,5,0)","v":230.85},{"$f":"(VLOOKUP($B357,[1]EQ!$A$1:$L$2000,9,0)/100000)","v":1.33003}]
[348,"PIIND",{"$f":"VLOOKUP($B358,[1]EQ!$A$1:$L$2000,6,0)","v":2226.7},2232.15,{"v":2204.8,"d":"2204.80"},{"v":2182.9,"d":"2182.90"},2155.55,2254.05,{"v":2281.3999999999996,"d":"2281.40"},{"v":2303.3,"d":"2303.30"},{"$f":"VLOOKUP($B358,[1]EQ!$A$1:$L$2000,4,0)","v":2259.5},{"$f":"VLOOKUP($B358,[1]EQ!$A$1:$L$2000,5,0)","v":2210.25},{"$f":"(VLOOKUP($B358,[1]EQ!$A$1:$L$2000,9,0)/100000)","v":2.93562}]
[349,"PNBHOUSING",{"$f":"VLOOKUP($B359,[1]EQ!$A$1:$L$2000,6,0)","v":409.85},{"v":400.1166666666666,"d":"400.12"},{"v":382.23333333333323,"d":"382.23"},{"v":354.6166666666666,"d":"354.62"},{"v":336.73333333333323,"d":"336.73"},{"v":427.73333333333323,"d":"427.73"},{"v":445.61666666666656,"d":"445.62"},{"v":473.23333333333323,"d":"473.23"},{"$f":"VLOOKUP($B359,[1]EQ!$A$1:$L$2000,4,0)","v":418},{"$f":"VLOOKUP($B359,[1]EQ!$A$1:$L$2000,5,0)","v":372.5},{"$f":"(VLOOKUP($B359,[1]EQ!$A$1:$L$2000,9,0)/100000)","v":42.29518}]
[350,"PNCINFRA",{"$f":"VLOOKUP($B360,[1]EQ!$A$1:$L$2000,6,0)","v":273.35},{"v":265.2,"d":"265.20"},{"v":243.39999999999998,"d":"243.40"},213.45,{"v":191.64999999999998,"d":"191.65"},295.15,{"v":316.95000000000005,"d":"316.95"},{"v":346.9,"d":"346.90"},{"$f":"VLOOKUP($B360,[1]EQ!$A$1:$L$2000,4,0)","v":287},{"$f":"VLOOKUP($B360,[1]EQ!$A$1:$L$2000,5,0)","v":235.25},{"$f":"(VLOOKUP($B360,[1]EQ!$A$1:$L$2000,9,0)/100000)","v":8.26631}]
[351,"PSPPROJECT",{"$f":"VLOOKUP($B361,[1]EQ!$A$1:$L$2000,6,0)","v":467.95},{"v":471.59999999999997,"d":"471.60"},{"v":458.29999999999995,"d":"458.30"},448.65,{"v":435.34999999999997,"d":"435.35"},{"v":481.24999999999994,"d":"481.25"},494.55,{"v":504.19999999999993,"d":"504.20"},{"$f":"VLOOKUP($B361,[1]EQ!$A$1:$L$2000,4,0)","v":484.9},{"$f":"VLOOKUP($B361,[1]EQ!$A$1:$L$2000,5,0)","v":461.95},{"$f":"(VLOOKUP($B361,[1]EQ!$A$1:$L$2000,9,0)/100000)","v":1.25062}]
[352,"PTC",{"$f":"VLOOKUP($B362,[1]EQ!$A$1:$L$2000,6,0)","v":69.05},{"v":69.39999999999999,"d":"69.40"},{"v":67.84999999999998,"d":"67.85"},{"v":66.64999999999999,"d":"66.65"},{"v":65.09999999999998,"d":"65.10"},{"v":70.59999999999998,"d":"70.60"},{"v":72.14999999999999,"d":"72.15"},{"v":73.34999999999998,"d":"73.35"},{"$f":"VLOOKUP($B362,[1]EQ!$A$1:$L$2000,4,0)","v":70.95},{"$f":"VLOOKUP($B362,[1]EQ!$A$1:$L$2000,5,0)","v":68.2},{"$f":"(VLOOKUP($B362,[1]EQ!$A$1:$L$2000,9,0)/100000)","v":19.36224}]
[353,"PVR",{"$f":"VLOOKUP($B363,[1]EQ!$A$1:$L$2000,6,0)","v":1480.1},{"v":1478.7,"d":"1478.70"},{"v":1463.4,"d":"1463.40"},{"v":1446.7,"d":"1446.70"},{"v":1431.4,"d":"1431.40"},{"v":1495.4,"d":"1495.40"},{"v":1510.6999999999998,"d":"1510.70"},{"v":1527.4,"d":"1527.40"},{"$f":"VLOOKUP($B363,[1]EQ!$A$1:$L$2000,4,0)","v":1494},{"$f":"VLOOKUP($B363,[1]EQ!$A$1:$L$2000,5,0)","v":1462},{"$f":"(VLOOKUP($B363,[1]EQ!$A$1:$L$2000,9,0)/100000)","v":14.26972}]
[354,"PAGEIND",{"$f":"VLOOKUP($B364,[1]EQ!$A$1:$L$2000,6,0)","v":29343.15},{"v":29642.966666666664,"d":"29642.97"},{"v":28850.183333333327,"d":"28850.18"},{"v":28357.216666666664,"d":"28357.22"},{"v":27564.433333333327,"d":"27564.43"},{"v":30135.933333333327,"d":"30135.93"},{"v":30928.71666666666,"d":"30928.72"},{"v":31421.683333333327,"d":"31421.68"},{"$f":"VLOOKUP($B364,[1]EQ!$A$1:$L$2000,4,0)","v":30435.75},{"$f":"VLOOKUP($B364,[1]EQ!$A$1:$L$2000,5,0)","v":29150},{"$f":"(VLOOKUP($B364,[1]EQ!$A$1:$L$2000,9,0)/100000)","v":0.36771}]
[355,"PERSISTENT",{"$f":"VLOOKUP($B365,[1]EQ!$A$1:$L$2000,6,0)","v":1738.9},{"v":1755.9333333333334,"d":"1755.93"},{"v":1714.0166666666669,"d":"1714.02"},{"v":1689.1333333333334,"d":"1689.13"},{"v":1647.216666666667,"d":"1647.22"},{"v":1780.8166666666668,"d":"1780.82"},{"v":1822.7333333333333,"d":"1822.73"},{"v":1847.6166666666668,"d":"1847.62"},{"$f":"VLOOKUP($B365,[1]EQ!$A$1:$L$2000,4,0)","v":1797.85},{"$f":"VLOOKUP($B365,[1]EQ!$A$1:$L$2000,5,0)","v":1731.05},{"$f":"(VLOOKUP($B365,[1]EQ!$A$1:$L$2000,9,0)/100000)","v":0.49554}]
[356,"PETRONET",{"$f":"VLOOKUP($B366,[1]EQ!$A$1:$L$2000,6,0)","v":242.8},{"v":243.4,"d":"243.40"},{"v":240.9,"d":"240.90"},{"v":239,"d":"239.00"},{"v":236.5,"d":"236.50"},{"v":245.3,"d":"245.30"},{"v":247.8,"d":"247.80"},{"v":249.70000000000002,"d":"249.70"},{"$f":"VLOOKUP($B366,[1]EQ!$A$1:$L$2000,4,0)","v":245.9},{"$f":"VLOOKUP($B366,[1]EQ!$A$1:$L$2000,5,0)","v":241.5},{"$f":"(VLOOKUP($B366,[1]EQ!$A$1:$L$2000,9,0)/100000)","v":45.23573}]
[357,"PFIZER",{"$f":"VLOOKUP($B367,[1]EQ!$A$1:$L$2000,6,0)","v":4606.05},{"v":4601.683333333333,"d":"4601.68"},{"v":4579.366666666667,"d":"4579.37"},{"v":4552.683333333333,"d":"4552.68"},{"v":4530.366666666667,"d":"4530.37"},{"v":4628.366666666667,"d":"4628.37"},{"v":4650.683333333334,"d":"4650.68"},{"v":4677.366666666667,"d":"4677.37"},{"$f":"VLOOKUP($B367,[1]EQ!$A$1:$L$2000,4,0)","v":4624},{"$f":"VLOOKUP($B367,[1]EQ!$A$1:$L$2000,5,0)","v":4575},{"$f":"(VLOOKUP($B367,[1]EQ!$A$1:$L$2000,9,0)/100000)","v":0.48878}]
[358,"PHILIPCARB",{"$f":"VLOOKUP($B368,[1]EQ!$A$1:$L$2000,6,0)","v":199.7},{"v":197.5,"d":"197.50"},{"v":193.7,"d":"193.70"},{"v":187.7,"d":"187.70"},{"v":183.89999999999998,"d":"183.90"},{"v":203.5,"d":"203.50"},{"v":207.3,"d":"207.30"},{"v":213.3,"d":"213.30"},{"$f":"VLOOKUP($B368,[1]EQ!$A$1:$L$2000,4,0)","v":201.3},{"$f":"VLOOKUP($B368,[1]EQ!$A$1:$L$2000,5,0)","v":191.5},{"$f":"(VLOOKUP($B368,[1]EQ!$A$1:$L$2000,9,0)/100000)","v":22.04757}]
[359,"PHOENIXLTD",{"$f":"VLOOKUP($B369,[1]EQ!$A$1:$L$2000,6,0)","v":843.8},{"v":849.2833333333334,"d":"849.28"},{"v":827.4666666666668,"d":"827.47"},{"v":811.1333333333334,"d":"811.13"},{"v":789.3166666666668,"d":"789.32"},{"v":865.6166666666668,"d":"865.62"},{"v":887.4333333333334,"d":"887.43"},{"v":903.7666666666668,"d":"903.77"},{"$f":"VLOOKUP($B369,[1]EQ!$A$1:$L$2000,4,0)","v":871.1},{"$f":"VLOOKUP($B369,[1]EQ!$A$1:$L$2000,5,0)","v":832.95},{"$f":"(VLOOKUP($B369,[1]EQ!$A$1:$L$2000,9,0)/100000)","v":5.95187}]
[360,"PIDILITIND",{"$f":"VLOOKUP($B370,[1]EQ!$A$1:$L$2000,6,0)","v":1789.15},{"v":1783.3333333333333,"d":"1783.33"},{"v":1771.6666666666665,"d":"1771.67"},{"v":1754.1833333333332,"d":"1754.18"},{"v":1742.5166666666664,"d":"1742.52"},{"v":1800.8166666666666,"d":"1800.82"},{"v":1812.4833333333331,"d":"1812.48"},{"v":1829.9666666666667,"d":"1829.97"},{"$f":"VLOOKUP($B370,[1]EQ!$A$1:$L$2000,4,0)","v":1795},{"$f":"VLOOKUP($B370,[1]EQ!$A$1:$L$2000,5,0)","v":1765.85},{"$f":"(VLOOKUP($B370,[1]EQ!$A$1:$L$2000,9,0)/100000)","v":10.14212}]
[361,"PEL",{"$f":"VLOOKUP($B371,[1]EQ!$A$1:$L$2000,6,0)","v":1842.1},{"v":1834.3999999999999,"d":"1834.40"},{"v":1793.7999999999997,"d":"1793.80"},{"v":1745.4999999999998,"d":"1745.50"},{"v":1704.8999999999996,"d":"1704.90"},{"v":1882.6999999999998,"d":"1882.70"},{"v":1923.2999999999997,"d":"1923.30"},{"v":1971.6,"d":"1971.60"},{"$f":"VLOOKUP($B371,[1]EQ!$A$1:$L$2000,4,0)","v":1875},{"$f":"VLOOKUP($B371,[1]EQ!$A$1:$L$2000,5,0)","v":1786.1},{"$f":"(VLOOKUP($B371,[1]EQ!$A$1:$L$2000,9,0)/100000)","v":19.96884}]
[362,"POLYMED",{"$f":"VLOOKUP($B372,[1]EQ!$A$1:$L$2000,6,0)","v":630.5},{"v":623.3333333333334,"d":"623.33"},{"v":610.6666666666667,"d":"610.67"},{"v":590.8333333333334,"d":"590.83"},{"v":578.1666666666667,"d":"578.17"},{"v":643.1666666666667,"d":"643.17"},{"v":655.8333333333335,"d":"655.83"},{"v":675.6666666666667,"d":"675.67"},{"$f":"VLOOKUP($B372,[1]EQ!$A$1:$L$2000,4,0)","v":636},{"$f":"VLOOKUP($B372,[1]EQ!$A$1:$L$2000,5,0)","v":603.5},{"$f":"(VLOOKUP($B372,[1]EQ!$A$1:$L$2000,9,0)/100000)","v":5.25443}]
[363,"POLYCAB",{"$f":"VLOOKUP($B373,[1]EQ!$A$1:$L$2000,6,0)","v":1326.4},{"v":1325.8,"d":"1325.80"},{"v":1311.6,"d":"1311.60"},{"v":1296.8,"d":"1296.80"},{"v":1282.6,"d":"1282.60"},{"v":1340.6,"d":"1340.60"},{"v":1354.8000000000002,"d":"1354.80"},{"v":1369.6,"d":"1369.60"},{"$f":"VLOOKUP($B373,[1]EQ!$A$1:$L$2000,4,0)","v":1340},{"$f":"VLOOKUP($B373,[1]EQ!$A$1:$L$2000,5,0)","v":1311},{"$f":"(VLOOKUP($B373,[1]EQ!$A$1:$L$2000,9,0)/100000)","v":2.28193}]
[364,"POLYPLEX",{"$f":"VLOOKUP($B374,[1]EQ!$A$1:$L$2000,6,0)","v":911.2},{"v":911.1,"d":"911.10"},{"v":893.2,"d":"893.20"},{"v":875.2,"d":"875.20"},{"v":857.3000000000001,"d":"857.30"},{"v":929.1,"d":"929.10"},{"v":946.9999999999999,"d":"947.00"},{"v":965,"d":"965.00"},{"$f":"VLOOKUP($B374,[1]EQ!$A$1:$L$2000,4,0)","v":929},{"$f":"VLOOKUP($B374,[1]EQ!$A$1:$L$2000,5,0)","v":893.1},{"$f":"(VLOOKUP($B374,[1]EQ!$A$1:$L$2000,9,0)/100000)","v":3.89437}]
[365,"PFC",{"$f":"VLOOKUP($B375,[1]EQ!$A$1:$L$2000,6,0)","v":133.7},{"v":133.83333333333334,"d":"133.83"},{"v":131.76666666666668,"d":"131.77"},{"v":129.83333333333334,"d":"129.83"},{"v":127.76666666666668,"d":"127.77"},{"v":135.76666666666668,"d":"135.77"},{"v":137.83333333333334,"d":"137.83"},{"v":139.76666666666668,"d":"139.77"},{"$f":"VLOOKUP($B375,[1]EQ!$A$1:$L$2000,4,0)","v":135.9},{"$f":"VLOOKUP($B375,[1]EQ!$A$1:$L$2000,5,0)","v":131.9},{"$f":"(VLOOKUP($B375,[1]EQ!$A$1:$L$2000,9,0)/100000)","v":85.26216}]
[366,"POWERGRID",{"$f":"VLOOKUP($B376,[1]EQ!$A$1:$L$2000,6,0)","v":225.55},{"v":222.91666666666666,"d":"222.92"},{"v":215.9333333333333,"d":"215.93"},{"v":206.31666666666666,"d":"206.32"},{"v":199.33333333333331,"d":"199.33"},{"v":232.5333333333333,"d":"232.53"},{"v":239.51666666666665,"d":"239.52"},{"v":249.1333333333333,"d":"249.13"},{"$f":"VLOOKUP($B376,[1]EQ!$A$1:$L$2000,4,0)","v":229.9},{"$f":"VLOOKUP($B376,[1]EQ!$A$1:$L$2000,5,0)","v":213.3},{"$f":"(VLOOKUP($B376,[1]EQ!$A$1:$L$2000,9,0)/100000)","v":451.1305}]
[367,"PRAJIND",{"$f":"VLOOKUP($B377,[1]EQ!$A$1:$L$2000,6,0)","v":131.65},{"v":130.54999999999998,"d":"130.55"},{"v":127.59999999999997,"d":"127.60"},{"v":123.54999999999998,"d":"123.55"},{"v":120.59999999999997,"d":"120.60"},{"v":134.59999999999997,"d":"134.60"},{"v":137.54999999999995,"d":"137.55"},{"v":141.59999999999997,"d":"141.60"},{"$f":"VLOOKUP($B377,[1]EQ!$A$1:$L$2000,4,0)","v":133.5},{"$f":"VLOOKUP($B377,[1]EQ!$A$1:$L$2000,5,0)","v":126.5},{"$f":"(VLOOKUP($B377,[1]EQ!$A$1:$L$2000,9,0)/100000)","v":21.49234}]
[368,"PRESTIGE",{"$f":"VLOOKUP($B378,[1]EQ!$A$1:$L$2000,6,0)","v":284.9},{"v":287.26666666666665,"d":"287.27"},{"v":280.8333333333333,"d":"280.83"},{"v":276.76666666666665,"d":"276.77"},{"v":270.3333333333333,"d":"270.33"},{"v":291.3333333333333,"d":"291.33"},{"v":297.7666666666667,"d":"297.77"},{"v":301.8333333333333,"d":"301.83"},{"$f":"VLOOKUP($B378,[1]EQ!$A$1:$L$2000,4,0)","v":293.7},{"$f":"VLOOKUP($B378,[1]EQ!$A$1:$L$2000,5,0)","v":283.2},{"$f":"(VLOOKUP($B378,[1]EQ!$A$1:$L$2000,9,0)/100000)","v":4.2165}]
[369,"PRSMJOHNSN",{"$f":"VLOOKUP($B379,[1]EQ!$A$1:$L$2000,6,0)","v":114},{"v":114.08333333333333,"d":"114.08"},{"v":111.31666666666666,"d":"111.32"},{"v":108.63333333333334,"d":"108.63"},{"v":105.86666666666667,"d":"105.87"},{"v":116.76666666666665,"d":"116.77"},{"v":119.53333333333333,"d":"119.53"},{"v":122.21666666666664,"d":"122.22"},{"$f":"VLOOKUP($B379,[1]EQ!$A$1:$L$2000,4,0)","v":116.85},{"$f":"VLOOKUP($B379,[1]EQ!$A$1:$L$2000,5,0)","v":111.4},{"$f":"(VLOOKUP($B379,[1]EQ!$A$1:$L$2000,9,0)/100000)","v":2.82997}]
[370,"PGHL",{"$f":"VLOOKUP($B380,[1]EQ!$A$1:$L$2000,6,0)","v":7364.95},{"v":7387.266666666666,"d":"7387.27"},{"v":7321.6833333333325,"d":"7321.68"},{"v":7278.416666666666,"d":"7278.42"},{"v":7212.833333333332,"d":"7212.83"},{"v":7430.533333333333,"d":"7430.53"},{"v":7496.116666666667,"d":"7496.12"},{"v":7539.383333333333,"d":"7539.38"},{"$f":"VLOOKUP($B380,[1]EQ!$A$1:$L$2000,4,0)","v":7452.85},{"$f":"VLOOKUP($B380,[1]EQ!$A$1:$L$2000,5,0)","v":7344},{"$f":"(VLOOKUP($B380,[1]EQ!$A$1:$L$2000,9,0)/100000)","v":0.07198}]
[371,"PGHH",{"$f":"VLOOKUP($B381,[1]EQ!$A$1:$L$2000,6,0)","v":13109.35},{"v":13305.299999999997,"d":"13305.30"},{"v":12810.599999999995,"d":"12810.60"},{"v":12511.849999999997,"d":"12511.85"},{"v":12017.149999999994,"d":"12017.15"},{"v":13604.049999999996,"d":"13604.05"},{"v":14098.749999999996,"d":"14098.75"},{"v":14397.499999999996,"d":"14397.50"},{"$f":"VLOOKUP($B381,[1]EQ!$A$1:$L$2000,4,0)","v":13800},{"$f":"VLOOKUP($B381,[1]EQ!$A$1:$L$2000,5,0)","v":13006.55},{"$f":"(VLOOKUP($B381,[1]EQ!$A$1:$L$2000,9,0)/100000)","v":0.09423}]
[372,"PNB",{"$f":"VLOOKUP($B382,[1]EQ!$A$1:$L$2000,6,0)","v":39.5},39.75,38.85,{"v":38.2,"d":"38.20"},{"v":37.300000000000004,"d":"37.30"},{"v":40.4,"d":"40.40"},{"v":41.300000000000004,"d":"41.30"},{"v":41.949999999999996,"d":"41.95"},{"$f":"VLOOKUP($B382,[1]EQ!$A$1:$L$2000,4,0)","v":40.65},{"$f":"VLOOKUP($B382,[1]EQ!$A$1:$L$2000,5,0)","v":39.1},{"$f":"(VLOOKUP($B382,[1]EQ!$A$1:$L$2000,9,0)/100000)","v":1875.20683}]
[373,"QUESS",{"$f":"VLOOKUP($B383,[1]EQ!$A$1:$L$2000,6,0)","v":720.25},711.75,{"v":698.5,"d":"698.50"},676.75,{"v":663.5,"d":"663.50"},{"v":733.5,"d":"733.50"},746.75,{"v":768.5,"d":"768.50"},{"$f":"VLOOKUP($B383,[1]EQ!$A$1:$L$2000,4,0)","v":725},{"$f":"VLOOKUP($B383,[1]EQ!$A$1:$L$2000,5,0)","v":690},{"$f":"(VLOOKUP($B383,[1]EQ!$A$1:$L$2000,9,0)/100000)","v":4.31991}]
[374,"RBLBANK",{"$f":"VLOOKUP($B384,[1]EQ!$A$1:$L$2000,6,0)","v":258.5},{"v":256.65000000000003,"d":"256.65"},{"v":251.30000000000007,"d":"251.30"},{"v":244.10000000000002,"d":"244.10"},{"v":238.75000000000006,"d":"238.75"},{"v":263.8500000000001,"d":"263.85"},{"v":269.2000000000001,"d":"269.20"},{"v":276.4000000000001,"d":"276.40"},{"$f":"VLOOKUP($B384,[1]EQ!$A$1:$L$2000,4,0)","v":262},{"$f":"VLOOKUP($B384,[1]EQ!$A$1:$L$2000,5,0)","v":249.45},{"$f":"(VLOOKUP($B384,[1]EQ!$A$1:$L$2000,9,0)/100000)","v":226.30711}]
[375,"RECLTD",{"$f":"VLOOKUP($B385,[1]EQ!$A$1:$L$2000,6,0)","v":153.7},{"v":154.16666666666666,"d":"154.17"},{"v":152.0333333333333,"d":"152.03"},{"v":150.36666666666665,"d":"150.37"},{"v":148.2333333333333,"d":"148.23"},{"v":155.83333333333331,"d":"155.83"},{"v":157.9666666666667,"d":"157.97"},{"v":159.63333333333333,"d":"159.63"},{"$f":"VLOOKUP($B385,[1]EQ!$A$1:$L$2000,4,0)","v":156.3},{"$f":"VLOOKUP($B385,[1]EQ!$A$1:$L$2000,5,0)","v":152.5},{"$f":"(VLOOKUP($B385,[1]EQ!$A$1:$L$2000,9,0)/100000)","v":52.94198}]
[376,"RITES",{"$f":"VLOOKUP($B386,[1]EQ!$A$1:$L$2000,6,0)","v":244.4},{"v":243.33333333333334,"d":"243.33"},{"v":240.66666666666669,"d":"240.67"},{"v":236.93333333333334,"d":"236.93"},{"v":234.26666666666668,"d":"234.27"},{"v":247.0666666666667,"d":"247.07"},{"v":249.73333333333338,"d":"249.73"},{"v":253.4666666666667,"d":"253.47"},{"$f":"VLOOKUP($B386,[1]EQ!$A$1:$L$2000,4,0)","v":246},{"$f":"VLOOKUP($B386,[1]EQ!$A$1:$L$2000,5,0)","v":239.6},{"$f":"(VLOOKUP($B386,[1]EQ!$A$1:$L$2000,9,0)/100000)","v":4.25007}]
[377,"RADICO",{"$f":"VLOOKUP($B387,[1]EQ!$A$1:$L$2000,6,0)","v":563.2},{"v":567.3000000000001,"d":"567.30"},{"v":553.9000000000001,"d":"553.90"},{"v":544.6,"d":"544.60"},{"v":531.2,"d":"531.20"},{"v":576.6000000000001,"d":"576.60"},{"v":590,"d":"590.00"},{"v":599.3000000000002,"d":"599.30"},{"$f":"VLOOKUP($B387,[1]EQ!$A$1:$L$2000,4,0)","v":580.7},{"$f":"VLOOKUP($B387,[1]EQ!$A$1:$L$2000,5,0)","v":558},{"$f":"(VLOOKUP($B387,[1]EQ!$A$1:$L$2000,9,0)/100000)","v":4.96907}]
[378,"RVNL",{"$f":"VLOOKUP($B388,[1]EQ!$A$1:$L$2000,6,0)","v":30.75},{"v":30.816666666666666,"d":"30.82"},{"v":30.383333333333333,"d":"30.38"},{"v":30.016666666666666,"d":"30.02"},{"v":29.583333333333332,"d":"29.58"},{"v":31.183333333333334,"d":"31.18"},{"v":31.616666666666664,"d":"31.62"},{"v":31.983333333333334,"d":"31.98"},{"$f":"VLOOKUP($B388,[1]EQ!$A$1:$L$2000,4,0)","v":31.25},{"$f":"VLOOKUP($B388,[1]EQ!$A$1:$L$2000,5,0)","v":30.45},{"$f":"(VLOOKUP($B388,[1]EQ!$A$1:$L$2000,9,0)/100000)","v":51.08907}]
[379,"RAIN",{"$f":"VLOOKUP($B389,[1]EQ!$A$1:$L$2000,6,0)","v":139.9},{"v":140.08333333333334,"d":"140.08"},{"v":137.41666666666669,"d":"137.42"},{"v":134.93333333333334,"d":"134.93"},{"v":132.26666666666668,"d":"132.27"},{"v":142.5666666666667,"d":"142.57"},{"v":145.23333333333338,"d":"145.23"},{"v":147.7166666666667,"d":"147.72"},{"$f":"VLOOKUP($B389,[1]EQ!$A$1:$L$2000,4,0)","v":142.75},{"$f":"VLOOKUP($B389,[1]EQ!$A$1:$L$2000,5,0)","v":137.6},{"$f":"(VLOOKUP($B389,[1]EQ!$A$1:$L$2000,9,0)/100000)","v":24.28373}]
[380,"RAJESHEXPO",{"$f":"VLOOKUP($B390,[1]EQ!$A$1:$L$2000,6,0)","v":479.4},{"v":478.81666666666666,"d":"478.82"},{"v":476.5333333333333,"d":"476.53"},{"v":473.66666666666663,"d":"473.67"},{"v":471.38333333333327,"d":"471.38"},{"v":481.68333333333334,"d":"481.68"},{"v":483.96666666666675,"d":"483.97"},{"v":486.83333333333337,"d":"486.83"},{"$f":"VLOOKUP($B390,[1]EQ!$A$1:$L$2000,4,0)","v":481.1},{"$f":"VLOOKUP($B390,[1]EQ!$A$1:$L$2000,5,0)","v":475.95},{"$f":"(VLOOKUP($B390,[1]EQ!$A$1:$L$2000,9,0)/100000)","v":0.63559}]
[381,"RALLIS",{"$f":"VLOOKUP($B391,[1]EQ!$A$1:$L$2000,6,0)","v":265.75},{"v":267.03333333333336,"d":"267.03"},{"v":262.7166666666667,"d":"262.72"},{"v":259.68333333333334,"d":"259.68"},{"v":255.36666666666667,"d":"255.37"},{"v":270.0666666666667,"d":"270.07"},{"v":274.38333333333344,"d":"274.38"},{"v":277.41666666666674,"d":"277.42"},{"$f":"VLOOKUP($B391,[1]EQ!$A$1:$L$2000,4,0)","v":271.35},{"$f":"VLOOKUP($B391,[1]EQ!$A$1:$L$2000,5,0)","v":264},{"$f":"(VLOOKUP($B391,[1]EQ!$A$1:$L$2000,9,0)/100000)","v":3.62167}]
[382,"RCF",{"$f":"VLOOKUP($B392,[1]EQ!$A$1:$L$2000,6,0)","v":53.6},{"v":53.550000000000004,"d":"53.55"},{"v":53.150000000000006,"d":"53.15"},{"v":52.7,"d":"52.70"},{"v":52.300000000000004,"d":"52.30"},{"v":54.00000000000001,"d":"54.00"},{"v":54.4,"d":"54.40"},{"v":54.85000000000001,"d":"54.85"},{"$f":"VLOOKUP($B392,[1]EQ!$A$1:$L$2000,4,0)","v":53.95},{"$f":"VLOOKUP($B392,[1]EQ!$A$1:$L$2000,5,0)","v":53.1},{"$f":"(VLOOKUP($B392,[1]EQ!$A$1:$L$2000,9,0)/100000)","v":8.00136}]
[383,"RATNAMANI",{"$f":"VLOOKUP($B393,[1]EQ!$A$1:$L$2000,6,0)","v":1681.9},{"v":1686.7,"d":"1686.70"},{"v":1637.4,"d":"1637.40"},{"v":1592.9,"d":"1592.90"},{"v":1543.6000000000001,"d":"1543.60"},{"v":1731.2,"d":"1731.20"},{"v":1780.4999999999998,"d":"1780.50"},{"v":1825,"d":"1825.00"},{"$f":"VLOOKUP($B393,[1]EQ!$A$1:$L$2000,4,0)","v":1736},{"$f":"VLOOKUP($B393,[1]EQ!$A$1:$L$2000,5,0)","v":1642.2},{"$f":"(VLOOKUP($B393,[1]EQ!$A$1:$L$2000,9,0)/100000)","v":0.85484}]
[384,"RAYMOND",{"$f":"VLOOKUP($B394,[1]EQ!$A$1:$L$2000,6,0)","v":331.8},{"v":331.90000000000003,"d":"331.90"},{"v":327.9000000000001,"d":"327.90"},{"v":324.00000000000006,"d":"324.00"},{"v":320.0000000000001,"d":"320.00"},{"v":335.80000000000007,"d":"335.80"},{"v":339.79999999999995,"d":"339.80"},{"v":343.70000000000005,"d":"343.70"},{"$f":"VLOOKUP($B394,[1]EQ!$A$1:$L$2000,4,0)","v":335.9},{"$f":"VLOOKUP($B394,[1]EQ!$A$1:$L$2000,5,0)","v":328},{"$f":"(VLOOKUP($B394,[1]EQ!$A$1:$L$2000,9,0)/100000)","v":4.4449}]
[385,"REDINGTON",{"$f":"VLOOKUP($B395,[1]EQ!$A$1:$L$2000,6,0)","v":173.9},{"$f":"(C395+K395+L395)/3","v":{"v":171.30000000000004,"d":"171.30"}},{"$f":"+(D395*2)-K395","v":{"v":165.80000000000007,"d":"165.80"}},{"$f":"+D395-K395+L395","v":{"v":157.70000000000002,"d":"157.70"}},{"$f":"L395-2*(K395-D395)","v":{"v":152.20000000000005,"d":"152.20"}},{"$f":"(D395*2)-L395","v":{"v":179.4000000000001,"d":"179.40"}},{"$f":"+D395+K395-L395","v":{"v":184.90000000000003,"d":"184.90"}},{"$f":"K395+2*(D395-L395)","v":{"v":193.0000000000001,"d":"193.00"}},{"$f":"VLOOKUP($B395,[1]EQ!$A$1:$L$2000,4,0)","v":176.8},{"$f":"VLOOKUP($B395,[1]EQ!$A$1:$L$2000,5,0)","v":163.2},{"$f":"(VLOOKUP($B395,[1]EQ!$A$1:$L$2000,9,0)/100000)","v":8.75702}]
[386,"RELAXO",{"$f":"VLOOKUP($B396,[1]EQ!$A$1:$L$2000,6,0)","v":874.65},{"v":869.8833333333333,"d":"869.88"},{"v":858.7666666666667,"d":"858.77"},{"v":842.8833333333333,"d":"842.88"},{"v":831.7666666666667,"d":"831.77"},{"v":885.7666666666667,"d":"885.77"},{"v":896.8833333333332,"d":"896.88"},{"v":912.7666666666667,"d":"912.77"},{"$f":"VLOOKUP($B396,[1]EQ!$A$1:$L$2000,4,0)","v":881},{"$f":"VLOOKUP($B396,[1]EQ!$A$1:$L$2000,5,0)","v":854},{"$f":"(VLOOKUP($B396,[1]EQ!$A$1:$L$2000,9,0)/100000)","v":1.08907}]
[387,"RELIANCE",{"$f":"VLOOKUP($B397,[1]EQ!$A$1:$L$2000,6,0)","v":2059.5},{"v":2057.9666666666667,"d":"2057.97"},{"v":2036.5333333333333,"d":"2036.53"},{"v":2013.5666666666666,"d":"2013.57"},{"v":1992.1333333333332,"d":"1992.13"},{"v":2080.9333333333334,"d":"2080.93"},{"v":2102.366666666667,"d":"2102.37"},{"v":2125.3333333333335,"d":"2125.33"},{"$f":"VLOOKUP($B397,[1]EQ!$A$1:$L$2000,4,0)","v":2079.4},{"$f":"VLOOKUP($B397,[1]EQ!$A$1:$L$2000,5,0)","v":2035},{"$f":"(VLOOKUP($B397,[1]EQ!$A$1:$L$2000,9,0)/100000)","v":98.86093}]
[388,"SBICARD",{"$f":"VLOOKUP($B398,[1]EQ!$A$1:$L$2000,6,0)","v":1019.35},{"v":1023.7833333333333,"d":"1023.78"},{"v":1010.5666666666666,"d":"1010.57"},{"v":1001.7833333333333,"d":"1001.78"},{"v":988.5666666666666,"d":"988.57"},{"v":1032.5666666666666,"d":"1032.57"},{"v":1045.7833333333333,"d":"1045.78"},{"v":1054.5666666666666,"d":"1054.57"},{"$f":"VLOOKUP($B398,[1]EQ!$A$1:$L$2000,4,0)","v":1037},{"$f":"VLOOKUP($B398,[1]EQ!$A$1:$L$2000,5,0)","v":1015},{"$f":"(VLOOKUP($B398,[1]EQ!$A$1:$L$2000,9,0)/100000)","v":9.53363}]
[389,"SBILIFE",{"$f":"VLOOKUP($B399,[1]EQ!$A$1:$L$2000,6,0)","v":872},{"v":876.4333333333334,"d":"876.43"},{"v":864.5666666666668,"d":"864.57"},{"v":857.1333333333334,"d":"857.13"},{"v":845.2666666666669,"d":"845.27"},{"v":883.8666666666668,"d":"883.87"},{"v":895.7333333333333,"d":"895.73"},{"v":903.1666666666667,"d":"903.17"},{"$f":"VLOOKUP($B399,[1]EQ!$A$1:$L$2000,4,0)","v":888.3},{"$f":"VLOOKUP($B399,[1]EQ!$A$1:$L$2000,5,0)","v":869},{"$f":"(VLOOKUP($B399,[1]EQ!$A$1:$L$2000,9,0)/100000)","v":16.34864}]
[390,"SJVN",{"$f":"VLOOKUP($B400,[1]EQ!$A$1:$L$2000,6,0)","v":26.9},{"v":26.96666666666667,"d":"26.97"},{"v":26.683333333333337,"d":"26.68"},{"v":26.46666666666667,"d":"26.47"},{"v":26.183333333333337,"d":"26.18"},{"v":27.183333333333337,"d":"27.18"},{"v":27.46666666666667,"d":"27.47"},{"v":27.683333333333337,"d":"27.68"},{"$f":"VLOOKUP($B400,[1]EQ!$A$1:$L$2000,4,0)","v":27.25},{"$f":"VLOOKUP($B400,[1]EQ!$A$1:$L$2000,5,0)","v":26.75},{"$f":"(VLOOKUP($B400,[1]EQ!$A$1:$L$2000,9,0)/100000)","v":25.1559}]
[391,"SKFINDIA",{"$f":"VLOOKUP($B401,[1]EQ!$A$1:$L$2000,6,0)","v":2338.65},{"v":2355.933333333333,"d":"2355.93"},{"v":2311.866666666666,"d":"2311.87"},{"v":2285.083333333333,"d":"2285.08"},{"v":2241.016666666666,"d":"2241.02"},{"v":2382.716666666666,"d":"2382.72"},{"v":2426.7833333333324,"d":"2426.78"},{"v":2453.5666666666657,"d":"2453.57"},{"$f":"VLOOKUP($B401,[1]EQ!$A$1:$L$2000,4,0)","v":2400},{"$f":"VLOOKUP($B401,[1]EQ!$A$1:$L$2000,5,0)","v":2329.15},{"$f":"(VLOOKUP($B401,[1]EQ!$A$1:$L$2000,9,0)/100000)","v":0.17099}]
[392,"SRF",{"$f":"VLOOKUP($B402,[1]EQ!$A$1:$L$2000,6,0)","v":5787.6},{"v":5744.2,"d":"5744.20"},{"v":5668.4,"d":"5668.40"},{"v":5549.2,"d":"5549.20"},{"v":5473.4,"d":"5473.40"},{"v":5863.4,"d":"5863.40"},{"v":5939.200000000001,"d":"5939.20"},{"v":6058.4,"d":"6058.40"},{"$f":"VLOOKUP($B402,[1]EQ!$A$1:$L$2000,4,0)","v":5820},{"$f":"VLOOKUP($B402,[1]EQ!$A$1:$L$2000,5,0)","v":5625},{"$f":"(VLOOKUP($B402,[1]EQ!$A$1:$L$2000,9,0)/100000)","v":1.72931}]
[393,"SANOFI",{"$f":"VLOOKUP($B403,[1]EQ!$A$1:$L$2000,6,0)","v":7830.65},{"v":7845.716666666667,"d":"7845.72"},{"v":7796.433333333334,"d":"7796.43"},{"v":7762.216666666667,"d":"7762.22"},{"v":7712.933333333334,"d":"7712.93"},{"v":7879.933333333334,"d":"7879.93"},{"v":7929.216666666667,"d":"7929.22"},{"v":7963.433333333334,"d":"7963.43"},{"$f":"VLOOKUP($B403,[1]EQ!$A$1:$L$2000,4,0)","v":7895},{"$f":"VLOOKUP($B403,[1]EQ!$A$1:$L$2000,5,0)","v":7811.5},{"$f":"(VLOOKUP($B403,[1]EQ!$A$1:$L$2000,9,0)/100000)","v":0.29867}]
[394,"SCHAEFFLER",{"$f":"VLOOKUP($B404,[1]EQ!$A$1:$L$2000,6,0)","v":5032.15},{"v":5053.466666666666,"d":"5053.47"},{"v":4958.6833333333325,"d":"4958.68"},{"v":4885.216666666666,"d":"4885.22"},{"v":4790.4333333333325,"d":"4790.43"},{"v":5126.9333333333325,"d":"5126.93"},{"v":5221.716666666667,"d":"5221.72"},{"v":5295.1833333333325,"d":"5295.18"},{"$f":"VLOOKUP($B404,[1]EQ!$A$1:$L$2000,4,0)","v":5148.25},{"$f":"VLOOKUP($B404,[1]EQ!$A$1:$L$2000,5,0)","v":4980},{"$f":"(VLOOKUP($B404,[1]EQ!$A$1:$L$2000,9,0)/100000)","v":0.24194}]
[395,"SCHNEIDER",{"$f":"VLOOKUP($B405,[1]EQ!$A$1:$L$2000,6,0)","v":98.35},{"v":98.31666666666668,"d":"98.32"},{"v":96.43333333333335,"d":"96.43"},{"v":94.51666666666668,"d":"94.52"},{"v":92.63333333333335,"d":"92.63"},{"v":100.23333333333335,"d":"100.23"},{"v":102.11666666666667,"d":"102.12"},{"v":104.03333333333335,"d":"104.03"},{"$f":"VLOOKUP($B405,[1]EQ!$A$1:$L$2000,4,0)","v":100.2},{"$f":"VLOOKUP($B405,[1]EQ!$A$1:$L$2000,5,0)","v":96.4},{"$f":"(VLOOKUP($B405,[1]EQ!$A$1:$L$2000,9,0)/100000)","v":5.37284}]
[396,"SIS",{"$f":"VLOOKUP($B406,[1]EQ!$A$1:$L$2000,6,0)","v":433.7},{"v":441.06666666666666,"d":"441.07"},{"v":423.1333333333333,"d":"423.13"},{"v":412.56666666666666,"d":"412.57"},{"v":394.6333333333333,"d":"394.63"},{"v":451.6333333333333,"d":"451.63"},{"v":469.5666666666666,"d":"469.57"},{"v":480.1333333333333,"d":"480.13"},{"$f":"VLOOKUP($B406,[1]EQ!$A$1:$L$2000,4,0)","v":459},{"$f":"VLOOKUP($B406,[1]EQ!$A$1:$L$2000,5,0)","v":430.5},{"$f":"(VLOOKUP($B406,[1]EQ!$A$1:$L$2000,9,0)/100000)","v":17.57382}]
[397,"SEQUENT",{"$f":"VLOOKUP($B407,[1]EQ!$A$1:$L$2000,6,0)","v":248.6},{"v":248.98333333333335,"d":"248.98"},{"v":245.0666666666667,"d":"245.07"},{"v":241.53333333333333,"d":"241.53"},{"v":237.61666666666667,"d":"237.62"},{"v":252.5166666666667,"d":"252.52"},{"v":256.43333333333334,"d":"256.43"},{"v":259.9666666666667,"d":"259.97"},{"$f":"VLOOKUP($B407,[1]EQ!$A$1:$L$2000,4,0)","v":252.9},{"$f":"VLOOKUP($B407,[1]EQ!$A$1:$L$2000,5,0)","v":245.45},{"$f":"(VLOOKUP($B407,[1]EQ!$A$1:$L$2000,9,0)/100000)","v":4.78762}]
[398,"SFL",{"$f":"VLOOKUP($B408,[1]EQ!$A$1:$L$2000,6,0)","v":2038.1},{"v":2039.3166666666666,"d":"2039.32"},{"v":2020.833333333333,"d":"2020.83"},{"v":2003.5666666666664,"d":"2003.57"},{"v":1985.0833333333328,"d":"1985.08"},{"v":2056.583333333333,"d":"2056.58"},{"v":2075.0666666666666,"d":"2075.07"},{"v":2092.3333333333335,"d":"2092.33"},{"$f":"VLOOKUP($B408,[1]EQ!$A$1:$L$2000,4,0)","v":2057.8},{"$f":"VLOOKUP($B408,[1]EQ!$A$1:$L$2000,5,0)","v":2022.05},{"$f":"(VLOOKUP($B408,[1]EQ!$A$1:$L$2000,9,0)/100000)","v":0.08073}]
[399,"SHILPAMED",{"$f":"VLOOKUP($B409,[1]EQ!$A$1:$L$2000,6,0)","v":423.5},{"v":423.73333333333335,"d":"423.73"},{"v":420.7666666666667,"d":"420.77"},{"v":418.03333333333336,"d":"418.03"},{"v":415.0666666666667,"d":"415.07"},{"v":426.4666666666667,"d":"426.47"},{"v":429.4333333333334,"d":"429.43"},{"v":432.1666666666667,"d":"432.17"},{"$f":"VLOOKUP($B409,[1]EQ!$A$1:$L$2000,4,0)","v":426.7},{"$f":"VLOOKUP($B409,[1]EQ!$A$1:$L$2000,5,0)","v":421},{"$f":"(VLOOKUP($B409,[1]EQ!$A$1:$L$2000,9,0)/100000)","v":1.959}]
[400,"SCI",{"$f":"VLOOKUP($B410,[1]EQ!$A$1:$L$2000,6,0)","v":85.9},{"v":85.78333333333335,"d":"85.78"},{"v":84.66666666666669,"d":"84.67"},{"v":83.43333333333334,"d":"83.43"},{"v":82.31666666666668,"d":"82.32"},{"v":87.0166666666667,"d":"87.02"},{"v":88.13333333333334,"d":"88.13"},{"v":89.3666666666667,"d":"89.37"},{"$f":"VLOOKUP($B410,[1]EQ!$A$1:$L$2000,4,0)","v":86.9},{"$f":"VLOOKUP($B410,[1]EQ!$A$1:$L$2000,5,0)","v":84.55},{"$f":"(VLOOKUP($B410,[1]EQ!$A$1:$L$2000,9,0)/100000)","v":14.91892}]
[401,"SHOPERSTOP",{"$f":"VLOOKUP($B411,[1]EQ!$A$1:$L$2000,6,0)","v":213.05},213.65,{"v":210.4,"d":"210.40"},207.75,{"v":204.5,"d":"204.50"},{"v":216.3,"d":"216.30"},219.55,{"v":222.20000000000002,"d":"222.20"},{"$f":"VLOOKUP($B411,[1]EQ!$A$1:$L$2000,4,0)","v":216.9},{"$f":"VLOOKUP($B411,[1]EQ!$A$1:$L$2000,5,0)","v":211},{"$f":"(VLOOKUP($B411,[1]EQ!$A$1:$L$2000,9,0)/100000)","v":1.78612}]
[402,"SHREECEM",{"$f":"VLOOKUP($B412,[1]EQ!$A$1:$L$2000,6,0)","v":28597.4},{"v":28704.5,"d":"28704.50"},{"v":28319,"d":"28319.00"},{"v":28040.6,"d":"28040.60"},{"v":27655.1,"d":"27655.10"},{"v":28982.9,"d":"28982.90"},{"v":29368.4,"d":"29368.40"},{"v":29646.800000000003,"d":"29646.80"},{"$f":"VLOOKUP($B412,[1]EQ!$A$1:$L$2000,4,0)","v":29090},{"$f":"VLOOKUP($B412,[1]EQ!$A$1:$L$2000,5,0)","v":28426.1},{"$f":"(VLOOKUP($B412,[1]EQ!$A$1:$L$2000,9,0)/100000)","v":0.70319}]
[403,"SHRIRAMCIT",{"$f":"VLOOKUP($B413,[1]EQ!$A$1:$L$2000,6,0)","v":1495.2},{"v":1492.6499999999999,"d":"1492.65"},{"v":1483.7999999999997,"d":"1483.80"},{"v":1472.3999999999999,"d":"1472.40"},{"v":1463.5499999999997,"d":"1463.55"},{"v":1504.0499999999997,"d":"1504.05"},{"v":1512.8999999999996,"d":"1512.90"},{"v":1524.2999999999997,"d":"1524.30"},{"$f":"VLOOKUP($B413,[1]EQ!$A$1:$L$2000,4,0)","v":1501.5},{"$f":"VLOOKUP($B413,[1]EQ!$A$1:$L$2000,5,0)","v":1481.25},{"$f":"(VLOOKUP($B413,[1]EQ!$A$1:$L$2000,9,0)/100000)","v":0.14228}]
[404,"SRTRANSFIN",{"$f":"VLOOKUP($B414,[1]EQ!$A$1:$L$2000,6,0)","v":1477.8},{"v":1486.0666666666668,"d":"1486.07"},{"v":1453.1333333333337,"d":"1453.13"},{"v":1428.466666666667,"d":"1428.47"},{"v":1395.5333333333338,"d":"1395.53"},{"v":1510.7333333333336,"d":"1510.73"},{"v":1543.6666666666665,"d":"1543.67"},{"v":1568.3333333333335,"d":"1568.33"},{"$f":"VLOOKUP($B414,[1]EQ!$A$1:$L$2000,4,0)","v":1519},{"$f":"VLOOKUP($B414,[1]EQ!$A$1:$L$2000,5,0)","v":1461.4},{"$f":"(VLOOKUP($B414,[1]EQ!$A$1:$L$2000,9,0)/100000)","v":23.25039}]
[405,"SIEMENS",{"$f":"VLOOKUP($B415,[1]EQ!$A$1:$L$2000,6,0)","v":1831.55},{"v":1852.1833333333334,"d":"1852.18"},{"v":1794.3666666666668,"d":"1794.37"},{"v":1757.1833333333334,"d":"1757.18"},{"v":1699.3666666666668,"d":"1699.37"},{"v":1889.3666666666668,"d":"1889.37"},{"v":1947.1833333333334,"d":"1947.18"},{"v":1984.3666666666668,"d":"1984.37"},{"$f":"VLOOKUP($B415,[1]EQ!$A$1:$L$2000,4,0)","v":1910},{"$f":"VLOOKUP($B415,[1]EQ!$A$1:$L$2000,5,0)","v":1815},{"$f":"(VLOOKUP($B415,[1]EQ!$A$1:$L$2000,9,0)/100000)","v":5.57842}]
[406,"SOBHA",{"$f":"VLOOKUP($B416,[1]EQ!$A$1:$L$2000,6,0)","v":452.7},{"v":454.56666666666666,"d":"454.57"},{"v":443.1333333333333,"d":"443.13"},{"v":433.56666666666666,"d":"433.57"},{"v":422.1333333333333,"d":"422.13"},{"v":464.1333333333333,"d":"464.13"},{"v":475.5666666666666,"d":"475.57"},{"v":485.1333333333333,"d":"485.13"},{"$f":"VLOOKUP($B416,[1]EQ!$A$1:$L$2000,4,0)","v":466},{"$f":"VLOOKUP($B416,[1]EQ!$A$1:$L$2000,5,0)","v":445},{"$f":"(VLOOKUP($B416,[1]EQ!$A$1:$L$2000,9,0)/100000)","v":2.68741}]
[407,"SOLARINDS",{"$f":"VLOOKUP($B417,[1]EQ!$A$1:$L$2000,6,0)","v":1289.85},{"v":1313.7666666666667,"d":"1313.77"},{"v":1217.2333333333333,"d":"1217.23"},{"v":1144.6166666666668,"d":"1144.62"},{"v":1048.0833333333335,"d":"1048.08"},{"v":1386.3833333333332,"d":"1386.38"},{"v":1482.9166666666665,"d":"1482.92"},{"v":1555.533333333333,"d":"1555.53"},{"$f":"VLOOKUP($B417,[1]EQ!$A$1:$L$2000,4,0)","v":1410.3},{"$f":"VLOOKUP($B417,[1]EQ!$A$1:$L$2000,5,0)","v":1241.15},{"$f":"(VLOOKUP($B417,[1]EQ!$A$1:$L$2000,9,0)/100000)","v":2.4277}]
[408,"SOLARA",{"$f":"VLOOKUP($B418,[1]EQ!$A$1:$L$2000,6,0)","v":1533.5},1538.05,1522.25,{"v":1511,"d":"1511.00"},{"v":1495.2,"d":"1495.20"},{"v":1549.3,"d":"1549.30"},{"v":1565.0999999999997,"d":"1565.10"},1576.35,{"$f":"VLOOKUP($B418,[1]EQ!$A$1:$L$2000,4,0)","v":1553.85},{"$f":"VLOOKUP($B418,[1]EQ!$A$1:$L$2000,5,0)","v":1526.8},{"$f":"(VLOOKUP($B418,[1]EQ!$A$1:$L$2000,9,0)/100000)","v":0.34282}]
[409,"SONATSOFTW",{"$f":"VLOOKUP($B419,[1]EQ!$A$1:$L$2000,6,0)","v":394.65},{"v":396.26666666666665,"d":"396.27"},{"v":391.5333333333333,"d":"391.53"},{"v":388.41666666666663,"d":"388.42"},{"v":383.6833333333333,"d":"383.68"},{"v":399.3833333333333,"d":"399.38"},{"v":404.1166666666667,"d":"404.12"},{"v":407.23333333333335,"d":"407.23"},{"$f":"VLOOKUP($B419,[1]EQ!$A$1:$L$2000,4,0)","v":401},{"$f":"VLOOKUP($B419,[1]EQ!$A$1:$L$2000,5,0)","v":393.15},{"$f":"(VLOOKUP($B419,[1]EQ!$A$1:$L$2000,9,0)/100000)","v":1.40191}]
[410,"SOUTHBANK",{"$f":"VLOOKUP($B420,[1]EQ!$A$1:$L$2000,6,0)","v":8.15},{"v":8.200000000000001,"d":"8.20"},{"v":8.050000000000002,"d":"8.05"},{"v":7.950000000000001,"d":"7.95"},{"v":7.8000000000000025,"d":"7.80"},{"v":8.300000000000002,"d":"8.30"},{"v":8.450000000000001,"d":"8.45"},{"v":8.550000000000002,"d":"8.55"},{"$f":"VLOOKUP($B420,[1]EQ!$A$1:$L$2000,4,0)","v":8.35},{"$f":"VLOOKUP($B420,[1]EQ!$A$1:$L$2000,5,0)","v":8.1},{"$f":"(VLOOKUP($B420,[1]EQ!$A$1:$L$2000,9,0)/100000)","v":86.92685}]
[411,"SPICEJET",{"$f":"VLOOKUP($B421,[1]EQ!$A$1:$L$2000,6,0)","v":87.35},{"v":87.8,"d":"87.80"},86.55,85.75,{"v":84.5,"d":"84.50"},{"v":88.6,"d":"88.60"},89.85,{"v":90.64999999999999,"d":"90.65"},{"$f":"VLOOKUP($B421,[1]EQ!$A$1:$L$2000,4,0)","v":89.05},{"$f":"VLOOKUP($B421,[1]EQ!$A$1:$L$2000,5,0)","v":87},{"$f":"(VLOOKUP($B421,[1]EQ!$A$1:$L$2000,9,0)/100000)","v":25.9827}]
[412,"STARCEMENT",{"$f":"VLOOKUP($B422,[1]EQ!$A$1:$L$2000,6,0)","v":98.25},98.95,{"v":97.30000000000001,"d":"97.30"},{"v":96.35000000000001,"d":"96.35"},{"v":94.70000000000002,"d":"94.70"},{"v":99.9,"d":"99.90"},{"v":101.55000000000001,"d":"101.55"},{"v":102.5,"d":"102.50"},{"$f":"VLOOKUP($B422,[1]EQ!$A$1:$L$2000,4,0)","v":100.6},{"$f":"VLOOKUP($B422,[1]EQ!$A$1:$L$2000,5,0)","v":98},{"$f":"(VLOOKUP($B422,[1]EQ!$A$1:$L$2000,9,0)/100000)","v":2.63728}]
[413,"SBIN",{"$f":"VLOOKUP($B423,[1]EQ!$A$1:$L$2000,6,0)","v":402.35},{"v":406.1333333333334,"d":"406.13"},{"v":396.51666666666677,"d":"396.52"},{"v":390.6833333333334,"d":"390.68"},{"v":381.0666666666668,"d":"381.07"},{"v":411.96666666666675,"d":"411.97"},{"v":421.5833333333334,"d":"421.58"},{"v":427.41666666666674,"d":"427.42"},{"$f":"VLOOKUP($B423,[1]EQ!$A$1:$L$2000,4,0)","v":415.75},{"$f":"VLOOKUP($B423,[1]EQ!$A$1:$L$2000,5,0)","v":400.3},{"$f":"(VLOOKUP($B423,[1]EQ!$A$1:$L$2000,9,0)/100000)","v":803.65431}]
[414,"SAIL",{"$f":"VLOOKUP($B424,[1]EQ!$A$1:$L$2000,6,0)","v":64.75},{"v":64.63333333333334,"d":"64.63"},{"v":62.866666666666674,"d":"62.87"},{"v":60.983333333333334,"d":"60.98"},{"v":59.21666666666667,"d":"59.22"},{"v":66.51666666666668,"d":"66.52"},{"v":68.28333333333336,"d":"68.28"},{"v":70.16666666666669,"d":"70.17"},{"$f":"VLOOKUP($B424,[1]EQ!$A$1:$L$2000,4,0)","v":66.4},{"$f":"VLOOKUP($B424,[1]EQ!$A$1:$L$2000,5,0)","v":62.75},{"$f":"(VLOOKUP($B424,[1]EQ!$A$1:$L$2000,9,0)/100000)","v":536.47015}]
[415,"SWSOLAR",{"$f":"VLOOKUP($B425,[1]EQ!$A$1:$L$2000,6,0)","v":229.7},{"v":232.88333333333333,"d":"232.88"},{"v":224.96666666666664,"d":"224.97"},{"v":220.23333333333332,"d":"220.23"},{"v":212.31666666666663,"d":"212.32"},{"v":237.61666666666665,"d":"237.62"},{"v":245.53333333333333,"d":"245.53"},{"v":250.26666666666665,"d":"250.27"},{"$f":"VLOOKUP($B425,[1]EQ!$A$1:$L$2000,4,0)","v":240.8},{"$f":"VLOOKUP($B425,[1]EQ!$A$1:$L$2000,5,0)","v":228.15},{"$f":"(VLOOKUP($B425,[1]EQ!$A$1:$L$2000,9,0)/100000)","v":5.72959}]
[416,"STLTECH",{"$f":"VLOOKUP($B426,[1]EQ!$A$1:$L$2000,6,0)","v":186.75},{"v":185.6,"d":"185.60"},181.45,176.15,{"v":172,"d":"172.00"},{"v":190.89999999999998,"d":"190.90"},195.05,{"v":200.34999999999997,"d":"200.35"},{"$f":"VLOOKUP($B426,[1]EQ!$A$1:$L$2000,4,0)","v":189.75},{"$f":"VLOOKUP($B426,[1]EQ!$A$1:$L$2000,5,0)","v":180.3},{"$f":"(VLOOKUP($B426,[1]EQ!$A$1:$L$2000,9,0)/100000)","v":16.0313}]
[417,"STAR",{"$f":"VLOOKUP($B427,[1]EQ!$A$1:$L$2000,6,0)","v":898.05},{"v":899.0500000000001,"d":"899.05"},{"v":889.1000000000001,"d":"889.10"},{"v":880.1500000000001,"d":"880.15"},{"v":870.2000000000002,"d":"870.20"},{"v":908.0000000000001,"d":"908.00"},{"v":917.9500000000002,"d":"917.95"},{"v":926.9000000000001,"d":"926.90"},{"$f":"VLOOKUP($B427,[1]EQ!$A$1:$L$2000,4,0)","v":909},{"$f":"VLOOKUP($B427,[1]EQ!$A$1:$L$2000,5,0)","v":890.1},{"$f":"(VLOOKUP($B427,[1]EQ!$A$1:$L$2000,9,0)/100000)","v":2.85081}]
[418,"SUDARSCHEM",{"$f":"VLOOKUP($B428,[1]EQ!$A$1:$L$2000,6,0)","v":504},{"v":506.7,"d":"506.70"},{"v":499.29999999999995,"d":"499.30"},{"v":494.59999999999997,"d":"494.60"},{"v":487.19999999999993,"d":"487.20"},{"v":511.4,"d":"511.40"},{"v":518.8,"d":"518.80"},{"v":523.5,"d":"523.50"},{"$f":"VLOOKUP($B428,[1]EQ!$A$1:$L$2000,4,0)","v":514.1},{"$f":"VLOOKUP($B428,[1]EQ!$A$1:$L$2000,5,0)","v":502},{"$f":"(VLOOKUP($B428,[1]EQ!$A$1:$L$2000,9,0)/100000)","v":0.66197}]
[419,"SUMICHEM",{"$f":"VLOOKUP($B429,[1]EQ!$A$1:$L$2000,6,0)","v":301.5},{"v":302.3333333333333,"d":"302.33"},{"v":297.3666666666666,"d":"297.37"},{"v":293.2333333333333,"d":"293.23"},{"v":288.2666666666666,"d":"288.27"},{"v":306.46666666666664,"d":"306.47"},{"v":311.43333333333334,"d":"311.43"},{"v":315.56666666666666,"d":"315.57"},{"$f":"VLOOKUP($B429,[1]EQ!$A$1:$L$2000,4,0)","v":307.3},{"$f":"VLOOKUP($B429,[1]EQ!$A$1:$L$2000,5,0)","v":298.2},{"$f":"(VLOOKUP($B429,[1]EQ!$A$1:$L$2000,9,0)/100000)","v":4.21885}]
[420,"SPARC",{"$f":"VLOOKUP($B430,[1]EQ!$A$1:$L$2000,6,0)","v":181.1},{"v":181.70000000000002,"d":"181.70"},{"v":179.90000000000003,"d":"179.90"},{"v":178.70000000000002,"d":"178.70"},{"v":176.90000000000003,"d":"176.90"},{"v":182.90000000000003,"d":"182.90"},{"v":184.70000000000005,"d":"184.70"},{"v":185.90000000000003,"d":"185.90"},{"$f":"VLOOKUP($B430,[1]EQ!$A$1:$L$2000,4,0)","v":183.5},{"$f":"VLOOKUP($B430,[1]EQ!$A$1:$L$2000,5,0)","v":180.5},{"$f":"(VLOOKUP($B430,[1]EQ!$A$1:$L$2000,9,0)/100000)","v":3.74815}]
[421,"SUNPHARMA",{"$f":"VLOOKUP($B431,[1]EQ!$A$1:$L$2000,6,0)","v":631.15},{"v":629.5500000000001,"d":"629.55"},{"v":624.6000000000001,"d":"624.60"},{"v":618.0500000000001,"d":"618.05"},{"v":613.1000000000001,"d":"613.10"},{"v":636.1000000000001,"d":"636.10"},{"v":641.0500000000002,"d":"641.05"},{"v":647.6000000000001,"d":"647.60"},{"$f":"VLOOKUP($B431,[1]EQ!$A$1:$L$2000,4,0)","v":634.5},{"$f":"VLOOKUP($B431,[1]EQ!$A$1:$L$2000,5,0)","v":623},{"$f":"(VLOOKUP($B431,[1]EQ!$A$1:$L$2000,9,0)/100000)","v":61.37454}]
[422,"SUNTV",{"$f":"VLOOKUP($B432,[1]EQ!$A$1:$L$2000,6,0)","v":516.3},{"v":517.9333333333333,"d":"517.93"},{"v":512.3666666666666,"d":"512.37"},{"v":508.4333333333333,"d":"508.43"},{"v":502.86666666666656,"d":"502.87"},{"v":521.8666666666666,"d":"521.87"},{"v":527.4333333333334,"d":"527.43"},{"v":531.3666666666666,"d":"531.37"},{"$f":"VLOOKUP($B432,[1]EQ!$A$1:$L$2000,4,0)","v":523.5},{"$f":"VLOOKUP($B432,[1]EQ!$A$1:$L$2000,5,0)","v":514},{"$f":"(VLOOKUP($B432,[1]EQ!$A$1:$L$2000,9,0)/100000)","v":15.6932}]
[423,"SUNDARMFIN",{"$f":"VLOOKUP($B433,[1]EQ!$A$1:$L$2000,6,0)","v":2355.55},{"v":2290.5,"d":"2290.50"},{"v":2202,"d":"2202.00"},2048.45,{"v":1959.9499999999998,"d":"1959.95"},2444.05,2532.55,{"v":2686.1000000000004,"d":"2686.10"},{"$f":"VLOOKUP($B433,[1]EQ!$A$1:$L$2000,4,0)","v":2379},{"$f":"VLOOKUP($B433,[1]EQ!$A$1:$L$2000,5,0)","v":2136.95},{"$f":"(VLOOKUP($B433,[1]EQ!$A$1:$L$2000,9,0)/100000)","v":2.66418}]
[424,"SUNDRMFAST",{"$f":"VLOOKUP($B434,[1]EQ!$A$1:$L$2000,6,0)","v":652.1},{"v":650.3666666666667,"d":"650.37"},{"v":643.7333333333333,"d":"643.73"},{"v":635.3666666666667,"d":"635.37"},{"v":628.7333333333333,"d":"628.73"},{"v":658.7333333333333,"d":"658.73"},{"v":665.3666666666668,"d":"665.37"},{"v":673.7333333333333,"d":"673.73"},{"$f":"VLOOKUP($B434,[1]EQ!$A$1:$L$2000,4,0)","v":657},{"$f":"VLOOKUP($B434,[1]EQ!$A$1:$L$2000,5,0)","v":642},{"$f":"(VLOOKUP($B434,[1]EQ!$A$1:$L$2000,9,0)/100000)","v":2.0072}]
[425,"SUNTECK",{"$f":"VLOOKUP($B435,[1]EQ!$A$1:$L$2000,6,0)","v":360.75},{"v":363.5333333333333,"d":"363.53"},{"v":352.7166666666666,"d":"352.72"},{"v":344.6833333333333,"d":"344.68"},{"v":333.86666666666656,"d":"333.87"},{"v":371.5666666666666,"d":"371.57"},{"v":382.3833333333333,"d":"382.38"},{"v":390.41666666666663,"d":"390.42"},{"$f":"VLOOKUP($B435,[1]EQ!$A$1:$L$2000,4,0)","v":374.35},{"$f":"VLOOKUP($B435,[1]EQ!$A$1:$L$2000,5,0)","v":355.5},{"$f":"(VLOOKUP($B435,[1]EQ!$A$1:$L$2000,9,0)/100000)","v":1.80131}]
[426,"SUPRAJIT",{"$f":"VLOOKUP($B436,[1]EQ!$A$1:$L$2000,6,0)","v":254.95},{"v":254.54999999999998,"d":"254.55"},{"v":252.54999999999995,"d":"252.55"},{"v":250.14999999999998,"d":"250.15"},{"v":248.14999999999995,"d":"248.15"},{"v":256.94999999999993,"d":"256.95"},{"v":258.95000000000005,"d":"258.95"},{"v":261.34999999999997,"d":"261.35"},{"$f":"VLOOKUP($B436,[1]EQ!$A$1:$L$2000,4,0)","v":256.55},{"$f":"VLOOKUP($B436,[1]EQ!$A$1:$L$2000,5,0)","v":252.15},{"$f":"(VLOOKUP($B436,[1]EQ!$A$1:$L$2000,9,0)/100000)","v":1.8348}]
[427,"SUPREMEIND",{"$f":"VLOOKUP($B437,[1]EQ!$A$1:$L$2000,6,0)","v":1972.85},{"v":1944.8333333333333,"d":"1944.83"},{"v":1904.6666666666665,"d":"1904.67"},{"v":1836.4833333333333,"d":"1836.48"},{"v":1796.3166666666666,"d":"1796.32"},{"v":2013.0166666666664,"d":"2013.02"},{"v":2053.183333333333,"d":"2053.18"},{"v":2121.3666666666663,"d":"2121.37"},{"$f":"VLOOKUP($B437,[1]EQ!$A$1:$L$2000,4,0)","v":1985},{"$f":"VLOOKUP($B437,[1]EQ!$A$1:$L$2000,5,0)","v":1876.65},{"$f":"(VLOOKUP($B437,[1]EQ!$A$1:$L$2000,9,0)/100000)","v":1.68596}]
[428,"SUPPETRO",{"$f":"VLOOKUP($B438,[1]EQ!$A$1:$L$2000,6,0)","v":389.85},{"v":390.6666666666667,"d":"390.67"},{"v":385.1333333333334,"d":"385.13"},{"v":380.4166666666667,"d":"380.42"},{"v":374.8833333333334,"d":"374.88"},{"v":395.3833333333334,"d":"395.38"},{"v":400.9166666666667,"d":"400.92"},{"v":405.6333333333334,"d":"405.63"},{"$f":"VLOOKUP($B438,[1]EQ!$A$1:$L$2000,4,0)","v":396.2},{"$f":"VLOOKUP($B438,[1]EQ!$A$1:$L$2000,5,0)","v":385.95},{"$f":"(VLOOKUP($B438,[1]EQ!$A$1:$L$2000,9,0)/100000)","v":0.681}]
[429,"SUVENPHAR",{"$f":"VLOOKUP($B439,[1]EQ!$A$1:$L$2000,6,0)","v":500.65},{"v":498.1666666666667,"d":"498.17"},{"v":491.33333333333337,"d":"491.33"},{"v":482.0166666666667,"d":"482.02"},{"v":475.1833333333334,"d":"475.18"},{"v":507.48333333333335,"d":"507.48"},{"v":514.3166666666667,"d":"514.32"},{"v":523.6333333333333,"d":"523.63"},{"$f":"VLOOKUP($B439,[1]EQ!$A$1:$L$2000,4,0)","v":505},{"$f":"VLOOKUP($B439,[1]EQ!$A$1:$L$2000,5,0)","v":488.85},{"$f":"(VLOOKUP($B439,[1]EQ!$A$1:$L$2000,9,0)/100000)","v":4.03835}]
[430,"SUZLON",{"$f":"VLOOKUP($B440,[1]EQ!$A$1:$L$2000,6,0)","v":5.6},{"v":5.666666666666667,"d":"5.67"},{"v":5.433333333333334,"d":"5.43"},{"v":5.266666666666667,"d":"5.27"},{"v":5.033333333333333,"d":"5.03"},{"v":5.833333333333334,"d":"5.83"},{"v":6.066666666666666,"d":"6.07"},{"v":6.233333333333334,"d":"6.23"},{"$f":"VLOOKUP($B440,[1]EQ!$A$1:$L$2000,4,0)","v":5.9},{"$f":"VLOOKUP($B440,[1]EQ!$A$1:$L$2000,5,0)","v":5.5},{"$f":"(VLOOKUP($B440,[1]EQ!$A$1:$L$2000,9,0)/100000)","v":239.76216}]
[431,"SWANENERGY",{"$f":"VLOOKUP($B441,[1]EQ!$A$1:$L$2000,6,0)","v":146.55},{"v":146.51666666666668,"d":"146.52"},{"v":143.53333333333336,"d":"143.53"},{"v":140.51666666666668,"d":"140.52"},{"v":137.53333333333336,"d":"137.53"},{"v":149.53333333333336,"d":"149.53"},{"v":152.51666666666665,"d":"152.52"},{"v":155.53333333333336,"d":"155.53"},{"$f":"VLOOKUP($B441,[1]EQ!$A$1:$L$2000,4,0)","v":149.5},{"$f":"VLOOKUP($B441,[1]EQ!$A$1:$L$2000,5,0)","v":143.5},{"$f":"(VLOOKUP($B441,[1]EQ!$A$1:$L$2000,9,0)/100000)","v":1.64799}]
[432,"SWARAJENG",{"$f":"VLOOKUP($B442,[1]EQ!$A$1:$L$2000,6,0)","v":1281.4},{"v":1288.1833333333334,"d":"1288.18"},{"v":1272.3666666666668,"d":"1272.37"},{"v":1263.3333333333335,"d":"1263.33"},{"v":1247.5166666666669,"d":"1247.52"},{"v":1297.2166666666667,"d":"1297.22"},{"v":1313.0333333333333,"d":"1313.03"},{"v":1322.0666666666666,"d":"1322.07"},{"$f":"VLOOKUP($B442,[1]EQ!$A$1:$L$2000,4,0)","v":1304},{"$f":"VLOOKUP($B442,[1]EQ!$A$1:$L$2000,5,0)","v":1279.15},{"$f":"(VLOOKUP($B442,[1]EQ!$A$1:$L$2000,9,0)/100000)","v":0.11514}]
[433,"SYMPHONY",{"$f":"VLOOKUP($B443,[1]EQ!$A$1:$L$2000,6,0)","v":1052.6},{"v":1058.0166666666667,"d":"1058.02"},{"v":1044.5833333333333,"d":"1044.58"},{"v":1036.5666666666666,"d":"1036.57"},{"v":1023.1333333333332,"d":"1023.13"},{"v":1066.0333333333333,"d":"1066.03"},{"v":1079.4666666666667,"d":"1079.47"},{"v":1087.4833333333333,"d":"1087.48"},{"$f":"VLOOKUP($B443,[1]EQ!$A$1:$L$2000,4,0)","v":1071.45},{"$f":"VLOOKUP($B443,[1]EQ!$A$1:$L$2000,5,0)","v":1050},{"$f":"(VLOOKUP($B443,[1]EQ!$A$1:$L$2000,9,0)/100000)","v":0.58724}]
[434,"SYNGENE",{"$f":"VLOOKUP($B444,[1]EQ!$A$1:$L$2000,6,0)","v":591.9},{"v":592.1666666666666,"d":"592.17"},{"v":585.3333333333333,"d":"585.33"},{"v":578.7666666666667,"d":"578.77"},{"v":571.9333333333333,"d":"571.93"},{"v":598.7333333333332,"d":"598.73"},{"v":605.5666666666665,"d":"605.57"},{"v":612.1333333333332,"d":"612.13"},{"$f":"VLOOKUP($B444,[1]EQ!$A$1:$L$2000,4,0)","v":599},{"$f":"VLOOKUP($B444,[1]EQ!$A$1:$L$2000,5,0)","v":585.6},{"$f":"(VLOOKUP($B444,[1]EQ!$A$1:$L$2000,9,0)/100000)","v":3.83214}]
[435,"TCIEXP",{"$f":"VLOOKUP($B445,[1]EQ!$A$1:$L$2000,6,0)","v":946.4},{"v":947.3833333333332,"d":"947.38"},{"v":936.9666666666665,"d":"936.97"},{"v":927.5333333333333,"d":"927.53"},{"v":917.1166666666666,"d":"917.12"},{"v":956.8166666666664,"d":"956.82"},{"v":967.2333333333331,"d":"967.23"},{"v":976.6666666666663,"d":"976.67"},{"$f":"VLOOKUP($B445,[1]EQ!$A$1:$L$2000,4,0)","v":957.8},{"$f":"VLOOKUP($B445,[1]EQ!$A$1:$L$2000,5,0)","v":937.95},{"$f":"(VLOOKUP($B445,[1]EQ!$A$1:$L$2000,9,0)/100000)","v":0.11446}]
[436,"TCNSBRANDS",{"$f":"VLOOKUP($B446,[1]EQ!$A$1:$L$2000,6,0)","v":403.85},{"v":403.2833333333333,"d":"403.28"},{"v":400.0666666666666,"d":"400.07"},{"v":396.2833333333333,"d":"396.28"},{"v":393.0666666666666,"d":"393.07"},{"v":407.0666666666666,"d":"407.07"},{"v":410.2833333333333,"d":"410.28"},{"v":414.0666666666666,"d":"414.07"},{"$f":"VLOOKUP($B446,[1]EQ!$A$1:$L$2000,4,0)","v":406.5},{"$f":"VLOOKUP($B446,[1]EQ!$A$1:$L$2000,5,0)","v":399.5},{"$f":"(VLOOKUP($B446,[1]EQ!$A$1:$L$2000,9,0)/100000)","v":0.19233}]
[437,"TTKPRESTIG",{"$f":"VLOOKUP($B447,[1]EQ!$A$1:$L$2000,6,0)","v":7353.2},{"v":7319.733333333334,"d":"7319.73"},{"v":7239.466666666667,"d":"7239.47"},{"v":7125.733333333334,"d":"7125.73"},{"v":7045.466666666667,"d":"7045.47"},{"v":7433.466666666667,"d":"7433.47"},{"v":7513.733333333334,"d":"7513.73"},{"v":7627.466666666667,"d":"7627.47"},{"$f":"VLOOKUP($B447,[1]EQ!$A$1:$L$2000,4,0)","v":7400},{"$f":"VLOOKUP($B447,[1]EQ!$A$1:$L$2000,5,0)","v":7206},{"$f":"(VLOOKUP($B447,[1]EQ!$A$1:$L$2000,9,0)/100000)","v":0.16425}]
[438,"TVTODAY",{"$f":"VLOOKUP($B448,[1]EQ!$A$1:$L$2000,6,0)","v":261.8},{"v":264.1166666666667,"d":"264.12"},{"v":255.78333333333336,"d":"255.78"},{"v":249.7666666666667,"d":"249.77"},{"v":241.4333333333334,"d":"241.43"},{"v":270.1333333333333,"d":"270.13"},{"v":278.4666666666666,"d":"278.47"},{"v":284.4833333333333,"d":"284.48"},{"$f":"VLOOKUP($B448,[1]EQ!$A$1:$L$2000,4,0)","v":272.45},{"$f":"VLOOKUP($B448,[1]EQ!$A$1:$L$2000,5,0)","v":258.1},{"$f":"(VLOOKUP($B448,[1]EQ!$A$1:$L$2000,9,0)/100000)","v":1.95853}]
[439,"TV18BRDCST",{"$f":"VLOOKUP($B449,[1]EQ!$A$1:$L$2000,6,0)","v":29.8},{"v":29.933333333333337,"d":"29.93"},{"v":29.516666666666673,"d":"29.52"},{"v":29.233333333333334,"d":"29.23"},{"v":28.81666666666667,"d":"28.82"},{"v":30.216666666666676,"d":"30.22"},{"v":30.63333333333334,"d":"30.63"},{"v":30.91666666666668,"d":"30.92"},{"$f":"VLOOKUP($B449,[1]EQ!$A$1:$L$2000,4,0)","v":30.35},{"$f":"VLOOKUP($B449,[1]EQ!$A$1:$L$2000,5,0)","v":29.65},{"$f":"(VLOOKUP($B449,[1]EQ!$A$1:$L$2000,9,0)/100000)","v":31.85683}]
[440,"TVSMOTOR",{"$f":"VLOOKUP($B450,[1]EQ!$A$1:$L$2000,6,0)","v":628.85},631.35,{"v":620.7,"d":"620.70"},{"v":612.5500000000001,"d":"612.55"},{"v":601.9000000000001,"d":"601.90"},{"v":639.5,"d":"639.50"},{"v":650.1499999999999,"d":"650.15"},{"v":658.3,"d":"658.30"},{"$f":"VLOOKUP($B450,[1]EQ!$A$1:$L$2000,4,0)","v":642},{"$f":"VLOOKUP($B450,[1]EQ!$A$1:$L$2000,5,0)","v":623.2},{"$f":"(VLOOKUP($B450,[1]EQ!$A$1:$L$2000,9,0)/100000)","v":19.43169}]
[441,"TASTYBITE",{"$f":"VLOOKUP($B451,[1]EQ!$A$1:$L$2000,6,0)","v":14474.2},{"v":14415.733333333332,"d":"14415.73"},{"v":14165.466666666664,"d":"14165.47"},{"v":13856.733333333332,"d":"13856.73"},{"v":13606.466666666664,"d":"13606.47"},{"v":14724.466666666664,"d":"14724.47"},{"v":14974.73333333333,"d":"14974.73"},{"v":15283.466666666664,"d":"15283.47"},{"$f":"VLOOKUP($B451,[1]EQ!$A$1:$L$2000,4,0)","v":14666},{"$f":"VLOOKUP($B451,[1]EQ!$A$1:$L$2000,5,0)","v":14107},{"$f":"(VLOOKUP($B451,[1]EQ!$A$1:$L$2000,9,0)/100000)","v":0.03559}]
[442,"TATACHEM",{"$f":"VLOOKUP($B452,[1]EQ!$A$1:$L$2000,6,0)","v":583.7},{"v":580.8166666666666,"d":"580.82"},{"v":571.7333333333332,"d":"571.73"},{"v":559.7666666666667,"d":"559.77"},{"v":550.6833333333333,"d":"550.68"},{"v":592.7833333333332,"d":"592.78"},{"v":601.8666666666667,"d":"601.87"},{"v":613.8333333333331,"d":"613.83"},{"$f":"VLOOKUP($B452,[1]EQ!$A$1:$L$2000,4,0)","v":589.9},{"$f":"VLOOKUP($B452,[1]EQ!$A$1:$L$2000,5,0)","v":568.85},{"$f":"(VLOOKUP($B452,[1]EQ!$A$1:$L$2000,9,0)/100000)","v":91.043}]
[443,"TATACOFFEE",{"$f":"VLOOKUP($B453,[1]EQ!$A$1:$L$2000,6,0)","v":109.25},{"v":109.56666666666666,"d":"109.57"},{"v":107.38333333333333,"d":"107.38"},{"v":105.51666666666667,"d":"105.52"},{"v":103.33333333333333,"d":"103.33"},{"v":111.43333333333332,"d":"111.43"},{"v":113.61666666666666,"d":"113.62"},{"v":115.48333333333332,"d":"115.48"},{"$f":"VLOOKUP($B453,[1]EQ!$A$1:$L$2000,4,0)","v":111.75},{"$f":"VLOOKUP($B453,[1]EQ!$A$1:$L$2000,5,0)","v":107.7},{"$f":"(VLOOKUP($B453,[1]EQ!$A$1:$L$2000,9,0)/100000)","v":7.7966}]
[444,"TATACOMM",{"$f":"VLOOKUP($B454,[1]EQ!$A$1:$L$2000,6,0)","v":1051.5},{"v":1048.3666666666668,"d":"1048.37"},{"v":977.8333333333335,"d":"977.83"},{"v":904.1666666666667,"d":"904.17"},{"v":833.6333333333334,"d":"833.63"},{"v":1122.0333333333335,"d":"1122.03"},{"v":1192.5666666666668,"d":"1192.57"},{"v":1266.2333333333336,"d":"1266.23"},{"$f":"VLOOKUP($B454,[1]EQ!$A$1:$L$2000,4,0)","v":1118.9},{"$f":"VLOOKUP($B454,[1]EQ!$A$1:$L$2000,5,0)","v":974.7},{"$f":"(VLOOKUP($B454,[1]EQ!$A$1:$L$2000,9,0)/100000)","v":18.91164}]
[445,"TCS",{"$f":"VLOOKUP($B455,[1]EQ!$A$1:$L$2000,6,0)","v":3108.8},{"v":3125.4833333333336,"d":"3125.48"},{"v":3083.316666666667,"d":"3083.32"},{"v":3057.8333333333335,"d":"3057.83"},{"v":3015.666666666667,"d":"3015.67"},{"v":3150.966666666667,"d":"3150.97"},{"v":3193.133333333333,"d":"3193.13"},{"v":3218.6166666666672,"d":"3218.62"},{"$f":"VLOOKUP($B455,[1]EQ!$A$1:$L$2000,4,0)","v":3167.65},{"$f":"VLOOKUP($B455,[1]EQ!$A$1:$L$2000,5,0)","v":3100},{"$f":"(VLOOKUP($B455,[1]EQ!$A$1:$L$2000,9,0)/100000)","v":34.3577}]
[446,"TATACONSUM",{"$f":"VLOOKUP($B456,[1]EQ!$A$1:$L$2000,6,0)","v":628.35},626.95,618.95,609.55,601.55,{"v":636.3500000000001,"d":"636.35"},{"v":644.3500000000001,"d":"644.35"},{"v":653.7500000000002,"d":"653.75"},{"$f":"VLOOKUP($B456,[1]EQ!$A$1:$L$2000,4,0)","v":634.95},{"$f":"VLOOKUP($B456,[1]EQ!$A$1:$L$2000,5,0)","v":617.55},{"$f":"(VLOOKUP($B456,[1]EQ!$A$1:$L$2000,9,0)/100000)","v":64.18986}]
[447,"TATAELXSI",{"$f":"VLOOKUP($B457,[1]EQ!$A$1:$L$2000,6,0)","v":2886.15},{"v":2888.8333333333335,"d":"2888.83"},{"v":2858.666666666667,"d":"2858.67"},{"v":2831.1833333333334,"d":"2831.18"},{"v":2801.016666666667,"d":"2801.02"},{"v":2916.316666666667,"d":"2916.32"},{"v":2946.483333333334,"d":"2946.48"},{"v":2973.966666666667,"d":"2973.97"},{"$f":"VLOOKUP($B457,[1]EQ!$A$1:$L$2000,4,0)","v":2919},{"$f":"VLOOKUP($B457,[1]EQ!$A$1:$L$2000,5,0)","v":2861.35},{"$f":"(VLOOKUP($B457,[1]EQ!$A$1:$L$2000,9,0)/100000)","v":5.82775}]
[448,"TATAINVEST",{"$f":"VLOOKUP($B458,[1]EQ!$A$1:$L$2000,6,0)","v":1075.95},1079.75,{"v":1067.5,"d":"1067.50"},1059.05,{"v":1046.8,"d":"1046.80"},{"v":1088.2,"d":"1088.20"},1100.45,{"v":1108.9,"d":"1108.90"},{"$f":"VLOOKUP($B458,[1]EQ!$A$1:$L$2000,4,0)","v":1092},{"$f":"VLOOKUP($B458,[1]EQ!$A$1:$L$2000,5,0)","v":1071.3},{"$f":"(VLOOKUP($B458,[1]EQ!$A$1:$L$2000,9,0)/100000)","v":0.21037}]
[449,"TATAMTRDVR",{"$f":"VLOOKUP($B459,[1]EQ!$A$1:$L$2000,6,0)","v":133.05},{"$f":"(C459+K459+L459)/3","v":{"v":133.93333333333337,"d":"133.93"}},{"$f":"+(D459*2)-K459","v":{"v":131.46666666666673,"d":"131.47"}},{"$f":"+D459-K459+L459","v":{"v":129.88333333333335,"d":"129.88"}},{"$f":"L459-2*(K459-D459)","v":{"v":127.41666666666671,"d":"127.42"}},{"$f":"(D459*2)-L459","v":{"v":135.51666666666674,"d":"135.52"}},{"$f":"+D459+K459-L459","v":{"v":137.98333333333338,"d":"137.98"}},{"$f":"K459+2*(D459-L459)","v":{"v":139.56666666666675,"d":"139.57"}},{"$f":"VLOOKUP($B459,[1]EQ!$A$1:$L$2000,4,0)","v":136.4},{"$f":"VLOOKUP($B459,[1]EQ!$A$1:$L$2000,5,0)","v":132.35},{"$f":"(VLOOKUP($B459,[1]EQ!$A$1:$L$2000,9,0)/100000)","v":40.24425}]
[450,"TATAMOTORS",{"$f":"VLOOKUP($B460,[1]EQ!$A$1:$L$2000,6,0)","v":329.2},{"v":331.5333333333333,"d":"331.53"},{"v":325.16666666666663,"d":"325.17"},{"v":321.1333333333333,"d":"321.13"},{"v":314.76666666666665,"d":"314.77"},{"v":335.5666666666666,"d":"335.57"},{"v":341.9333333333333,"d":"341.93"},{"v":345.9666666666666,"d":"345.97"},{"$f":"VLOOKUP($B460,[1]EQ!$A$1:$L$2000,4,0)","v":337.9},{"$f":"VLOOKUP($B460,[1]EQ!$A$1:$L$2000,5,0)","v":327.5},{"$f":"(VLOOKUP($B460,[1]EQ!$A$1:$L$2000,9,0)/100000)","v":659.43843}]
[451,"TATAPOWER",{"$f":"VLOOKUP($B461,[1]EQ!$A$1:$L$2000,6,0)","v":90.25},{"v":89.28333333333335,"d":"89.28"},{"v":87.56666666666669,"d":"87.57"},{"v":84.88333333333334,"d":"84.88"},{"v":83.16666666666669,"d":"83.17"},{"v":91.9666666666667,"d":"91.97"},{"v":93.68333333333337,"d":"93.68"},{"v":96.3666666666667,"d":"96.37"},{"$f":"VLOOKUP($B461,[1]EQ!$A$1:$L$2000,4,0)","v":91},{"$f":"VLOOKUP($B461,[1]EQ!$A$1:$L$2000,5,0)","v":86.6},{"$f":"(VLOOKUP($B461,[1]EQ!$A$1:$L$2000,9,0)/100000)","v":458.33754}]
[452,"TATASTLBSL",{"$f":"VLOOKUP($B462,[1]EQ!$A$1:$L$2000,6,0)","v":43.95},{"v":43.616666666666674,"d":"43.62"},{"v":42.63333333333335,"d":"42.63"},{"v":41.31666666666667,"d":"41.32"},{"v":40.33333333333334,"d":"40.33"},{"v":44.93333333333335,"d":"44.93"},{"v":45.91666666666667,"d":"45.92"},{"v":47.233333333333356,"d":"47.23"},{"$f":"VLOOKUP($B462,[1]EQ!$A$1:$L$2000,4,0)","v":44.6},{"$f":"VLOOKUP($B462,[1]EQ!$A$1:$L$2000,5,0)","v":42.3},{"$f":"(VLOOKUP($B462,[1]EQ!$A$1:$L$2000,9,0)/100000)","v":84.63421}]
[453,"TATASTEEL",{"$f":"VLOOKUP($B463,[1]EQ!$A$1:$L$2000,6,0)","v":699.2},{"v":692.0333333333334,"d":"692.03"},{"v":675.4666666666668,"d":"675.47"},{"v":651.7333333333333,"d":"651.73"},{"v":635.1666666666667,"d":"635.17"},{"v":715.7666666666669,"d":"715.77"},{"v":732.3333333333335,"d":"732.33"},{"v":756.066666666667,"d":"756.07"},{"$f":"VLOOKUP($B463,[1]EQ!$A$1:$L$2000,4,0)","v":708.6},{"$f":"VLOOKUP($B463,[1]EQ!$A$1:$L$2000,5,0)","v":668.3},{"$f":"(VLOOKUP($B463,[1]EQ!$A$1:$L$2000,9,0)/100000)","v":336.61838}]
[454,"TEAMLEASE",{"$f":"VLOOKUP($B464,[1]EQ!$A$1:$L$2000,6,0)","v":3094},3118.65,{"v":3029.3500000000004,"d":"3029.35"},{"v":2964.7000000000003,"d":"2964.70"},{"v":2875.4000000000005,"d":"2875.40"},{"v":3183.3,"d":"3183.30"},{"v":3272.6000000000004,"d":"3272.60"},3337.25,{"$f":"VLOOKUP($B464,[1]EQ!$A$1:$L$2000,4,0)","v":3207.95},{"$f":"VLOOKUP($B464,[1]EQ!$A$1:$L$2000,5,0)","v":3054},{"$f":"(VLOOKUP($B464,[1]EQ!$A$1:$L$2000,9,0)/100000)","v":0.5136}]
[455,"TECHM",{"$f":"VLOOKUP($B465,[1]EQ!$A$1:$L$2000,6,0)","v":986.8},{"v":986.7666666666668,"d":"986.77"},{"v":973.5333333333335,"d":"973.53"},{"v":960.2666666666668,"d":"960.27"},{"v":947.0333333333335,"d":"947.03"},{"v":1000.0333333333335,"d":"1000.03"},{"v":1013.2666666666669,"d":"1013.27"},{"v":1026.5333333333335,"d":"1026.53"},{"$f":"VLOOKUP($B465,[1]EQ!$A$1:$L$2000,4,0)","v":1000},{"$f":"VLOOKUP($B465,[1]EQ!$A$1:$L$2000,5,0)","v":973.5},{"$f":"(VLOOKUP($B465,[1]EQ!$A$1:$L$2000,9,0)/100000)","v":39.12433}]
[456,"NIACL",{"$f":"VLOOKUP($B466,[1]EQ!$A$1:$L$2000,6,0)","v":135.65},{"v":136.01666666666668,"d":"136.02"},{"v":132.83333333333337,"d":"132.83"},{"v":130.01666666666668,"d":"130.02"},{"v":126.83333333333337,"d":"126.83"},{"v":138.83333333333337,"d":"138.83"},{"v":142.0166666666667,"d":"142.02"},{"v":144.83333333333337,"d":"144.83"},{"$f":"VLOOKUP($B466,[1]EQ!$A$1:$L$2000,4,0)","v":139.2},{"$f":"VLOOKUP($B466,[1]EQ!$A$1:$L$2000,5,0)","v":133.2},{"$f":"(VLOOKUP($B466,[1]EQ!$A$1:$L$2000,9,0)/100000)","v":3.76231}]
[457,"RAMCOCEM",{"$f":"VLOOKUP($B467,[1]EQ!$A$1:$L$2000,6,0)","v":989.95},{"v":988.5666666666666,"d":"988.57"},{"v":975.4333333333332,"d":"975.43"},{"v":960.9166666666665,"d":"960.92"},{"v":947.7833333333331,"d":"947.78"},{"v":1003.0833333333333,"d":"1003.08"},{"v":1016.2166666666667,"d":"1016.22"},{"v":1030.7333333333333,"d":"1030.73"},{"$f":"VLOOKUP($B467,[1]EQ!$A$1:$L$2000,4,0)","v":1001.7},{"$f":"VLOOKUP($B467,[1]EQ!$A$1:$L$2000,5,0)","v":974.05},{"$f":"(VLOOKUP($B467,[1]EQ!$A$1:$L$2000,9,0)/100000)","v":12.10065}]
[458,"THERMAX",{"$f":"VLOOKUP($B468,[1]EQ!$A$1:$L$2000,6,0)","v":1147.5},{"v":1155.5333333333333,"d":"1155.53"},{"v":1131.0666666666666,"d":"1131.07"},{"v":1114.6333333333332,"d":"1114.63"},{"v":1090.1666666666665,"d":"1090.17"},{"v":1171.9666666666667,"d":"1171.97"},{"v":1196.4333333333334,"d":"1196.43"},{"v":1212.8666666666668,"d":"1212.87"},{"$f":"VLOOKUP($B468,[1]EQ!$A$1:$L$2000,4,0)","v":1180},{"$f":"VLOOKUP($B468,[1]EQ!$A$1:$L$2000,5,0)","v":1139.1},{"$f":"(VLOOKUP($B468,[1]EQ!$A$1:$L$2000,9,0)/100000)","v":0.49215}]
[459,"THYROCARE",{"$f":"VLOOKUP($B469,[1]EQ!$A$1:$L$2000,6,0)","v":926.5},{"v":923.3166666666666,"d":"923.32"},{"v":903.2333333333332,"d":"903.23"},{"v":879.9666666666666,"d":"879.97"},{"v":859.8833333333332,"d":"859.88"},{"v":946.5833333333333,"d":"946.58"},{"v":966.6666666666667,"d":"966.67"},{"v":989.9333333333333,"d":"989.93"},{"$f":"VLOOKUP($B469,[1]EQ!$A$1:$L$2000,4,0)","v":943.4},{"$f":"VLOOKUP($B469,[1]EQ!$A$1:$L$2000,5,0)","v":900.05},{"$f":"(VLOOKUP($B469,[1]EQ!$A$1:$L$2000,9,0)/100000)","v":2.43903}]
[460,"TIMKEN",{"$f":"VLOOKUP($B470,[1]EQ!$A$1:$L$2000,6,0)","v":1358.25},{"v":1346.1000000000001,"d":"1346.10"},{"v":1322.1500000000003,"d":"1322.15"},{"v":1286.0500000000002,"d":"1286.05"},{"v":1262.1000000000004,"d":"1262.10"},{"v":1382.2000000000003,"d":"1382.20"},1406.15,{"v":1442.2500000000002,"d":"1442.25"},{"$f":"VLOOKUP($B470,[1]EQ!$A$1:$L$2000,4,0)","v":1370.05},{"$f":"VLOOKUP($B470,[1]EQ!$A$1:$L$2000,5,0)","v":1310},{"$f":"(VLOOKUP($B470,[1]EQ!$A$1:$L$2000,9,0)/100000)","v":0.59178}]
[461,"TITAN",{"$f":"VLOOKUP($B471,[1]EQ!$A$1:$L$2000,6,0)","v":1471.85},{"v":1479.2833333333335,"d":"1479.28"},{"v":1453.566666666667,"d":"1453.57"},{"v":1435.2833333333335,"d":"1435.28"},{"v":1409.566666666667,"d":"1409.57"},{"v":1497.566666666667,"d":"1497.57"},{"v":1523.2833333333338,"d":"1523.28"},{"v":1541.566666666667,"d":"1541.57"},{"$f":"VLOOKUP($B471,[1]EQ!$A$1:$L$2000,4,0)","v":1505},{"$f":"VLOOKUP($B471,[1]EQ!$A$1:$L$2000,5,0)","v":1461},{"$f":"(VLOOKUP($B471,[1]EQ!$A$1:$L$2000,9,0)/100000)","v":30.90249}]
[462,"TORNTPHARM",{"$f":"VLOOKUP($B472,[1]EQ!$A$1:$L$2000,6,0)","v":2588.8},{"v":2594.266666666667,"d":"2594.27"},{"v":2569.5333333333338,"d":"2569.53"},{"v":2550.266666666667,"d":"2550.27"},{"v":2525.5333333333338,"d":"2525.53"},{"v":2613.5333333333338,"d":"2613.53"},{"v":2638.2666666666664,"d":"2638.27"},{"v":2657.5333333333338,"d":"2657.53"},{"$f":"VLOOKUP($B472,[1]EQ!$A$1:$L$2000,4,0)","v":2619},{"$f":"VLOOKUP($B472,[1]EQ!$A$1:$L$2000,5,0)","v":2575},{"$f":"(VLOOKUP($B472,[1]EQ!$A$1:$L$2000,9,0)/100000)","v":1.75989}]
[463,"TORNTPOWER",{"$f":"VLOOKUP($B473,[1]EQ!$A$1:$L$2000,6,0)","v":345.05},{"v":339.93333333333334,"d":"339.93"},{"v":332.9666666666667,"d":"332.97"},{"v":320.8833333333334,"d":"320.88"},{"v":313.91666666666674,"d":"313.92"},{"v":352.01666666666665,"d":"352.02"},{"v":358.98333333333323,"d":"358.98"},{"v":371.0666666666666,"d":"371.07"},{"$f":"VLOOKUP($B473,[1]EQ!$A$1:$L$2000,4,0)","v":346.9},{"$f":"VLOOKUP($B473,[1]EQ!$A$1:$L$2000,5,0)","v":327.85},{"$f":"(VLOOKUP($B473,[1]EQ!$A$1:$L$2000,9,0)/100000)","v":54.83054}]
[464,"TRENT",{"$f":"VLOOKUP($B474,[1]EQ!$A$1:$L$2000,6,0)","v":750.25},{"v":739.4166666666666,"d":"739.42"},{"v":720.8333333333333,"d":"720.83"},{"v":691.4166666666666,"d":"691.42"},{"v":672.8333333333333,"d":"672.83"},{"v":768.8333333333333,"d":"768.83"},{"v":787.4166666666665,"d":"787.42"},{"v":816.8333333333333,"d":"816.83"},{"$f":"VLOOKUP($B474,[1]EQ!$A$1:$L$2000,4,0)","v":758},{"$f":"VLOOKUP($B474,[1]EQ!$A$1:$L$2000,5,0)","v":710},{"$f":"(VLOOKUP($B474,[1]EQ!$A$1:$L$2000,9,0)/100000)","v":20.95315}]
[465,"TRIDENT",{"$f":"VLOOKUP($B475,[1]EQ!$A$1:$L$2000,6,0)","v":13.55},{"v":13.666666666666666,"d":"13.67"},{"v":13.333333333333332,"d":"13.33"},{"v":13.116666666666665,"d":"13.12"},{"v":12.783333333333331,"d":"12.78"},{"v":13.883333333333333,"d":"13.88"},{"v":14.216666666666665,"d":"14.22"},{"v":14.433333333333334,"d":"14.43"},{"$f":"VLOOKUP($B475,[1]EQ!$A$1:$L$2000,4,0)","v":14},{"$f":"VLOOKUP($B475,[1]EQ!$A$1:$L$2000,5,0)","v":13.45},{"$f":"(VLOOKUP($B475,[1]EQ!$A$1:$L$2000,9,0)/100000)","v":145.39801}]
[466,"TIINDIA",{"$f":"VLOOKUP($B476,[1]EQ!$A$1:$L$2000,6,0)","v":1020.1},{"v":1015.0333333333333,"d":"1015.03"},{"v":1005.0666666666666,"d":"1005.07"},{"v":990.0333333333333,"d":"990.03"},{"v":980.0666666666666,"d":"980.07"},{"v":1030.0666666666666,"d":"1030.07"},{"v":1040.0333333333333,"d":"1040.03"},{"v":1055.0666666666666,"d":"1055.07"},{"$f":"VLOOKUP($B476,[1]EQ!$A$1:$L$2000,4,0)","v":1025},{"$f":"VLOOKUP($B476,[1]EQ!$A$1:$L$2000,5,0)","v":1000},{"$f":"(VLOOKUP($B476,[1]EQ!$A$1:$L$2000,9,0)/100000)","v":4.14846}]
[467,"UCOBANK",{"$f":"VLOOKUP($B477,[1]EQ!$A$1:$L$2000,6,0)","v":13.15},{"v":13.200000000000001,"d":"13.20"},{"v":12.950000000000003,"d":"12.95"},{"v":12.750000000000002,"d":"12.75"},{"v":12.500000000000004,"d":"12.50"},{"v":13.400000000000002,"d":"13.40"},{"v":13.649999999999999,"d":"13.65"},{"v":13.850000000000001,"d":"13.85"},{"$f":"VLOOKUP($B477,[1]EQ!$A$1:$L$2000,4,0)","v":13.45},{"$f":"VLOOKUP($B477,[1]EQ!$A$1:$L$2000,5,0)","v":13},{"$f":"(VLOOKUP($B477,[1]EQ!$A$1:$L$2000,9,0)/100000)","v":78.07937}]
[468,"UFLEX",{"$f":"VLOOKUP($B478,[1]EQ!$A$1:$L$2000,6,0)","v":357.3},{"v":359.76666666666665,"d":"359.77"},{"v":352.5333333333333,"d":"352.53"},{"v":347.76666666666665,"d":"347.77"},{"v":340.5333333333333,"d":"340.53"},{"v":364.5333333333333,"d":"364.53"},{"v":371.76666666666665,"d":"371.77"},{"v":376.5333333333333,"d":"376.53"},{"$f":"VLOOKUP($B478,[1]EQ!$A$1:$L$2000,4,0)","v":367},{"$f":"VLOOKUP($B478,[1]EQ!$A$1:$L$2000,5,0)","v":355},{"$f":"(VLOOKUP($B478,[1]EQ!$A$1:$L$2000,9,0)/100000)","v":4.04959}]
[469,"UPL",{"$f":"VLOOKUP($B479,[1]EQ!$A$1:$L$2000,6,0)","v":538.95},{"v":540.5666666666666,"d":"540.57"},{"v":535.4833333333332,"d":"535.48"},{"v":532.0166666666667,"d":"532.02"},{"v":526.9333333333333,"d":"526.93"},{"v":544.0333333333332,"d":"544.03"},{"v":549.1166666666667,"d":"549.12"},{"v":552.5833333333331,"d":"552.58"},{"$f":"VLOOKUP($B479,[1]EQ!$A$1:$L$2000,4,0)","v":545.65},{"$f":"VLOOKUP($B479,[1]EQ!$A$1:$L$2000,5,0)","v":537.1},{"$f":"(VLOOKUP($B479,[1]EQ!$A$1:$L$2000,9,0)/100000)","v":29.76504}]
[470,"UJJIVAN",{"$f":"VLOOKUP($B480,[1]EQ!$A$1:$L$2000,6,0)","v":246},{"v":246.86666666666667,"d":"246.87"},{"v":243.93333333333334,"d":"243.93"},{"v":241.86666666666667,"d":"241.87"},{"v":238.93333333333334,"d":"238.93"},{"v":248.93333333333334,"d":"248.93"},{"v":251.86666666666667,"d":"251.87"},{"v":253.93333333333334,"d":"253.93"},{"$f":"VLOOKUP($B480,[1]EQ!$A$1:$L$2000,4,0)","v":249.8},{"$f":"VLOOKUP($B480,[1]EQ!$A$1:$L$2000,5,0)","v":244.8},{"$f":"(VLOOKUP($B480,[1]EQ!$A$1:$L$2000,9,0)/100000)","v":5.17842}]
[471,"UJJIVANSFB",{"$f":"VLOOKUP($B481,[1]EQ!$A$1:$L$2000,6,0)","v":35.95},{"v":35.983333333333334,"d":"35.98"},{"v":35.516666666666666,"d":"35.52"},{"v":35.08333333333333,"d":"35.08"},{"v":34.61666666666666,"d":"34.62"},{"v":36.41666666666667,"d":"36.42"},{"v":36.88333333333334,"d":"36.88"},{"v":37.31666666666668,"d":"37.32"},{"$f":"VLOOKUP($B481,[1]EQ!$A$1:$L$2000,4,0)","v":36.45},{"$f":"VLOOKUP($B481,[1]EQ!$A$1:$L$2000,5,0)","v":35.55},{"$f":"(VLOOKUP($B481,[1]EQ!$A$1:$L$2000,9,0)/100000)","v":25.8976}]
[472,"ULTRACEMCO",{"$f":"VLOOKUP($B482,[1]EQ!$A$1:$L$2000,6,0)","v":6457.8},{"v":6472.583333333333,"d":"6472.58"},{"v":6395.166666666666,"d":"6395.17"},{"v":6332.533333333333,"d":"6332.53"},{"v":6255.116666666666,"d":"6255.12"},{"v":6535.216666666666,"d":"6535.22"},{"v":6612.633333333332,"d":"6612.63"},{"v":6675.266666666666,"d":"6675.27"},{"$f":"VLOOKUP($B482,[1]EQ!$A$1:$L$2000,4,0)","v":6550},{"$f":"VLOOKUP($B482,[1]EQ!$A$1:$L$2000,5,0)","v":6409.95},{"$f":"(VLOOKUP($B482,[1]EQ!$A$1:$L$2000,9,0)/100000)","v":5.95723}]
[473,"UNIONBANK",{"$f":"VLOOKUP($B483,[1]EQ!$A$1:$L$2000,6,0)","v":34.6},34.75,{"v":33.7,"d":"33.70"},{"v":32.800000000000004,"d":"32.80"},{"v":31.750000000000007,"d":"31.75"},35.65,{"v":36.699999999999996,"d":"36.70"},{"v":37.599999999999994,"d":"37.60"},{"$f":"VLOOKUP($B483,[1]EQ!$A$1:$L$2000,4,0)","v":35.8},{"$f":"VLOOKUP($B483,[1]EQ!$A$1:$L$2000,5,0)","v":33.85},{"$f":"(VLOOKUP($B483,[1]EQ!$A$1:$L$2000,9,0)/100000)","v":255.11054}]
[474,"UBL",{"$f":"VLOOKUP($B484,[1]EQ!$A$1:$L$2000,6,0)","v":1276.7},{"v":1276.5166666666667,"d":"1276.52"},{"v":1263.2333333333333,"d":"1263.23"},{"v":1249.7666666666667,"d":"1249.77"},{"v":1236.4833333333333,"d":"1236.48"},{"v":1289.9833333333333,"d":"1289.98"},{"v":1303.2666666666667,"d":"1303.27"},{"v":1316.7333333333333,"d":"1316.73"},{"$f":"VLOOKUP($B484,[1]EQ!$A$1:$L$2000,4,0)","v":1289.8},{"$f":"VLOOKUP($B484,[1]EQ!$A$1:$L$2000,5,0)","v":1263.05},{"$f":"(VLOOKUP($B484,[1]EQ!$A$1:$L$2000,9,0)/100000)","v":7.53372}]
[475,"MCDOWELL-N",{"$f":"VLOOKUP($B485,[1]EQ!$A$1:$L$2000,6,0)","v":568.45},569.85,{"v":565.3000000000001,"d":"565.30"},{"v":562.1500000000001,"d":"562.15"},{"v":557.6000000000001,"d":"557.60"},{"v":573,"d":"573.00"},577.55,{"v":580.6999999999999,"d":"580.70"},{"$f":"VLOOKUP($B485,[1]EQ!$A$1:$L$2000,4,0)","v":574.4},{"$f":"VLOOKUP($B485,[1]EQ!$A$1:$L$2000,5,0)","v":566.7},{"$f":"(VLOOKUP($B485,[1]EQ!$A$1:$L$2000,9,0)/100000)","v":17.77197}]
[476,"VGUARD",{"$f":"VLOOKUP($B486,[1]EQ!$A$1:$L$2000,6,0)","v":220.7},{"v":222.11666666666667,"d":"222.12"},{"v":217.58333333333334,"d":"217.58"},{"v":214.46666666666667,"d":"214.47"},{"v":209.93333333333334,"d":"209.93"},{"v":225.23333333333335,"d":"225.23"},{"v":229.76666666666665,"d":"229.77"},{"v":232.88333333333335,"d":"232.88"},{"$f":"VLOOKUP($B486,[1]EQ!$A$1:$L$2000,4,0)","v":226.65},{"$f":"VLOOKUP($B486,[1]EQ!$A$1:$L$2000,5,0)","v":219},{"$f":"(VLOOKUP($B486,[1]EQ!$A$1:$L$2000,9,0)/100000)","v":8.64627}]
[477,"VMART",{"$f":"VLOOKUP($B487,[1]EQ!$A$1:$L$2000,6,0)","v":2763.65},{"v":2827.9,"d":"2827.90"},2675.75,2587.85,{"v":2435.7,"d":"2435.70"},{"v":2915.8,"d":"2915.80"},{"v":3067.9500000000007,"d":"3067.95"},{"v":3155.8500000000004,"d":"3155.85"},{"$f":"VLOOKUP($B487,[1]EQ!$A$1:$L$2000,4,0)","v":2980.05},{"$f":"VLOOKUP($B487,[1]EQ!$A$1:$L$2000,5,0)","v":2740},{"$f":"(VLOOKUP($B487,[1]EQ!$A$1:$L$2000,9,0)/100000)","v":0.98436}]
[478,"VIPIND",{"$f":"VLOOKUP($B488,[1]EQ!$A$1:$L$2000,6,0)","v":379.6},{"v":382.18333333333334,"d":"382.18"},{"v":371.6666666666667,"d":"371.67"},{"v":363.73333333333335,"d":"363.73"},{"v":353.2166666666667,"d":"353.22"},{"v":390.1166666666667,"d":"390.12"},{"v":400.6333333333333,"d":"400.63"},{"v":408.56666666666666,"d":"408.57"},{"$f":"VLOOKUP($B488,[1]EQ!$A$1:$L$2000,4,0)","v":392.7},{"$f":"VLOOKUP($B488,[1]EQ!$A$1:$L$2000,5,0)","v":374.25},{"$f":"(VLOOKUP($B488,[1]EQ!$A$1:$L$2000,9,0)/100000)","v":9.22167}]
[479,"VRLLOG",{"$f":"VLOOKUP($B489,[1]EQ!$A$1:$L$2000,6,0)","v":229.05},{"v":230.16666666666666,"d":"230.17"},{"v":226.88333333333333,"d":"226.88"},{"v":224.71666666666667,"d":"224.72"},{"v":221.43333333333334,"d":"221.43"},{"v":232.33333333333331,"d":"232.33"},{"v":235.61666666666667,"d":"235.62"},{"v":237.7833333333333,"d":"237.78"},{"$f":"VLOOKUP($B489,[1]EQ!$A$1:$L$2000,4,0)","v":233.45},{"$f":"VLOOKUP($B489,[1]EQ!$A$1:$L$2000,5,0)","v":228},{"$f":"(VLOOKUP($B489,[1]EQ!$A$1:$L$2000,9,0)/100000)","v":3.19876}]
[480,"VSTIND",{"$f":"VLOOKUP($B490,[1]EQ!$A$1:$L$2000,6,0)","v":3620.5},{"v":3603.5499999999997,"d":"3603.55"},{"v":3558.0999999999995,"d":"3558.10"},{"v":3495.7,"d":"3495.70"},{"v":3450.2499999999995,"d":"3450.25"},{"v":3665.9499999999994,"d":"3665.95"},{"v":3711.399999999999,"d":"3711.40"},{"v":3773.7999999999993,"d":"3773.80"},{"$f":"VLOOKUP($B490,[1]EQ!$A$1:$L$2000,4,0)","v":3649},{"$f":"VLOOKUP($B490,[1]EQ!$A$1:$L$2000,5,0)","v":3541.15},{"$f":"(VLOOKUP($B490,[1]EQ!$A$1:$L$2000,9,0)/100000)","v":0.06309}]
[481,"VAIBHAVGBL",{"$f":"VLOOKUP($B491,[1]EQ!$A$1:$L$2000,6,0)","v":2919.8},{"v":2975.9166666666665,"d":"2975.92"},{"v":2841.833333333333,"d":"2841.83"},{"v":2763.8666666666663,"d":"2763.87"},{"v":2629.783333333333,"d":"2629.78"},{"v":3053.883333333333,"d":"3053.88"},{"v":3187.9666666666662,"d":"3187.97"},{"v":3265.9333333333334,"d":"3265.93"},{"$f":"VLOOKUP($B491,[1]EQ!$A$1:$L$2000,4,0)","v":3110},{"$f":"VLOOKUP($B491,[1]EQ!$A$1:$L$2000,5,0)","v":2897.95},{"$f":"(VLOOKUP($B491,[1]EQ!$A$1:$L$2000,9,0)/100000)","v":0.77786}]
[482,"VAKRANGEE",{"$f":"VLOOKUP($B492,[1]EQ!$A$1:$L$2000,6,0)","v":59.2},{"v":59.53333333333333,"d":"59.53"},{"v":58.016666666666666,"d":"58.02"},{"v":56.833333333333336,"d":"56.83"},{"v":55.31666666666667,"d":"55.32"},{"v":60.71666666666666,"d":"60.72"},{"v":62.23333333333333,"d":"62.23"},{"v":63.41666666666666,"d":"63.42"},{"$f":"VLOOKUP($B492,[1]EQ!$A$1:$L$2000,4,0)","v":61.05},{"$f":"VLOOKUP($B492,[1]EQ!$A$1:$L$2000,5,0)","v":58.35},{"$f":"(VLOOKUP($B492,[1]EQ!$A$1:$L$2000,9,0)/100000)","v":59.38019}]
[483,"VTL",{"$f":"VLOOKUP($B493,[1]EQ!$A$1:$L$2000,6,0)","v":1040.45},{"v":1035.1666666666667,"d":"1035.17"},{"v":1025.3333333333335,"d":"1025.33"},{"v":1010.2166666666667,"d":"1010.22"},{"v":1000.3833333333334,"d":"1000.38"},{"v":1050.2833333333335,"d":"1050.28"},{"v":1060.116666666667,"d":"1060.12"},{"v":1075.2333333333336,"d":"1075.23"},{"$f":"VLOOKUP($B493,[1]EQ!$A$1:$L$2000,4,0)","v":1045},{"$f":"VLOOKUP($B493,[1]EQ!$A$1:$L$2000,5,0)","v":1020.05},{"$f":"(VLOOKUP($B493,[1]EQ!$A$1:$L$2000,9,0)/100000)","v":0.23823}]
[484,"VARROC",{"$f":"VLOOKUP($B494,[1]EQ!$A$1:$L$2000,6,0)","v":383.75},{"v":387.7833333333333,"d":"387.78"},{"v":378.4666666666666,"d":"378.47"},{"v":373.1833333333333,"d":"373.18"},{"v":363.86666666666656,"d":"363.87"},{"v":393.0666666666666,"d":"393.07"},{"v":402.3833333333333,"d":"402.38"},{"v":407.66666666666663,"d":"407.67"},{"$f":"VLOOKUP($B494,[1]EQ!$A$1:$L$2000,4,0)","v":397.1},{"$f":"VLOOKUP($B494,[1]EQ!$A$1:$L$2000,5,0)","v":382.5},{"$f":"(VLOOKUP($B494,[1]EQ!$A$1:$L$2000,9,0)/100000)","v":2.6824}]
[485,"VBL",{"$f":"VLOOKUP($B495,[1]EQ!$A$1:$L$2000,6,0)","v":901.6},{"v":918.1999999999999,"d":"918.20"},{"v":876.3999999999999,"d":"876.40"},{"v":851.1999999999999,"d":"851.20"},{"v":809.3999999999999,"d":"809.40"},{"v":943.3999999999999,"d":"943.40"},{"v":985.1999999999998,"d":"985.20"},{"v":1010.3999999999999,"d":"1010.40"},{"$f":"VLOOKUP($B495,[1]EQ!$A$1:$L$2000,4,0)","v":960},{"$f":"VLOOKUP($B495,[1]EQ!$A$1:$L$2000,5,0)","v":893},{"$f":"(VLOOKUP($B495,[1]EQ!$A$1:$L$2000,9,0)/100000)","v":11.1765}]
[486,"VENKEYS",{"$f":"VLOOKUP($B496,[1]EQ!$A$1:$L$2000,6,0)","v":1607.1},{"v":1609.1166666666668,"d":"1609.12"},{"v":1583.2333333333336,"d":"1583.23"},{"v":1559.3666666666668,"d":"1559.37"},{"v":1533.4833333333336,"d":"1533.48"},{"v":1632.9833333333336,"d":"1632.98"},{"v":1658.8666666666668,"d":"1658.87"},{"v":1682.7333333333336,"d":"1682.73"},{"$f":"VLOOKUP($B496,[1]EQ!$A$1:$L$2000,4,0)","v":1635},{"$f":"VLOOKUP($B496,[1]EQ!$A$1:$L$2000,5,0)","v":1585.25},{"$f":"(VLOOKUP($B496,[1]EQ!$A$1:$L$2000,9,0)/100000)","v":0.52023}]
[487,"VINATIORGA",{"$f":"VLOOKUP($B497,[1]EQ!$A$1:$L$2000,6,0)","v":1506.9},{"v":1502.0833333333333,"d":"1502.08"},{"v":1476.1166666666666,"d":"1476.12"},{"v":1445.3333333333333,"d":"1445.33"},{"v":1419.3666666666666,"d":"1419.37"},{"v":1532.8666666666666,"d":"1532.87"},{"v":1558.8333333333333,"d":"1558.83"},{"v":1589.6166666666666,"d":"1589.62"},{"$f":"VLOOKUP($B497,[1]EQ!$A$1:$L$2000,4,0)","v":1528.05},{"$f":"VLOOKUP($B497,[1]EQ!$A$1:$L$2000,5,0)","v":1471.3},{"$f":"(VLOOKUP($B497,[1]EQ!$A$1:$L$2000,9,0)/100000)","v":1.67685}]
[488,"IDEA",{"$f":"VLOOKUP($B498,[1]EQ!$A$1:$L$2000,6,0)","v":11.75},{"v":11.883333333333333,"d":"11.88"},{"v":11.516666666666666,"d":"11.52"},{"v":11.283333333333333,"d":"11.28"},{"v":10.916666666666666,"d":"10.92"},{"v":12.116666666666665,"d":"12.12"},{"v":12.483333333333333,"d":"12.48"},{"v":12.716666666666665,"d":"12.72"},{"$f":"VLOOKUP($B498,[1]EQ!$A$1:$L$2000,4,0)","v":12.25},{"$f":"VLOOKUP($B498,[1]EQ!$A$1:$L$2000,5,0)","v":11.65},{"$f":"(VLOOKUP($B498,[1]EQ!$A$1:$L$2000,9,0)/100000)","v":2130.50922}]
[489,"VOLTAS",{"$f":"VLOOKUP($B499,[1]EQ!$A$1:$L$2000,6,0)","v":1037.65},{"v":1046.1833333333334,"d":"1046.18"},{"v":1017.4666666666667,"d":"1017.47"},{"v":997.2833333333333,"d":"997.28"},{"v":968.5666666666666,"d":"968.57"},{"v":1066.3666666666668,"d":"1066.37"},{"v":1095.0833333333335,"d":"1095.08"},{"v":1115.2666666666669,"d":"1115.27"},{"$f":"VLOOKUP($B499,[1]EQ!$A$1:$L$2000,4,0)","v":1074.9},{"$f":"VLOOKUP($B499,[1]EQ!$A$1:$L$2000,5,0)","v":1026},{"$f":"(VLOOKUP($B499,[1]EQ!$A$1:$L$2000,9,0)/100000)","v":33.50162}]
[490,"WABCOINDIA",{"$f":"VLOOKUP($B500,[1]EQ!$A$1:$L$2000,6,0)","v":6060.35},6093.45,{"v":5966.9,"d":"5966.90"},5873.45,{"v":5746.9,"d":"5746.90"},{"v":6186.9,"d":"6186.90"},{"v":6313.450000000001,"d":"6313.45"},{"v":6406.9,"d":"6406.90"},{"$f":"VLOOKUP($B500,[1]EQ!$A$1:$L$2000,4,0)","v":6220},{"$f":"VLOOKUP($B500,[1]EQ!$A$1:$L$2000,5,0)","v":6000},{"$f":"(VLOOKUP($B500,[1]EQ!$A$1:$L$2000,9,0)/100000)","v":0.03744}]
[491,"WELCORP",{"$f":"VLOOKUP($B501,[1]EQ!$A$1:$L$2000,6,0)","v":125.45},{"v":125.21666666666665,"d":"125.22"},{"v":124.18333333333331,"d":"124.18"},{"v":122.91666666666666,"d":"122.92"},{"v":121.88333333333331,"d":"121.88"},{"v":126.4833333333333,"d":"126.48"},{"v":127.51666666666664,"d":"127.52"},{"v":128.7833333333333,"d":"128.78"},{"$f":"VLOOKUP($B501,[1]EQ!$A$1:$L$2000,4,0)","v":126.25},{"$f":"VLOOKUP($B501,[1]EQ!$A$1:$L$2000,5,0)","v":123.95},{"$f":"(VLOOKUP($B501,[1]EQ!$A$1:$L$2000,9,0)/100000)","v":4.26459}]
[492,"WELSPUNIND",{"$f":"VLOOKUP($B502,[1]EQ!$A$1:$L$2000,6,0)","v":66.8},{"v":67.11666666666666,"d":"67.12"},{"v":66.18333333333332,"d":"66.18"},{"v":65.56666666666666,"d":"65.57"},{"v":64.63333333333333,"d":"64.63"},{"v":67.73333333333332,"d":"67.73"},{"v":68.66666666666666,"d":"68.67"},{"v":69.28333333333332,"d":"69.28"},{"$f":"VLOOKUP($B502,[1]EQ!$A$1:$L$2000,4,0)","v":68.05},{"$f":"VLOOKUP($B502,[1]EQ!$A$1:$L$2000,5,0)","v":66.5},{"$f":"(VLOOKUP($B502,[1]EQ!$A$1:$L$2000,9,0)/100000)","v":3.05475}]
[493,"WESTLIFE",{"$f":"VLOOKUP($B503,[1]EQ!$A$1:$L$2000,6,0)","v":456.45},{"v":457.5833333333333,"d":"457.58"},{"v":448.66666666666663,"d":"448.67"},{"v":440.8833333333333,"d":"440.88"},{"v":431.96666666666664,"d":"431.97"},{"v":465.3666666666666,"d":"465.37"},{"v":474.28333333333325,"d":"474.28"},{"v":482.0666666666666,"d":"482.07"},{"$f":"VLOOKUP($B503,[1]EQ!$A$1:$L$2000,4,0)","v":466.5},{"$f":"VLOOKUP($B503,[1]EQ!$A$1:$L$2000,5,0)","v":449.8},{"$f":"(VLOOKUP($B503,[1]EQ!$A$1:$L$2000,9,0)/100000)","v":0.44738}]
[494,"WHIRLPOOL",{"$f":"VLOOKUP($B504,[1]EQ!$A$1:$L$2000,6,0)","v":2454.05},{"v":2456.4,"d":"2456.40"},2416.15,2378.25,{"v":2338,"d":"2338.00"},{"v":2494.3,"d":"2494.30"},2534.55,{"v":2572.4500000000003,"d":"2572.45"},{"$f":"VLOOKUP($B504,[1]EQ!$A$1:$L$2000,4,0)","v":2496.65},{"$f":"VLOOKUP($B504,[1]EQ!$A$1:$L$2000,5,0)","v":2418.5},{"$f":"(VLOOKUP($B504,[1]EQ!$A$1:$L$2000,9,0)/100000)","v":0.60107}]
[495,"WIPRO",{"$f":"VLOOKUP($B505,[1]EQ!$A$1:$L$2000,6,0)","v":437.55},{"v":439.7166666666667,"d":"439.72"},{"v":431.6333333333334,"d":"431.63"},{"v":425.7166666666667,"d":"425.72"},{"v":417.6333333333334,"d":"417.63"},{"v":445.6333333333334,"d":"445.63"},{"v":453.71666666666664,"d":"453.72"},{"v":459.6333333333334,"d":"459.63"},{"$f":"VLOOKUP($B505,[1]EQ!$A$1:$L$2000,4,0)","v":447.8},{"$f":"VLOOKUP($B505,[1]EQ!$A$1:$L$2000,5,0)","v":433.8},{"$f":"(VLOOKUP($B505,[1]EQ!$A$1:$L$2000,9,0)/100000)","v":124.53798}]
[496,"WOCKPHARMA",{"$f":"VLOOKUP($B506,[1]EQ!$A$1:$L$2000,6,0)","v":505.1},{"v":504.2666666666667,"d":"504.27"},{"v":494.83333333333337,"d":"494.83"},{"v":484.56666666666666,"d":"484.57"},{"v":475.1333333333333,"d":"475.13"},{"v":514.5333333333334,"d":"514.53"},{"v":523.9666666666667,"d":"523.97"},{"v":534.2333333333335,"d":"534.23"},{"$f":"VLOOKUP($B506,[1]EQ!$A$1:$L$2000,4,0)","v":513.7},{"$f":"VLOOKUP($B506,[1]EQ!$A$1:$L$2000,5,0)","v":494},{"$f":"(VLOOKUP($B506,[1]EQ!$A$1:$L$2000,9,0)/100000)","v":6.61406}]
[497,"YESBANK",{"$f":"VLOOKUP($B507,[1]EQ!$A$1:$L$2000,6,0)","v":16.05},{"v":16.11666666666667,"d":"16.12"},{"v":15.88333333333334,"d":"15.88"},{"v":15.716666666666669,"d":"15.72"},{"v":15.483333333333338,"d":"15.48"},{"v":16.283333333333342,"d":"16.28"},{"v":16.51666666666667,"d":"16.52"},{"v":16.683333333333344,"d":"16.68"},{"$f":"VLOOKUP($B507,[1]EQ!$A$1:$L$2000,4,0)","v":16.35},{"$f":"VLOOKUP($B507,[1]EQ!$A$1:$L$2000,5,0)","v":15.95},{"$f":"(VLOOKUP($B507,[1]EQ!$A$1:$L$2000,9,0)/100000)","v":774.78438}]
[498,"ZEEL",{"$f":"VLOOKUP($B508,[1]EQ!$A$1:$L$2000,6,0)","v":206.1},{"v":207.5666666666667,"d":"207.57"},{"v":201.38333333333338,"d":"201.38"},{"v":196.66666666666669,"d":"196.67"},{"v":190.48333333333338,"d":"190.48"},{"v":212.2833333333334,"d":"212.28"},{"v":218.46666666666673,"d":"218.47"},{"v":223.1833333333334,"d":"223.18"},{"$f":"VLOOKUP($B508,[1]EQ!$A$1:$L$2000,4,0)","v":213.75},{"$f":"VLOOKUP($B508,[1]EQ!$A$1:$L$2000,5,0)","v":202.85},{"$f":"(VLOOKUP($B508,[1]EQ!$A$1:$L$2000,9,0)/100000)","v":228.89782}]
[499,"ZENSARTECH",{"$f":"VLOOKUP($B509,[1]EQ!$A$1:$L$2000,6,0)","v":228.85},{"v":229.2833333333333,"d":"229.28"},{"v":227.11666666666662,"d":"227.12"},{"v":225.38333333333333,"d":"225.38"},{"v":223.21666666666664,"d":"223.22"},{"v":231.0166666666666,"d":"231.02"},{"v":233.18333333333328,"d":"233.18"},{"v":234.91666666666657,"d":"234.92"},{"$f":"VLOOKUP($B509,[1]EQ!$A$1:$L$2000,4,0)","v":231.45},{"$f":"VLOOKUP($B509,[1]EQ!$A$1:$L$2000,5,0)","v":227.55},{"$f":"(VLOOKUP($B509,[1]EQ!$A$1:$L$2000,9,0)/100000)","v":0.35426}]
[500,"ZYDUSWELL",{"$f":"VLOOKUP($B510,[1]EQ!$A$1:$L$2000,6,0)","v":1879.6},{"v":1874.4166666666667,"d":"1874.42"},{"v":1863.0833333333335,"d":"1863.08"},{"v":1846.5666666666668,"d":"1846.57"},{"v":1835.2333333333336,"d":"1835.23"},{"v":1890.9333333333334,"d":"1890.93"},{"v":1902.2666666666669,"d":"1902.27"},{"v":1918.7833333333333,"d":"1918.78"},{"$f":"VLOOKUP($B510,[1]EQ!$A$1:$L$2000,4,0)","v":1885.75},{"$f":"VLOOKUP($B510,[1]EQ!$A$1:$L$2000,5,0)","v":1857.9},{"$f":"(VLOOKUP($B510,[1]EQ!$A$1:$L$2000,9,0)/100000)","v":0.34465}]
[501,"ECLERX",{"$f":"VLOOKUP($B511,[1]EQ!$A$1:$L$2000,6,0)","v":921.35},{"v":931.4333333333334,"d":"931.43"},{"v":904.9166666666667,"d":"904.92"},{"v":888.4833333333333,"d":"888.48"},{"v":861.9666666666667,"d":"861.97"},{"v":947.8666666666668,"d":"947.87"},{"v":974.3833333333334,"d":"974.38"},{"v":990.8166666666668,"d":"990.82"},{"$f":"VLOOKUP($B511,[1]EQ!$A$1:$L$2000,4,0)","v":957.95},{"$f":"VLOOKUP($B511,[1]EQ!$A$1:$L$2000,5,0)","v":915},{"$f":"(VLOOKUP($B511,[1]EQ!$A$1:$L$2000,9,0)/100000)","v":0.42319}]
[]
[]
[]
[]
[]
["Note:     Pivot Point:Intra day trading tool"]
["Pivot Point: This is trigger point for intra day buy/sell based on the price range of the previous day"]
["As per the tool,the trader should take BUY position just above Pivot and keep the stop loss of pivot point and the first target would be Resistance 1(R1)"]
["If R1 is crossed then R2 becomes the next target with stop loss of at R1"]
["Similarly if price goes below pivot point then the trader should sell  and keep a stop  loss of pivot point and the first target would be S1"]
["If S1 is crossed then S2 becomes the next target with stop loss of at S1"]
[]
[]
[]
[]
[]
["Disclaimer:"]
["This document has been prepared by the Retail Research Desk of Asit C Mehta "]
["Investment Intermediates Ltd. and is meant for use of the recipient only "]
["and is not for circulation. This document is not to be reported or "]
["copied or made available to others. It should not be considered to be "]
["taken as an offer to sell or a solicitation to buy any security. The "]
["information contained herein is from sources believed reliable. We do "]
["not represent that it is accurate or complete and it should not be "]
["relied upon as such. We may from time to time have positions in and buy "]
["and sell securities referred to herein"]

{"sheet":"Bulk Deals","index":4,"n_rows":71,"n_cols":8,"rows_kept":71,"merged":[[4,0,4,1],[4,2,4,3],[6,1,6,2]]}
[" "]
[]
[]
[]
[]
[{"$nulls":4},"Back To Main Page"]
["Subject :","BULK DEAL",null,{"$f":"Main!B10","v":"2021-02-17"}]
[]
["Date","Scrip code","Scrip Name","Client Name","Buy / Sell","Quantity Traded","Trade Price / Wt.Avg.trade price","Exchange  "]
["2021-02-16",512165,"ABANSENT","SK GROWTH FUND PRIVATE LIMITED","BUY",{"v":78308,"d":"78,308"},117,"BSE"]
["2021-02-16",512165,"ABANSENT","PROGYAN CONSTRUCTION AND ENGINEERS PRIVATE LIMITED","SELL",{"v":92400,"d":"92,400"},118.24,"BSE"]
["2021-02-16",533758,"APLAPOLLO","APL INFRASTRUCTURE PRIVATE LIMITED","SELL",{"v":3000000,"d":"3,000,000"},965.15,"BSE"]
["2021-02-16",533758,"APLAPOLLO","SMALLCAP WORLD FUND INC","BUY",{"v":859193,"d":"859,193"},965,"BSE"]
["2021-02-16",537069,"ARNOLD","INT INFRASTURCTURE PRIVATE LIMITED","BUY",{"v":159900,"d":"159,900"},27.22,"BSE"]
["2021-02-16",537069,"ARNOLD","PRASHANT PRAKASH NILAWAR","SELL",{"v":157048,"d":"157,048"},27.22,"BSE"]
["2021-02-16",542176,"ARYAN","ZUBER TRADING LLP","BUY",{"v":104600,"d":"104,600"},6.3,"BSE"]
["2021-02-16",542176,"ARYAN","LAXMI CHAND B SHAH","SELL",{"v":98100,"d":"98,100"},6.3,"BSE"]
["2021-02-16",539884,"DARSHANORNA","DILIP RAMANLAL DOSHI","BUY",{"v":51826,"d":"51,826"},14.05,"BSE"]
["2021-02-16",521216,"DHANROTO","MISAL SINGH KHUNDIA","BUY",{"v":20000,"d":"20,000"},25.7,"BSE"]
["2021-02-16",532951,"GSS","SKYVEIL TRADE SOLUTIONS LLP","BUY",{"v":90844,"d":"90,844"},54.32,"BSE"]
["2021-02-16",532951,"GSS","SKYVEIL TRADE SOLUTIONS LLP","SELL",{"v":76890,"d":"76,890"},54.55,"BSE"]
["2021-02-16",540198,"OSIAJEE","ACVC FOREX PRIVATE LIMITED","BUY",{"v":95000,"d":"95,000"},22.95,"BSE"]
["2021-02-16",540198,"OSIAJEE","ACVC FOREX PRIVATE LIMITED","SELL",{"v":61316,"d":"61,316"},23.34,"BSE"]
["2021-02-16",540198,"OSIAJEE","RACHNA GOYAL","BUY",{"v":37800,"d":"37,800"},23.61,"BSE"]
["2021-02-16",540198,"OSIAJEE","TURBOT TRADERS PRIVATE LIMITED","SELL",{"v":70000,"d":"70,000"},22.95,"BSE"]
["2021-02-16",532911,"PARLEIND","PIL ENTERPRISE PRIVATE LIMITED","SELL",{"v":72900,"d":"72,900"},11.92,"BSE"]
["2021-02-16",539113,"PML","RAJNEESH BANSAL","BUY",{"v":87000,"d":"87,000"},1275,"BSE"]
["2021-02-16",539113,"PML","SANDEEP BANSAL","SELL",{"v":87000,"d":"87,000"},1275,"BSE"]
["2021-02-16",540159,"PURPLE","MEHUL KANUBHAI VAGHELA","BUY",{"v":113497,"d":"113,497"},43.32,"BSE"]
["2021-02-16",540159,"PURPLE","VAGHELA PRAKASH KANTILAL","SELL",{"v":239019,"d":"239,019"},42.84,"BSE"]
["2021-02-16",540159,"PURPLE","RESHMA CHAUHAN","BUY",{"v":45521,"d":"45,521"},42.75,"BSE"]
["2021-02-16",540159,"PURPLE","HANSABEN NITINBHAI CHAUHAN","BUY",{"v":47509,"d":"47,509"},42.92,"BSE"]
["2021-02-16",540159,"PURPLE","ASHOKKUMAR SABURBHAI CHAVDA","BUY",{"v":47057,"d":"47,057"},42.03,"BSE"]
["2021-02-16",540175,"REGENCY","NIKHIL KAKKAR","SELL",{"v":22439,"d":"22,439"},14.2,"BSE"]
["2021-02-16",540175,"REGENCY","JAIMAL SINGH WADHWA","BUY",{"v":24980,"d":"24,980"},14.24,"BSE"]
["2021-02-16",540175,"REGENCY","JAIMAL SINGH WADHWA","SELL",{"v":3000,"d":"3,000"},13.53,"BSE"]
["2021-02-16",542753,"SEACOAST","KALAIYARASAN RAJANGAM MUDALIAR","SELL",{"v":173346,"d":"173,346"},115,"BSE"]
["2021-02-16",540737,"SGRL","NILESH MANSUKHBHAI PATEL","SELL",{"v":78973,"d":"78,973"},218.7,"BSE"]
["2021-02-16",526981,"SHBAJRG","SCAN STEEL LIMITED","SELL",{"v":100000,"d":"100,000"},82.3,"BSE"]
["2021-02-16",526981,"SHBAJRG","KAUSHIK SHAH SHARES & SEC. LTD","BUY",{"v":90000,"d":"90,000"},82.3,"BSE"]
["2021-02-16",538920,"SPACEAGE","PARESH DHIRAJLAL SHAH","BUY",{"v":20000,"d":"20,000"},17.17,"BSE"]
["2021-02-16",539026,"SSPNFIN","SANGEETA CHANDU JAIN","SELL",{"v":24000,"d":"24,000"},28.63,"BSE"]
["2021-02-16",539026,"SSPNFIN","RUCHI VARSHNEY","BUY",{"v":20000,"d":"20,000"},28.99,"BSE"]
["2021-02-16",539026,"SSPNFIN","RUCHI VARSHNEY","SELL",{"v":16000,"d":"16,000"},29.2,"BSE"]
["2021-02-16",539026,"SSPNFIN","DEVJEET CHAKRABORTY","BUY",{"v":28000,"d":"28,000"},28.73,"BSE"]
["2021-02-16",539026,"SSPNFIN","DEVJEET CHAKRABORTY","SELL",{"v":16000,"d":"16,000"},26.63,"BSE"]
["2021-02-16",539026,"SSPNFIN","ASHOK KUMAR SINGH","BUY",{"v":36000,"d":"36,000"},29.09,"BSE"]
["2021-02-16",519367,"TRANSFD","ABHAY PATHAK","BUY",872,223.45,"BSE"]
["2021-02-16",539222,"VMV","SANJAY SAHA","BUY",{"v":17500,"d":"17,500"},24.9,"BSE"]
["2021-02-16",539222,"VMV","SANJAY SAHA","SELL",{"v":30000,"d":"30,000"},25.2,"BSE"]
["2021-02-16","JUMPNET","Jump Networks Limited","OLGA TRADING PRIVATE LIMITED","BUY",{"v":675000,"d":"675,000"},13.15,"NSE"]
["2021-02-16","JUMPNET","Jump Networks Limited","VANRAJ DADBHAI KAHOR","BUY",{"v":1233908,"d":"1,233,908"},13.11,"NSE"]
["2021-02-16","LOVABLE","Lovable Lingerie Ltd","VIJIT TRADING","BUY",{"v":14831,"d":"14,831"},99.2,"NSE"]
["2021-02-16","MAYURUNIQ","Mayur Uniquoters Ltd","I D F C TAX ADVANTAGE ELSSFUND","BUY",{"v":225000,"d":"225,000"},422.5,"NSE"]
["2021-02-16","MAYURUNIQ","Mayur Uniquoters Ltd","STANDARD CHARTERED CLASSIC EQUITY FUND","BUY",{"v":225000,"d":"225,000"},422.5,"NSE"]
["2021-02-16","MAYURUNIQ","Mayur Uniquoters Ltd","IDFC DYNAMIC EQUITY FUND","BUY",{"v":225000,"d":"225,000"},422.5,"NSE"]
["2021-02-16","MAYURUNIQ","Mayur Uniquoters Ltd","IDFC  SMALL AND MIDCAP EQUITY","BUY",{"v":225000,"d":"225,000"},422.5,"NSE"]
["2021-02-16","OLECTRA","Olectra Greentech Limited","SANJEEV SINGHAL","BUY",{"v":800000,"d":"800,000"},186,"NSE"]
["2021-02-16","RGL","Renaissance Global Ltd","DARSHIL ATUL SHAH","BUY",{"v":136500,"d":"136,500"},291.35,"NSE"]
["2021-02-16","SDBL","Som Dist & Brew Ltd","SUBHASH P RATHOD","BUY",{"v":448450,"d":"448,450"},30.07,"NSE"]
["2021-02-16","SDBL","Som Dist & Brew Ltd","RATHOD SAAJAN S","BUY",{"v":1046390,"d":"1,046,390"},28.96,"NSE"]
["2021-02-16","VERTOZ","Vertoz Advertising Ltd","TCG FUNDS FUND 1","BUY",{"v":140000,"d":"140,000"},260,"NSE"]
["2021-02-16","JUMPNET","Jump Networks Limited","VANRAJ DADBHAI KAHOR","SELL",{"v":1233908,"d":"1,233,908"},13.15,"NSE"]
["2021-02-16","JUMPNET","Jump Networks Limited","OLGA TRADING PRIVATE LIMITED","SELL",{"v":442499,"d":"442,499"},13.15,"NSE"]
["2021-02-16","LOVABLE","Lovable Lingerie Ltd","VIJIT TRADING","SELL",{"v":77831,"d":"77,831"},93.06,"NSE"]
["2021-02-16","MAYURUNIQ","Mayur Uniquoters Ltd","KOTAK FUNDS-INDIA MIDCAP FUND","SELL",{"v":950527,"d":"950,527"},422.52,"NSE"]
["2021-02-16","OLECTRA","Olectra Greentech Limited","TRINITY INFRAVENTURES LIMITED","SELL",{"v":1000000,"d":"1,000,000"},186,"NSE"]
["2021-02-16","OLECTRA","Olectra Greentech Limited","GOLDSTONE POWER PRIVATE LIMITED","SELL",{"v":1500000,"d":"1,500,000"},186,"NSE"]
["2021-02-16","RGL","Renaissance Global Ltd","AMIT CHANDRAKANT SHAH","SELL",{"v":136500,"d":"136,500"},291.35,"NSE"]
["2021-02-16","SDBL","Som Dist & Brew Ltd","RATHOD SAAJAN S","SELL",{"v":146390,"d":"146,390"},30.01,"NSE"]
["2021-02-16","SDBL","Som Dist & Brew Ltd","RADHEYSHYAM SEN","SELL",{"v":1000000,"d":"1,000,000"},28.01,"NSE"]

{"sheet":"Call Tracker (Equity & F&O)","index":5,"n_rows":275,"n_cols":18,"rows_kept":275,"merged":[[66,0,67,0],[66,1,67,1],[66,9,67,9],[66,12,67,12],[66,13,67,13],[66,14,67,14],[66,15,67,15]]}
[]
[]
[]
[]
[{"$nulls":12},"Back To Main Page"]
["Retail Research Technical Calls & Fundamental Performance Report for the month of February-2021"]
[{"$nulls":12},{"$f":"Main!B10","v":"2021-02-17"}]
[null,"Positional  Call"]
["Sr.no","Date",null,"Company","Rec","Rec Price","Stop Loss***","Call Closed At","Target","Remark","Profit / Loss per Share","All charges","Net Gain / Loss  %","Status","Closed Date"]
[1,"2020-12-10",null,"IRCTC","Buy",1427.5,1330,1535,"1550-1600","Profit of Rs.107.5/-",{"$f":"H10-F10","v":107.5},{"$f":"(F10*-0.8)/100","v":-11.42},{"$f":"(K10+L10)/F10","v":{"v":0.06730647985989492,"d":"6.73%"}},"Successful","2021-02-04",null,null,"H"]
[2,"2021-01-05",null,"BRITANNIA","Buy",3540,3295,{"$f":"(3682.5+3520)/2","v":3601.25},"3900-4000","Profit of Rs.61.25/-",{"$f":"H11-F11","v":61.25},{"$f":"(F11*-0.8)/100","v":-28.32},{"$f":"(K11+L11)/F11","v":{"v":0.00930225988700565,"d":"0.93%"}},"Successful","2021-02-01",null,null,"H"]
[3,"2021-02-02",null,"JKCEMENT","Buy",2197.5,2070,2357.5,"2400-2450","Profit of Rs.160/-",160,{"$f":"(F12*-0.8)/100","v":-17.58},{"$f":"(K12+L12)/F12","v":{"v":0.06481001137656428,"d":"6.48%"}},"Successful","2020-02-08",null,null,"H"]
[4,"2021-02-02",null,"HINDUNILVR","Buy","2235-2245",2090,null,"2500-2550","Open",{"$nulls":7},"H"]
[5,"2021-02-04",null,"PIIND","Buy",2190,1995,2330,2500,"Profit of Rs.140/-",{"$f":"H14-F14","v":140},{"$f":"(F14*-0.07)/100","v":{"v":-1.5330000000000001,"d":"-1.53"}},{"$f":"(K14+L14)/F14","v":{"v":0.06322694063926941,"d":"6.32%"}},"Successful","2020-02-04",null,null,"H"]
[6,"2021-02-09",null,"IRCTC","Buy",1597.5,1514,1702.5,"1750-1800","Profit of Rs.105/-",105,{"$f":"(F15*-0.8)/100","v":-12.78},{"v":0.05772769953051643,"d":"5.77%"},"Successful","2020-02-12",null,null,"H"]
[7,"2021-02-09",null,"PIIND","Buy","2200-2210",2070,null,"2400-2500","Open",{"$nulls":7},"H"]
[]
[]
[]
[]
[]
["CLBS = Closing Basis ***"]
["Dividend adjusted <>",{"$nulls":4},"Reinitiated $"]
["Part book {}",{"$nulls":4},"Revised stoploss #"]
[]
[null,"Momentum Call"]
["Sr.no","Date",null,"Company","Rec","Rec Price","Stop Loss","Call Closed At","Target","Remark","Profit / Loss per Share/Lot","All charges","Net Gain / Loss  %","Status","Closed Date"]
[1,"2021-02-01",null,"BHARTIARTL","Buy",566,548,577,600,"Profit of Rs.11/-",{"$f":"H28-F28","v":11},{"$f":"(F28*-0.07)/100","v":{"v":-0.39620000000000005,"d":"-0.40"}},{"$f":"(K28+L28)/F28","v":{"v":0.018734628975265018,"d":"1.87%"}},"Successful","2021-02-01",null,null,"H"]
[2,"2021-02-02",null,"CESC","Buy",627.5,609,608.5,660,"Loss of Rs.19/-",-19,{"$f":"(F29*-0.7)/100","v":{"v":-4.3925,"d":"-4.39"}},{"v":-0.03727888446215139,"d":"-3.73%"},"Unsuccessful","2021-02-08",null,null,"H"]
[3,"2021-02-02",null,"MCDOWELL-N","Buy",576.5,560,590,"600-610","Profit of Rs.14/-",{"$f":"H30-F30","v":13.5},{"v":-4.0355,"d":"-4.04"},{"$f":"(K30+L30)/F30","v":{"v":0.01641717259323504,"d":"1.64%"}},"Successful","2021-02-04",null,null,"N"]
[4,"2021-02-02",null,"BHARTIARTL","Buy",601.5,585,615.5,630,"Profit of Rs.14/-",{"$f":"H31-F31","v":14},{"v":-4.2105,"d":"-4.21"},{"$f":"(K31+L31)/F31","v":{"v":0.016275145469659184,"d":"1.63%"}},"Successful","2021-02-03",null,null,"H"]
[5,"2021-02-03",null,"KOTAKBANK","Buy",1844,1790,1887.5,"1920-1950","Profit of Rs.43.5/-",{"$f":"H32-F32","v":43.5},{"v":-12.908,"d":"-12.91"},{"$f":"(K32+L32)/F32","v":{"v":0.016590021691973968,"d":"1.66%"}},"Successful","2021-02-04",null,null,"H"]
[6,"2021-02-04",null,"BHARTIARTL","Buy",612.5,598,592.5,"640-650","Loss of Rs.20/-",{"$f":"H33-F33","v":-20},{"v":-4.2875,"d":"-4.29"},{"$f":"(K33+L33)/F33","v":{"v":-0.0396530612244898,"d":"-3.97%"}},"Unsuccessful","2021-02-05",null,null,"H"]
[7,"2021-02-04",null,"ICICIPRULI","Buy",472,457,485,"495-505","Profit of Rs.13/-",13,{"v":-3.304,"d":"-3.30"},{"v":0.020542372881355932,"d":"2.05%"},"Successful","2021-02-11",null,null,"H"]
[8,"2021-02-05",null,"IRCTC","Buy",1520,1469,1560,"1600-1620","Profit of Rs.40/-",{"$f":"H35-F35","v":40},{"$f":"(F35*-0.07)/100","v":{"v":-1.064,"d":"-1.06"}},{"$f":"(K35+L35)/F35","v":{"v":0.02561578947368421,"d":"2.56%"}},"Successful","2021-02-05",null,null,"H"]
[9,"2021-02-08",null," ZEEL","Buy",221,214.5,214.5,"230-235","Loss of Rs.6.5/-",-6.5,{"$f":"(F36*-0.7)/100","v":{"v":-1.547,"d":"-1.55"}},{"v":-0.03641176470588236,"d":"-3.64%"},"Unsuccessful","2021-02-05",null,null,"H"]
[10,"2021-02-10",null,"ITC","Buy",224.5,218,227.75,235,"Profit of Rs.3.25/-",{"$f":"H37-F37","v":3.25},{"$f":"(F37*-0.07)/100","v":{"v":-0.15715,"d":"-0.16"}},{"$f":"(K37+L37)/F37","v":{"v":0.013776614699331847,"d":"1.38%"}},"Successful","2021-02-10",null,null,"H"]
[11,"2021-02-12",null,"EXIDEIND","Buy","212.5-213.5",207,null,"222-225","Open"]
[12,"2021-02-12",null,"MOTHERSUMI","Buy",173,168,183.5,185,"Profit of Rs.10.5/-",{"$f":"H39-F39","v":10.5},{"$f":"(F39*-0.07)/100","v":{"v":-0.12110000000000001,"d":"-0.12"}},{"$f":"(K39+L39)/F39","v":{"v":0.05999364161849711,"d":"6.00%"}},"Successful","2021-02-12"]
[13,"2021-02-15",null,"NESTLEIND","Buy","17350-17450",16900,null,"18000-18200","Open"]
[14,"2021-02-16",null,"IRCTC","Buy","1680-1690",1635,null,"1780-1800","Open"]
[]
[]
[]
["CLBS = Closing Basis ***",{"$nulls":6},"*"]
["Dividend adjusted <>",{"$nulls":4},"Reinitiated $"]
[{"$nulls":5},"Revised stoploss #"]
[]
["Master Trade High Risk"]
["Sr.no","Date",null,"Company","Rec","Rec Price","Stop Loss","Call Closed At","Target","Remark","Profit / Loss per share","All charges","Gain / Loss  per Lot","Lot","Status","Closed Date"]
[1,"2021-02-02",null,"AUROPHARMA FEB FUT ","Buy",925.5,905,941,"960-965","Profit of Rs.15.50/-",{"$f":"H51-F51","v":15.5},{"$f":"(H51*N51)*0.035%","v":{"v":214.07750000000004,"d":"214.08"}},{"$f":"(K51*N51)-L51","v":{"v":9860.9225,"d":"9860.9"}},650,"Successful","2021-02-03",null,"N"]
[2,"2021-02-02",null,"RELIANCE FEB FUT","Buy",1930,1885,1964,2000,"Profit of Rs.34/-",{"$f":"H52-F52","v":34},{"$f":"(H52*N52)*0.035%","v":{"v":171.85000000000002,"d":"171.85"}},{"$f":"(K52*N52)-L52","v":{"v":8328.15,"d":"8328.2"}},250,"Successful","2021-02-08",null,"H"]
[3,"2021-02-03",null,"NIFTY FEB FUT","Sell",14700,14820,14820,14500,"Loss of Rs, 120/-",{"$f":"F53-H53","v":-120},389.02500000000003,{"$f":"(K53*N53)-L53","v":-9389.025},75,"Unsuccessful","2021-02-03",null,"H"]
[4,"2021-02-03",null,"BATAINDIA FEB FUT","Buy",1569,1545,1586,"1600-1620","Profit of Rs.17/-",{"$f":"H54-F54","v":17},{"$f":"(H54*N54)*0.035%","v":{"v":305.30500000000006,"d":"305.31"}},{"$f":"(K54*N54)-L54","v":{"v":9044.695,"d":"9044.7"}},550,"Successful","2021-02-03",null,"N"]
[5,"2021-02-04",null,"AUROPHARMA FEB FUT","Buy",924,903,942,"960-965","Profit of Rs.18/-",{"$f":"H55-F55","v":18},{"v":214.30500000000004,"d":"214.31"},{"v":11485.695,"d":"11485.7"},650,"Successful","2021-02-05",null,"N"]
[6,"2021-02-05",null,"NIFTY FEB FUT","Sell",14980,15080,14910,14800,"Profit of Rs.70/-",{"$f":"F56-H56","v":70},{"$f":"(H56*N56)*0.035%","v":{"v":391.38750000000005,"d":"391.39"}},{"$f":"(K56*N56)-L56","v":{"v":4858.6125,"d":"4858.6"}},75,"Successful","2021-02-05",null,"H"]
[7,"2021-02-08",null,"HDFCLIFE FEB FUT","Buy",687,675,697.5,710,"Profit of Rs.10.5/-",{"$f":"H57-F57","v":10.5},{"v":268.5375,"d":"268.54"},{"v":11281.4625,"d":"11281.5"},1100,"Successful","2021-02-09",null,"H"]
[8,"2021-02-15",null,"HDFCLIFE FEB FUT","Buy","701-702",689,null,720,"Open"]
[9,"2021-02-16",null,"SRF FEB FUT","Buy","5780-5800",5680,null,6000,"Open"]
[]
[]
[]
[]
[]
["Master Trade Medium Risk "]
["Sr.no","Date",null,"Company","Rec","Rec Price","Stop Loss","Call Closed At","Target","Remark","Profit/ Loss per lot ","All charges","Gain / Loss  per Lot","Lot","Status","Closed Date"]
[1,"2021-01-29",null,"NIFTY 13800 PE 11-FEB","Buy",215,null,0,null,"Loss of Rs, 117.5/-",{"$f":"H67-F67","v":-215},{"v":100,"d":"100.00"},-8612.5,75,"Unsuccessful","2021-02-11",null,"N"]
[{"$nulls":3},"NIFTY 13400 PE 11-FEB","Sell",97.5,null,0,null,null,{"$f":"F68-H68","v":97.5},{"v":100,"d":"100.00"},{"$nulls":5},"N"]
[2,"2021-02-01",null,"NIFTY 13800 PE 4-FEB","Buy",67.5,35,35,150,"Loss of Rs, 32.5/-",{"$f":"H69-F69","v":-32.5},100,{"$f":"(K69*N69)+L69","v":-2337.5},75,"Unsuccessful","2021-02-01",null,"H"]
[3,"2021-02-03",null,"NIFTY 14800 PE 4-FEB","Buy",51,18,71.5,"100-120","Profit of Rs.20.50/-",{"$f":"H70-F70","v":20.5},{"v":100,"d":"100.00"},{"$f":"(K70*N70)-L70","v":1437.5},75,"Successful","2021-02-03",null,"H"]
[4,"2021-02-03",null,"NIFTY 14800 PE 4-FEB","Buy",52.5,19,72,"100-120","Profit of Rs.19.50/-",{"$f":"H71-F71","v":19.5},{"v":100,"d":"100.00"},1362.5,75,"Successful","2021-02-03",null,"H"]
[5,"2021-02-05",null,"NIFTY 15100 CE 25-FEB","Sell",227,325,325,"50-10","Loss of Rs, 98/-",{"$f":"F72-H72","v":-98},100,{"$f":"(K72*N72)+L72","v":-7250},75,"Unsuccessful","2021-02-09",null,"H"]
[6,"2021-02-10",null,"NIFTY 15200 CE 25-FEB ","Sell",227.5,325,175,"50-10","Profit of Rs, 52.5/-",{"$f":"F73-H73","v":52.5},100,{"$f":"(K73*N73)+L73","v":4037.5},75,"Successful","2021-02-10",null,"H"]
[7,"2021-02-10",null,"NIFTY 15200 CE 25-FEB ","Sell",202.5,302,302,"50-10","Loss of Rs, 99.5/-",{"$f":"F74-H74","v":-99.5},100,{"$f":"(K74*N74)+L74","v":-7362.5},75,"Unsuccessful","2021-02-16",null,"H"]
[8,"2021-02-11",null,"BANKNIFTY 36500 CE 25-FEB","Sell",470,680,375,"100-50","Profit of Rs, 95/-",{"$f":"F75-H75","v":95},100,{"$f":"(K75*N75)+L75","v":2475},25,"Successful","2021-02-12"]
[9,"2021-02-15",null,"BANKNIFTY 37400 CE 25-FEB","Sell",370,522,522,"50-10","Loss of Rs, 152/-",{"$f":"F76-H76","v":-152},100,{"$f":"(K76*N76)+L76","v":-3700},25,"Unsuccessful","2021-02-15"]
[4,"2021-02-16",null,"NIFTY 14800 PE 4-FEB","Buy",66,19,79,"100-120","Profit of Rs.13/-",{"$f":"H77-F77","v":13},100,{"$f":"(K77*N77)-L77","v":{"v":875,"d":"875.0"}},75,"Successful","2021-02-16"]
{"$rows_empty":8}
["Techno -Funda  (positional)"]
["Sr.no","Date",null,"Company","Rec","Rec Price","Stop Loss***","Call Closed At","Target","Remark","Profit / Loss per Share/Lot","All charges","Net Gain / Loss  %","Status","Closed Date"]
[1,"2021-01-07",null,"SIS","Buy",424,385,455,"500-520","Part profit of Rs.31/-",{"$f":"H88-F88","v":31},{"$f":"(F88*-0.8)/100","v":{"v":-3.3920000000000003,"d":"-3.39"}},{"$f":"(K88+L88)/F88","v":{"v":0.06511320754716982,"d":"6.51%"}},"Successful","2020-02-16",null,null,"H"]
[2,"2021-02-11",null,"MCX","Buy","1500-1530",1390,null,"1800-1850","Open"]
[]
["CLBS = Closing Basis ***",{"$nulls":4},"Reinitiated $"]
["Dividend adjusted <>",{"$nulls":4},"Revised stoploss #"]
[]
[null,"Intrday Call"]
["Sr.no","Date",null,"Company","Rec","Rec Price","Stop Loss","Call Closed At","Target","Remark","Profit / Loss per Share/Lot","Gain / Loss  per Lot","Lot","All charges","Net Gain / Loss  %","Status","Closed Date"]
{"$rows_empty":12}
[null,"Investment Idea "]
["Sr.no","Date",null,"Company","Rec","Rec Price","Point of Review","Close Rate","Target","Remark","Profit / Loss per Share","Gain / Loss  %","Status","Closed Date"]
[1,"2013-11-01",null,"L&T Finance Holding","Accu",{"v":82,"d":"82.00"},"-",100,{"v":100,"d":"100.00"},"Target Achieved",{"$f":"H110-F110","v":{"v":18,"d":"18.00"}},{"$f":"K110/F110","v":{"v":0.21951219512195122,"d":"21.95%"}},"Successful","2016-10-14"]
[2,"2014-06-04",null,"Finolex Inds","Buy",{"v":257,"d":"257.00"},"-",300,{"v":300,"d":"300.00"},"Target Achieved",{"v":43,"d":"43.00"},{"v":0.16731517509727625,"d":"16.73%"},"Successful","2014-07-02"]
[3,"2014-07-08",null,"JK Cement","Buy",{"v":393,"d":"393.00"},"-",468,{"v":468,"d":"468.00"},"Target Achieved",{"v":75,"d":"75.00"},{"v":0.19083969465648856,"d":"19.08%"},"Successful","2014-08-12"]
[4,"2014-08-06",null,"Finolex Cables","Buy",{"v":205,"d":"205.00"},"-",275,{"v":250,"d":"250.00"},"Target Achieved",{"v":70,"d":"70.00"},{"v":0.34146341463414637,"d":"34.15%"},"Successful","2014-11-19"]
[5,"2014-09-04",null,"Exide Inds","Buy",{"v":162,"d":"162.00"},"-",190,{"v":190,"d":"190.00"},"Target Achieved",{"v":28,"d":"28.00"},{"v":0.1728395061728395,"d":"17.28%"},"Successful","2015-01-02"]
[6,"2014-09-04",null,"Deepak Nitrite","Buy",{"v":75,"d":"75.00"},"-",91.5,"95-100","Profit of Rs.16.50/-",{"v":16.5,"d":"16.50"},{"v":0.22,"d":"22.00%"},"Successful","2014-11-11"]
[7,"2014-10-01",null,"Mercks","Buy",{"v":850,"d":"850.00"},"-",982.5,{"v":1050,"d":"1050.00"},"Profit of Rs.132.50/-",{"v":132.5,"d":"132.50"},{"v":0.15588235294117647,"d":"15.59%"},"Successful","2015-02-04"]
[8,"2014-10-01",null,"Grindwell Norton","Buy",{"v":475,"d":"475.00"},"-",515,{"v":600,"d":"600.00"},"Profit of Rs.40/-",{"v":40,"d":"40.00"},{"v":0.08421052631578947,"d":"8.42%"},"Successful","2014-10-27"]
[9,"2014-10-01",null,"Snowman Logistics","Buy",{"v":86,"d":"86.00"},"-",99,{"v":140,"d":"140.00"},"Profit of Rs.13.00/-",{"v":13,"d":"13.00"},{"v":0.1511627906976744,"d":"15.12%"},"Successful","2014-10-27"]
[10,"2014-10-14",null,"Birla Corp","Buy",{"v":496.6,"d":"496.60"},"-",621,{"v":580,"d":"580.00"},"Target Achieved",{"v":124.39999999999998,"d":"124.40"},{"v":0.25050342327829234,"d":"25.05%"},"Successful","2016-08-23"]
[11,"2014-10-14",null,"Ultratech Cem","Buy",{"v":2481.9,"d":"2481.90"},"-",2840,{"v":2870,"d":"2870.00"},"Profit of Rs.358.10/-",{"v":358.0999999999999,"d":"358.10"},{"v":0.14428462065353154,"d":"14.43%"},"Successful","2015-01-13"]
[12,"2014-10-16",null,"Sintex Inds","Buy",{"v":84.5,"d":"84.50"},"-",93,{"v":110,"d":"110.00"},"Profit of Rs.8.50/-",{"v":8.5,"d":"8.50"},{"v":0.10059171597633136,"d":"10.06%"},"Successful","2014-10-27"]
[13,"2014-10-16",null,"HSIL","Buy",{"v":401,"d":"401.00"},"-",428,{"v":450,"d":"450.00"},"Profit of Rs.27.00/-",{"v":27,"d":"27.00"},{"v":0.06733167082294264,"d":"6.73%"},"Successful","2015-01-16"]
[14,"2014-10-16",null,"Eveready Inds","Buy",{"v":101,"d":"101.00"},"-",112,{"v":120,"d":"120.00"},"Profit of Rs.11.00/-",{"v":11,"d":"11.00"},{"v":0.10891089108910891,"d":"10.89%"},"Successful","2014-10-27"]
[15,"2014-11-11",null,"Pennar Inds","Buy",{"v":59,"d":"59.00"},"-",76,{"v":76,"d":"76.00"},"Target Achieved",{"v":17,"d":"17.00"},{"v":0.288135593220339,"d":"28.81%"},"Successful","2017-10-24"]
[16,"2014-11-11",null,"Snowman Logistics","Buy",{"v":99,"d":"99.00"},"-",120,{"v":120,"d":"120.00"},"Profit of Rs.21/-",{"v":21,"d":"21.00"},{"v":0.21212121212121213,"d":"21.21%"},"Successful","2014-11-17"]
[17,"2014-11-13",null,"Dharamsi Morarji Chem","Buy",{"v":22,"d":"22.00"},"-",33.55,{"v":32,"d":"32.00"},"Profit of Rs 11.55/-",{"v":11.549999999999997,"d":"11.55"},{"v":0.5249999999999999,"d":"52.50%"},"Successful","2015-07-03"]
[18,"2014-12-03",null,"Tatachem","Buy",{"v":440,"d":"440.00"},"-",520,{"v":520,"d":"520.00"},"Profit of Rs 80.00/-",{"v":80,"d":"80.00"},{"v":0.18181818181818182,"d":"18.18%"},"Successful","2015-07-23"]
[19,"2014-12-03",null,"Advanta","Buy",{"v":360,"d":"360.00"},"-",427,{"v":425,"d":"425.00"},"Profit of Rs.67.00/-",{"v":67,"d":"67.00"},{"v":0.18611111111111112,"d":"18.61%"},"Successful","2015-02-23"]
[20,"2015-01-08",null,"GDL","Buy",{"v":360,"d":"360.00"},"-",455,{"v":420,"d":"420.00"},"Profit of Rs.95.00/-",{"v":95,"d":"95.00"},{"v":0.2638888888888889,"d":"26.39%"},"Successful","2015-01-20"]
[21,"2015-01-08",null,"NRB Bearing","Buy",{"v":130,"d":"130.00"},null,175.5,{"v":165,"d":"165.00"},"Profit of Rs 45.50/-",{"v":45.5,"d":"45.50"},{"v":0.35,"d":"35.00%"},"Successful","2017-12-19"]
[22,"2015-02-05",null,"GSFC","Accu",{"v":98,"d":"98.00"},null,120,{"v":120,"d":"120.00"},"Target Achieved",{"v":22,"d":"22.00"},{"v":0.22448979591836735,"d":"22.45%"},"Successful","2017-01-18"]
[23,"2015-02-05",null,"Sundrmfast","Accu",{"v":196,"d":"196.00"},null,262,{"v":255,"d":"255.00"},"Target Achieved",{"v":66,"d":"66.00"},{"v":0.336734693877551,"d":"33.67%"},"Successful","2016-08-17"]
[24,"2015-03-04",null,"GPPL","Accu",235,null,{"v":77,"d":"77.00"},"280-285","Loss of Rs.158/-",{"v":-158,"d":"-158.00"},{"v":-0.6723404255319149,"d":"-67.23%"},"Unsuccessful","2019-02-26"]
[25,"2015-03-04",null,"ORIENTCEM","Accu",{"v":185,"d":"185.00"},null,224,"220-225","Target Achieved",{"v":39,"d":"39.00"},{"v":0.21081081081081082,"d":"21.08%"},"Successful","2016-10-04"]
[26,"2015-03-27",null,"PFS","Accu",49.5,null,15.85,{"v":67,"d":"67.00"},"Loss of Rs.33.65/-",-33.65,{"v":-0.6797979797979797,"d":"-68%"},"Unsuccessful","2019-06-11"]
[27,"2015-03-30",null,"Walchandnagar Ind Ltd","Accu",{"v":183.5,"d":"183.50"},null,219,{"v":218,"d":"218.00"},"Profit of Rs.35.50/-",{"v":35.5,"d":"35.50"},{"v":0.19346049046321526,"d":"19.35%"},"Successful","2015-04-09"]
[28,"2015-04-20",null,"Kalpataru Power Transmission Ltd","Accu",{"$f":"(227+237)/2","v":{"v":232,"d":"232.00"}},null,298,{"v":298,"d":"298.00"},"Target Achieved",{"v":66,"d":"66.00"},{"v":0.28448275862068967,"d":"28.45%"},"Successful","2017-03-29"]
[29,"2015-05-04",null,"Mastek Ltd","Buy",{"v":385,"d":"385.00"},null,{"$f":"212.5+331","v":543.5},{"v":510,"d":"510.00"},"Profit of Rs 158.50/-",{"v":158.5,"d":"158.50"},{"v":0.4116883116883117,"d":"41.17%"},"Successful","2015-08-19"]
[30,"2015-05-04",null,"Suprajit Eng","Buy",{"v":115.5,"d":"115.50"},null,146,{"v":142,"d":"142.00"},"Profit of Rs 30.50/-",{"v":30.5,"d":"30.50"},{"v":0.26406926406926406,"d":"26.41%"},"Successful","2015-07-17"]
[31,"2015-05-27",null,"TCI","Buy",{"v":237.5,"d":"237.50"},null,279.5,{"v":278,"d":"278.00"},"Target Achieved",{"v":42,"d":"42.00"},{"v":0.17684210526315788,"d":"17.68%"},"Successful","2015-08-06"]
[32,"2015-06-19",null,"HSIL","Accu",{"v":340,"d":"340.00"},null,448,{"v":448,"d":"448.00"},"Target Achieved",{"v":108,"d":"108.00"},{"v":0.3176470588235294,"d":"31.76%"},"Successful","2017-10-10"]
[33,"2015-07-06",null,"Capital First","Accu",{"v":390,"d":"390.00"},null,460,{"v":460,"d":"460.00"},"Target Achieved",{"$f":"H142-F142","v":{"v":70,"d":"70.00"}},{"$f":"K142/F142","v":{"v":0.1794871794871795,"d":"17.95%"}},"Successful","2016-04-18"]
[34,"2015-07-10",null,"Dolphin OffShore ","Accu",122.5,null,{"v":61,"d":"61.00"},{"v":172,"d":"172.00"},"Loss of Rs.61.50/-",{"v":-61.5,"d":"-61.50"},{"v":-0.5020408163265306,"d":"-50.20%"},"Unsuccessful","2018-08-21"]
[35,"2015-08-03",null,"Allcargo logistics","Accu",{"v":297.5,"d":"297.50"},null,350,{"v":360,"d":"360.00"},"Profit of Rs 52.50/-",{"v":52.5,"d":"52.50"},{"v":0.17647058823529413,"d":"17.65%"},"Successful","2015-08-16"]
[36,"2015-08-03",null,"Camline Fine ","Accu",{"v":115.5,"d":"115.50"},null,149,{"v":140,"d":"140.00"},"Profit of Rs 33.50/-",{"v":33.5,"d":"33.50"},{"v":0.29004329004329005,"d":"29.00%"},"Successful","2017-01-05"]
[37,"2015-09-04",null,"TCI","Accu",{"v":226,"d":"226.00"},null,292,{"v":292,"d":"292.00"},"Target Achieved ",{"v":66,"d":"66.00"},{"v":0.2920353982300885,"d":"29.20%"},"Successful","2015-10-09"]
[38,"2015-09-07",null,"Kalpataru Power Transmission Ltd","Accu",{"v":232.5,"d":"232.50"},null,312.5,{"v":310,"d":"310.00"},"Target Achieved",{"v":80,"d":"80.00"},{"v":0.34408602150537637,"d":"34.41%"},"Successful","2017-03-29"]
[39,"2015-09-21",null,"LLOYD ELECTRIC & ENG LTD","Accu",{"v":196.5,"d":"196.50"},null,238,{"v":238,"d":"238.00"},"Target Achieved ",{"v":41.5,"d":"41.50"},{"v":0.21119592875318066,"d":"21.12%"},"Successful","2015-10-14"]
[40,"2015-09-24",null,"L&T Finance Holding","Accu",{"v":65,"d":"65.00"},null,82,{"v":82,"d":"82.00"},"Target Achieved ",{"v":17,"d":"17.00"},{"v":0.26153846153846155,"d":"26.15%"},"Successful","2016-07-27"]
[41,"2015-10-14",null,"KEC International ltd","Accu",{"v":144,"d":"144.00"},null,182.5,{"v":181,"d":"181.00"},"Target Achieved ",{"v":38.5,"d":"38.50"},{"v":0.2673611111111111,"d":"26.74%"},"Successful","2017-03-23"]
[42,"2015-10-14",null,"Gruh Finance","Accu",{"v":264,"d":"264.00"},null,311,{"v":311,"d":"311.00"},"Target Achieved ",{"v":47,"d":"47.00"},{"v":0.17803030303030304,"d":"17.80%"},"Successful","2016-08-22"]
[43,"2015-11-10",null,"Pidilitind","Buy",{"v":549.5,"d":"549.50"},null,630,{"v":630,"d":"630.00"},"Target Achieved ",{"v":80.5,"d":"80.50"},{"v":0.1464968152866242,"d":"14.65%"},"Successful","2016-02-19"]
[44,"2015-12-04",null,"Zensar Technology","Accu",{"v":1027.5,"d":"1027.50"},null,1315,{"v":1250,"d":"1250.00"},"Target Achieved ",{"v":287.5,"d":"287.50"},{"v":0.2798053527980535,"d":"27.98%"},"Successful","2018-05-24"]
[45,"2015-12-29",null,"Vinati Organics Ltd","Accu",{"v":465,"d":"465.00"},null,540,{"v":540,"d":"540.00"},"Target Achieved ",{"v":75,"d":"75.00"},{"v":0.16129032258064516,"d":"16.13%"},"Successful","2016-06-09"]
[46,"2016-01-11",null,"GSFC","Buy",{"v":81,"d":"81.00"},null,110,{"v":110,"d":"110.00"},"Target Achieved ",{"v":29,"d":"29.00"},{"v":0.35802469135802467,"d":"35.80%"},"Successful","2017-01-10"]
[47,"2016-01-13",null,"SSWL","Buy",{"v":417.5,"d":"417.50"},null,547,{"v":535,"d":"535.00"},"Target Achieved ",{"v":129.5,"d":"129.50"},{"v":0.31017964071856285,"d":"31.02%"},"Successful","2016-07-27"]
[48,"2016-02-08",null,"Persistent System Ltd","Accu",{"v":650,"d":"650.00"},null,800,{"v":800,"d":"800.00"},"Target Achieved ",{"v":150,"d":"150.00"},{"v":0.23076923076923078,"d":"23.08%"},"Successful","2018-02-23"]
[49,"2016-03-04",null,"UPL","Accu",{"v":437.5,"d":"437.50"},null,504.5,{"v":522,"d":"522.00"},"Profit of Rs.67/-",{"v":67,"d":"67.00"},{"v":0.15314285714285714,"d":"15.31%"},"Successful","2016-04-20"]
[50,"2016-03-09",null,"Ashoka Buildcon Ltd","Accu",{"v":189.5,"d":"189.50"},null,218,{"v":218,"d":"218.00"},"Target Achieved ",{"v":28.5,"d":"28.50"},{"v":0.1503957783641161,"d":"15.04%"},"Successful","2017-10-26"]
[51,"2016-04-11",null,"PTC INDIA FIN SERV LTD","Accu",36.5,null,15.85,{"v":60,"d":"60.00"},"Loss of Rs.20.65/-",-20.65,{"v":-0.5657534246575342,"d":"-56.58%"},"Unsuccessful","2019-06-11"]
[52,"2016-04-12",null,"CAMLINFINE  $","Accu",{"v":93,"d":"93.00"},null,149,{"v":140,"d":"140.00"},"Profit of Rs 56/-",{"v":56,"d":"56.00"},{"v":0.6021505376344086,"d":"60.22%"},"Successful","2017-01-05"]
[53,"2016-04-12",null,"Greaves Cotton Ltd.","Accu",{"v":130,"d":"130.00"},null,150,"150-155","Target Achieved ",{"v":20,"d":"20.00"},{"v":0.15384615384615385,"d":"15.38%"},"Successful","2016-07-13"]
[54,"2016-04-13",null,"DHFL","Accu",{"v":196,"d":"196.00"},null,299,{"v":299,"d":"299.00"},"Target Achieved ",{"v":103,"d":"103.00"},{"v":0.525510204081633,"d":"52.55%"},"Successful","2016-09-07"]
[55,"2016-04-13",null,"Magma","Accu",{"v":88,"d":"88.00"},null,103,{"v":103,"d":"103.00"},"Target Achieved ",{"v":15,"d":"15.00"},{"v":0.170454545454545,"d":"17.05%"},"Successful","2016-06-09"]
[56,"2016-05-02",null,"KEC International ltd $","Accu",{"v":127.5,"d":"127.50"},null,148,"148-150","Target Achieved ",{"$f":"H165-F165","v":{"v":20.5,"d":"20.50"}},{"$f":"K165/F165","v":{"v":0.1607843137254902,"d":"16.08%"}},"Successful","2016-07-13"]
[57,"2016-05-03",null,"Mindtree","Accu",{"v":675,"d":"675.00"},null,815,"790-800","Target Achieved ",{"$f":"H166-F166","v":{"v":140,"d":"140.00"}},{"$f":"K166/F166","v":{"v":0.2074074074074074,"d":"20.74%"}},"Successful","2018-02-23"]
[58,"2016-06-01",null,"Atulauto","Accu",500,null,{"v":232.5,"d":"232.50"},"565-570","Loss of Rs.267.50 /-",{"$f":"H167-F167","v":{"v":-267.5,"d":"-267.50"}},{"$f":"K167/F167","v":{"v":-0.535,"d":"-53.50%"}},"Unsuccessful","2019-09-27"]
[59,"2016-06-06",null,"TRITURBINE","Accu",{"v":110,"d":"110.00"},null,126.5,{"v":125,"d":"125.00"},"Profit of Rs.16.50/-",{"$f":"H168-F168","v":{"v":16.5,"d":"16.50"}},{"$f":"K168/F168","v":{"v":0.15,"d":"15.00%"}},"Successful","2016-07-01"]
[60,"2016-06-17",null,"Pennar Industries Ltd","Accu",{"v":44,"d":"44.00"},null,69.5,{"v":69.5,"d":"69.50"},"Profit of Rs.25.50/-",{"$f":"H169-F169","v":{"v":25.5,"d":"25.50"}},{"$f":"K169/F169","v":{"v":0.5795454545454546,"d":"57.95%"}},"Successful","2017-08-30"]
[61,"2016-06-28",null,"EVEREADY","Accu",{"v":262.5,"d":"262.50"},null,340,{"v":333,"d":"333.00"},"Profit of Rs.77.50/-",{"v":77.5,"d":"77.50"},{"v":0.295238095238095,"d":"29.52%"},"Successful","2017-10-09"]
[62,"2016-06-28",null,"FIEMIND","Accu",{"v":840,"d":"840.00"},null,1230,{"v":1230,"d":"1230.00"},"Target Achieved ",{"v":390,"d":"390.00"},{"v":0.464285714285714,"d":"46.43%"},"Successful","2016-10-06"]
[63,"2016-07-05",null,"Bajaj Corp Ltd","Accu",395,null,{"$f":"(468.5+342.5)/2","v":{"v":405.5,"d":"405.50"}},{"v":510,"d":"510.00"},"Profit of Rs.10.50/-",{"$f":"H172-F172","v":{"v":10.5,"d":"10.50"}},{"$f":"K172/F172","v":{"v":0.026582278481012658,"d":"3%"}},"Neutral","2019-05-21"]
[64,"2016-08-02",null,"GPPL $","Buy",{"$f":"169.5-12.8","v":156.7},null,{"v":77,"d":"77.00"},"198-200","Loss of Rs.79.7/-",{"v":-79.69999999999999,"d":"-79.70"},{"v":-0.5086151882578175,"d":"-50.86%"},"Unsuccessful","2019-02-26"]
[65,"2016-08-04",null,"WONDERLA HOLIDAYS LTD","Accu",400,null,{"v":305,"d":"305.00"},{"v":475,"d":"475.00"},"Loss of Rs.95/-",{"v":-95,"d":"-95.00"},{"v":-0.2375,"d":"-23.75%"},"Unsuccessful","2019-05-21"]
[66,"2016-08-11",null,"CAMLINFINE","Accu",{"v":86.5,"d":"86.50"},null,130,{"v":130,"d":"130.00"},"Profit of Rs.43.50/-",{"v":43.5,"d":"43.50"},{"v":0.5028901734104047,"d":"50.29%"},"Successful","2017-12-22"]
[67,"2016-08-18",null,"GRANULES","Accu",133.5,null,{"v":126.5,"d":"126.50"},{"v":178,"d":"178.00"},"Exit",{"v":-7,"d":"-7.00"},{"v":-0.052434456928838954,"d":"-5.24%"},"Unsuccessful","2016-09-02"]
[68,"2016-08-31",null,"VA TECH WABAG","Accu",{"v":560,"d":"560.00"},null,725,{"v":725,"d":"725.00"},"Target Achieved",{"v":165,"d":"165.00"},{"v":0.29464285714285715,"d":"29.46%"},"Successful","2016-03-27"]
[69,"2016-09-01",null,"SKIPPER LIMITED","Accu",{"v":160.5,"d":"160.50"},null,210,{"v":210,"d":"210.00"},"Target Achieved",{"v":49.5,"d":"49.50"},{"v":0.308411214953271,"d":"30.84%"},"Successful","2017-05-16"]
[70,"2016-10-03",null,"IFBIND","Accu",{"v":430,"d":"430.00"},null,596,{"v":575,"d":"575.00"},"Profit of Rs.166/-",{"v":166,"d":"166.00"},{"v":0.386046511627907,"d":"38.60%"},"Successful","2017-02-03"]
[71,"2016-10-14",null,"ASIANTILES","Accu",{"v":280,"d":"280.00"},null,345,{"v":345,"d":"345.00"},"Target Achieved",{"$f":"H180-F180","v":{"v":65,"d":"65.00"}},{"$f":"K180/F180","v":{"v":0.23214285714285715,"d":"23.21%"}},"Successful","2017-03-20"]
[72,"2016-10-14",null,"DEEPIND","Accu",{"v":245,"d":"245.00"},null,325.5,{"v":330,"d":"330.00"},"Profit of Rs.80.5/-",{"v":80.5,"d":"80.50"},{"$f":"K181/F181","v":{"v":0.32857142857142857,"d":"32.86%"}},"Successful","2017-02-03"]
[73,"2016-10-17",null,"DCBBANK","Accu",{"v":125,"d":"125.00"},null,160,{"v":160,"d":"160.00"},"Target Achieved ",{"v":35,"d":"35.00"},{"v":0.28,"d":"28.00%"},"Successful","2017-03-09"]
[74,"2016-10-17",null,"ORIENTREF","Accu",{"v":114,"d":"114.00"},null,145,{"v":145,"d":"145.00"},"Target Achieved ",{"v":31,"d":"31.00"},{"$f":"K183/F183","v":{"v":0.2719298245614035,"d":"27.19%"}},"Successful","2017-05-04"]
[75,"2016-10-17",null,"GANECOS","Accu",{"v":212,"d":"212.00"},null,280,{"v":276,"d":"276.00"},"Profit of Rs.68/-",{"v":68,"d":"68.00"},{"$f":"K184/F184","v":{"v":0.32075471698113206,"d":"32.08%"}},"Successful","2017-05-03"]
[76,"2016-11-04",null,"NBCC","Accu",{"v":155,"d":"155.00"},null,210,{"v":210,"d":"210.00"},"Profit of Rs.55/-",{"v":55,"d":"55.00"},{"$f":"K185/F185","v":{"v":0.3548387096774194,"d":"35.48%"}},"Successful","2017-07-28"]
[77,"2016-12-06",null,"PRECAM","Accu",150.5,null,{"v":72.5,"d":"72.50"},{"v":174,"d":"174.00"},"Loss of Rs.78/-",{"v":-78,"d":"-78.00"},{"v":-0.518272425249169,"d":"-51.83%"},"Unsuccessful","2018-08-21"]
[78,"2016-12-08",null,"INFRATEL","Accu",{"v":380,"d":"380.00"},null,478,{"v":468,"d":"468.00"},"Target Achieved ",{"$f":"H187-F187","v":{"v":98,"d":"98.00"}},{"$f":"K187/F187","v":{"v":0.2578947368421053,"d":"25.79%"}},"Successful","2017-10-17"]
[79,"2016-12-30",null,"GODREJPROP","Accu",{"v":305,"d":"305.00"},null,375,{"v":375,"d":"375.00"},"Target Achieved ",{"$f":"H188-F188","v":{"v":70,"d":"70.00"}},{"$f":"K188/F188","v":{"v":0.22950819672131148,"d":"22.95%"}},"Successful","2017-02-02"]
[80,"2017-01-04",null,"DEEPAKNTR","Accu",{"v":99.5,"d":"99.50"},null,158,{"v":158,"d":"158.00"},"Target Achieved ",{"$f":"H189-F189","v":{"v":58.5,"d":"58.50"}},{"$f":"K189/F189","v":{"v":0.5879396984924623,"d":"58.79%"}},"Successful","2017-06-12"]
[81,"2017-01-04",null,"DEEPAKNTR","Accu",{"v":99.5,"d":"99.50"},null,158,{"v":158,"d":"158.00"},"Target Achieved ",{"v":58.5,"d":"58.50"},{"v":0.587939698492462,"d":"58.79%"},"Successful","2017-06-12"]
[82,"2017-02-20",null,"RECLTD","Accu",{"v":140.5,"d":"140.50"},null,220,{"v":220,"d":"220.00"},"Target Achieved ",{"$f":"H191-F191","v":{"v":79.5,"d":"79.50"}},{"$f":"K191/F191","v":{"v":0.5658362989323843,"d":"56.58%"}},"Successful","2017-05-09"]
[83,"2017-02-20",null,"SUBROS","Accu",{"v":202.5,"d":"202.50"},null,234,{"v":234,"d":"234.00"},"Target Achieved ",{"v":31.5,"d":"31.50"},{"v":0.155555555555556,"d":"15.56%"},"Successful","2017-04-11"]
[84,"2017-03-24",null,"VRLLOG","Accu",{"v":300.5,"d":"300.50"},null,417.5,{"v":420,"d":"420.00"},"Profit of Rs.117/-",{"$f":"H193-F193","v":{"v":117,"d":"117.00"}},{"$f":"K193/F193","v":{"v":0.389351081530782,"d":"38.94%"}},"Successful","2017-12-01"]
[85,"2017-03-24",null,"FIEMIND","Accu",{"v":850,"d":"850.00"},null,1042.5,{"v":1023,"d":"1023.00"},"Profit of Rs 192.50/-",{"v":192.5,"d":"192.50"},{"v":0.226470588235294,"d":"22.65%"},"Successful","2017-04-05"]
[86,"2017-04-05",null,"RATNAMANI","Accu",{"v":785,"d":"785.00"},null,930,{"v":920,"d":"920.00"},"Profit of Rs.145/-",{"$f":"H195-F195","v":{"v":145,"d":"145.00"}},{"$f":"K195/F195","v":{"v":0.18471337579617833,"d":"18.47%"}},"Successful","2017-08-29"]
[87,"2017-04-06",null,"ZEEMEDIA","Accu",40,null,{"v":13.1,"d":"13.10"},{"v":60,"d":"60.00"},"Loss of Rs.26.9/-",{"v":-26.9,"d":"-26.90"},{"v":-0.6725,"d":"-67.25%"},"Unsuccessful","2018-02-07"]
[88,"2017-04-12",null,"DABUR","Accu",{"v":289.5,"d":"289.50"},null,354,{"v":360,"d":"360.00"},"Profit of Rs.64.5/-",{"$f":"H197-F197","v":{"v":64.5,"d":"64.50"}},{"$f":"K197/F197","v":{"v":0.22279792746113988,"d":"22.28%"}},"Successful","2017-11-01"]
[89,"2017-04-20",null,"KPRMILL","Accu",{"v":700,"d":"700.00"},null,840,{"v":840,"d":"840.00"},"Profit of Rs.140/-",{"v":140,"d":"140.00"},{"v":0.2,"d":"20.00%"},"Successful","2017-06-07"]
[90,"2017-06-01",null,"ESSELPACK","Accu",{"v":130,"d":"130.00"},null,144.25,{"v":170,"d":"170.00"},"Profit of Rs.14.25/-",14.25,{"v":0.10961538461538461,"d":"10.96%"},"Successful","2019-07-29"]
[91,"2017-06-15",null,"KEI ","Accu",{"v":214.5,"d":"214.50"},null,262,{"v":262,"d":"262.00"},"Profit of Rs.47.5/-",{"v":47.5,"d":"47.50"},{"v":0.22144522144522144,"d":"22.14%"},"Successful","2017-08-30"]
[92,"2017-07-17",null,"MAYURUNIQ","Accu",{"v":370,"d":"370.00"},null,447.5,{"v":450,"d":"450.00"},"Target Achieved ",{"v":77.5,"d":"77.50"},{"v":0.20945945945945946,"d":"20.95%"},"Successful","2017-10-27"]
[93,"2017-07-27",null,"RAMCOCEM","Accu",{"v":657.5,"d":"657.50"},null,825,{"v":820,"d":"820.00"},"Target Achieved ",{"v":167.5,"d":"167.50"},{"v":0.25475285171102663,"d":"25.48%"},"Successful","2017-12-21"]
[94,"2017-08-17",null,"FINPIPE","Accu",{"v":605,"d":"605.00"},null,750,{"v":750,"d":"750.00"},"Profit of Rs.145/-",{"v":145,"d":"145.00"},{"v":0.2396694214876033,"d":"23.97%"},"Successful","2017-10-19"]
[95,"2017-09-01",null,"SHK","Accu",255,null,217.25,{"v":320,"d":"320.00"},"Loss of Rs.37.75/-",-37.75,{"v":-0.1480392156862745,"d":"-15%"},"Unsuccessful","2019-07-15"]
[96,"2017-09-19",null,"SKIPPER","Accu",{"v":215,"d":"215.00"},null,258,{"v":258,"d":"258.00"},"Target Achieved ",{"v":43,"d":"43.00"},{"v":0.2,"d":"20.00%"},"Successful","2017-11-01"]
[97,"2017-09-19",null,"SKIPPER","Accu",{"v":215,"d":"215.00"},null,258,{"v":258,"d":"258.00"},"Target Achieved ",{"v":43,"d":"43.00"},{"v":0.2,"d":"20.00%"},"Successful","2017-11-01"]
[98,"2017-09-20",null,"CAMLINFINE$","Accu",{"v":75,"d":"75.00"},null,90,{"v":90,"d":"90.00"},"Profit of Rs.15.00/-",{"$f":"H207-F207","v":{"v":15,"d":"15.00"}},{"$f":"K207/F207","v":{"v":0.2,"d":"20.00%"}},"Successful","2017-10-11"]
[99,"2017-10-03",null,"GNA","Accu",{"v":315,"d":"315.00"},null,392,{"v":384,"d":"384.00"},"Profit of Rs.77/-",{"v":77,"d":"77.00"},{"v":0.24444444444444444,"d":"24.44%"},"Successful","2017-10-09"]
[100,"2017-10-05",null,"NOCIL","Accu",{"v":145,"d":"145.00"},null,179,{"v":180,"d":"180.00"},"Profit of Rs.34/-",{"v":34,"d":"34.00"},{"v":0.23448275862068965,"d":"23.45%"},"Successful","2017-10-17"]
[101,"2017-10-06",null,"CENTURYPLY","Accu",{"v":256,"d":"256.00"},null,323,{"v":320,"d":"320.00"},"Target Achieved ",{"v":67,"d":"67.00"},{"v":0.26171875,"d":"26.17%"},"Successful","2017-11-28"]
[102,"2017-10-09",null,"EIHOTEL","Accu",{"v":137.5,"d":"137.50"},null,184,{"v":183,"d":"183.00"},"Profit of Rs.46.5/-",{"v":46.5,"d":"46.50"},{"v":0.3381818181818182,"d":"33.82%"},"Successful","2018-01-08"]
[103,"2017-10-10",null,"NRBBEARING","Accu",{"v":125.5,"d":"125.50"},null,158,{"v":155,"d":"155.00"},"Profit of Rs.32.5/-",{"v":32.5,"d":"32.50"},{"v":0.2589641434262948,"d":"25.90%"},"Successful","2017-11-28"]
[104,"2017-10-10",null,"BOROSIL","Accu",{"v":895,"d":"895.00"},null,1122.5,{"v":1078,"d":"1078.00"},"Profit of Rs.227.5/-",{"v":227.5,"d":"227.50"},{"v":0.254189944134078,"d":"25.42%"},"Successful","2018-01-17"]
[105,"2017-10-12",null,"CYIENT","Accu",{"v":525,"d":"525.00"},null,629,{"v":629,"d":"629.00"},"Target Achieved ",{"v":104,"d":"104.00"},{"v":0.198095238095238,"d":"19.81%"},"Successful","2018-01-19"]
[106,"2017-11-07",null,"HATSUN","Accu",{"v":740,"d":"740.00"},null,892.5,{"v":900,"d":"900.00"},"Profit of Rs.152.5/-",{"$f":"H215-F215","v":{"v":152.5,"d":"152.50"}},{"$f":"K215/F215","v":{"v":0.20608108108108109,"d":"20.61%"}},"Successful","2017-11-13"]
[107,"2017-12-04",null,"SANGHIIND","Accu",{"v":118.5,"d":"118.50"},null,143.5,{"v":145,"d":"145.00"},"Profit of Rs.25/-",{"$f":"H216-F216","v":{"v":25,"d":"25.00"}},{"$f":"K216/F216","v":{"v":0.2109704641350211,"d":"21.10%"}},"Successful","2017-12-28"]
[108,"2017-12-21",null,"KAJARIACER","Accu",715,null,{"v":500,"d":"500.00"},{"v":872,"d":"872.00"},"Loss of Rs.215/-",{"$f":"H217-F217","v":{"v":-215,"d":"-215.00"}},{"$f":"K217/F217","v":{"v":-0.3006993006993007,"d":"-30.07%"}},"Unsuccessful","2019-07-24"]
[109,"2017-12-29",null,"GNA","Accu",{"v":435,"d":"435.00"},null,542.5,{"v":539,"d":"539.00"},"Target Achieved ",{"v":107.5,"d":"107.50"},{"v":0.247126436781609,"d":"24.71%"},"Successful","2018-04-16"]
[110,"2017-12-29",null,"ZENSARTECH","Accu",{"v":885,"d":"885.00"},null,1090,{"v":1084,"d":"1084.00"},"Target Achieved ",{"v":205,"d":"205.00"},{"v":0.231638418079096,"d":"23.16%"},"Successful","2018-04-23"]
[111,"2018-04-02",null,"EVERESTIND","Accu",{"v":478.5,"d":"478.50"},null,442,{"v":613,"d":"613.00"},"Loss of Rs.36.50 /-",{"$f":"H220-F220","v":{"v":-36.5,"d":"-36.50"}},{"$f":"K220/F220","v":{"v":-0.07628004179728318,"d":"-7.63%"}},"Unsuccessful","2019-10-24"]
[112,"2018-04-04",null,"GPPL$","Accu",{"$f":"141.5-7.3","v":134.2},null,{"v":77,"d":"77.00"},{"v":180,"d":"180.00"},"Loss of Rs.57.2/-",{"$f":"H221-F221","v":{"v":-57.19999999999999,"d":"-57.20"}},{"$f":"K221/F221","v":{"v":-0.4262295081967213,"d":"-42.62%"}},"Unsuccessful","2019-02-26"]
[113,"2018-04-19",null,"MANPASAND","Accu",430,null,{"v":220,"d":"220.00"},{"v":537,"d":"537.00"},"Loss of Rs.210/-",{"$f":"H222-F222","v":{"v":-210,"d":"-210.00"}},{"$f":"K222/F222","v":{"v":-0.4883720930232558,"d":"-48.84%"}},"Unsuccessful","2018-06-01"]
[114,"2018-04-30",null,"HEIDELBERG","Accu",{"v":153.5,"d":"153.50"},null,{"v":196,"d":"196.00"},{"v":196,"d":"196.00"}," Profit of Rs.42.50/-",{"$f":"H223-F223","v":{"v":42.5,"d":"42.50"}},{"$f":"K223/F223","v":{"v":0.2768729641693811,"d":"28%"}},"Successful","2019-05-20"]
[115,"2018-07-25",null,"ZEEMEDIA","Accu",27.5,null,{"v":13.1,"d":"13.10"},{"v":60,"d":"60.00"},"Loss of Rs.14.40/-",{"v":-14.4,"d":"-14.40"},{"v":-0.523636363636364,"d":"-52.36%"},"Unsuccessful","2018-02-07"]
[116,"2018-08-06",null,"GABRIEL","Accu",148.5,null,102,{"v":182,"d":"182.00"},"Loss of Rs.46.50/-",{"$f":"H225-F225","v":{"v":-46.5,"d":"-46.50"}},{"$f":"K225/F225","v":{"v":-0.31313131313131315,"d":"-31.31%"}},"Unsuccessful","2019-07-15"]
[117,"2018-08-23",null,"INDIANHUME","Accu",285,null,355,{"v":364,"d":"364.00"},"Profit of Rs.70/-",{"v":70,"d":"70.00"},{"v":0.245614035087719,"d":"24.56%"},"Successful","2018-12-21"]
[118,"2018-08-29",null,"GRINDWELL","Accu",525,null,585,{"v":635,"d":"635.00"},"Profit of Rs.60-",{"$f":"H227-F227","v":{"v":60,"d":"60.00"}},{"$f":"K227/F227","v":{"v":0.11428571428571428,"d":"11.43%"}},"Successful","2019-07-16"]
[119,"2018-10-22",null,"FINPIPE","Accu",475,null,574,{"v":570,"d":"570.00"},"Target Achieved ",{"v":99,"d":"99.00"},{"v":0.20842105263157895,"d":"20.84%"},"Successful","2018-10-30"]
[120,"2018-10-24",null,"GULFOILLUB","Accu",707.5,null,872,{"v":872,"d":"872.00"},"Target Achieved ",{"v":164.5,"d":"164.50"},{"v":0.2325088339222615,"d":"23.25%"},"Successful","2019-01-17"]
[121,"2018-10-25",null,"DBCORP","Accu",162,null,204,{"v":209,"d":"209.00"},"Profit of Rs.42/-",{"v":42,"d":"42.00"},{"v":0.25925925925925924,"d":"25.93%"},"Successful","2019-03-15"]
[122,"2018-10-26",null,"RITES","Accu",240,null,297,{"v":297,"d":"297.00"},"Target Achieved ",{"v":57,"d":"57.00"},{"v":0.2375,"d":"23.75%"},"Successful","2018-11-13"]
[123,"2018-12-05",null,"BRIGADE ","Accu",202.5,null,255,{"v":252,"d":"252.00"},"Target Achieved ",{"v":52.5,"d":"52.50"},{"v":0.25925925925925924,"d":"25.93%"},"Successful","2019-03-18",{"$nulls":3},"V"]
[124,"2018-12-31",null,"JKCEMENT","Accu",710,null,866,{"v":866,"d":"866.00"},"Target Achieved ",{"v":156,"d":"156.00"},{"v":0.21971830985915494,"d":"21.97%"},"Successful","2019-03-29",{"$nulls":3},"V"]
[125,"2019-02-26",null,"MARICO","Accu",337.25,null,398.5,{"v":411,"d":"411.00"},"Profit of Rs.61.25/-",61.25,{"v":0.1816160118606375,"d":"18.16%"},"Successful","2019-10-22",{"$nulls":3},"V"]
[126,"2019-04-04",null,"ITDCEM","Accu",130,null,65,{"v":158,"d":"158.00"},"Loss of Rs.65 /-",{"v":-65,"d":"-65.00"},{"v":-0.5,"d":"-50.00%"},"Unsuccessful","2019-09-18",{"$nulls":3},"K"]
[127,"2017-10-09",null,"RECLTD","Accu",141.5,null,{"v":183.5,"d":"183.50"},{"v":210,"d":"210.00"},"Part Profit of Rs.42/-",{"v":42,"d":"42.00"},{"v":0.2968197879858657,"d":"30%"},"Successful","2017-11-03",{"$nulls":3},"K"]
[128,"2017-12-05",null,"ALLCARGO","Accu",{"v":172,"d":"172.00"},null,155.25,{"v":230,"d":"230.00"},"Loss of Rs.16.75/-",{"$f":"H237-F237","v":-16.75},{"$f":"K237/F237","v":{"v":-0.09738372093023256,"d":"-9.74%"}},"Unsuccessful","2019-11-18",{"$nulls":3},"K"]
[129,"2018-10-25",null,"GODREJCP","Accu",{"v":698.5,"d":"698.50"},null,{"v":850,"d":"850.00"},{"v":890,"d":"890.00"},"Part Profit of Rs.151.50/-",{"v":151.5,"d":"151.50"},{"v":0.21689334287759485,"d":"22%"},"Successful","2018-12-19",{"$nulls":3},"V"]
[130,"2017-05-22",null,"GREAVESCOT","Accu",127.6,null,{"v":138,"d":"138.00"},{"v":190,"d":"190.00"},"Profit of Rs.10.40",{"v":10.400000000000006,"d":"10.40"},{"v":0.08150470219435742,"d":"8%"},"Successful","2019-11-05",{"$nulls":3},"K"]
[131,"2018-02-27",null,"MOLDTKPAC","Accu",317,null,{"v":382.5,"d":"382.50"},{"v":398,"d":"398.00"},"Profit of Rs.65.5",{"$f":"H240-F240","v":{"v":65.5,"d":"65.50"}},{"$f":"K240/F240","v":{"v":0.20662460567823343,"d":"21%"}},"Successful","2021-02-11",{"$nulls":3},"K"]
[132,"2018-03-05",null,"LICHSGFIN","Accu",{"$f":"510-14.4","v":{"v":495.6,"d":"495.60"}},null,350,{"v":672,"d":"672.00"},"Loss of Rs.145.60/-",{"$f":"H241-F241","v":{"v":-145.60000000000002,"d":"-145.60"}},{"$f":"K241/F241","v":{"v":-0.2937853107344633,"d":"-29.38%"}},"Unsuccessful","2020-02-26",{"$nulls":3},"V"]
[133,"2018-05-17",null,"PHILIPCARB","Accu",{"v":230.3,"d":"230.30"},null,102.5,{"v":348,"d":"348.00"},"Loss of Rs.127.80/-",{"$f":"H242-F242","v":{"v":-127.80000000000001,"d":"-127.80"}},{"$f":"K242/F242","v":{"v":-0.5549283543204516,"d":"-55.49%"}},"Unsuccessful","2020-03-06",{"$nulls":3},"V"]
[134,"2018-06-07",null,"KEC","Accu",{"$f":"342.5-5.1","v":337.4},null,{"v":412.5,"d":"412.50"},{"v":439,"d":"439.00"},"Profit of Rs.75.10",{"v":75.10000000000002,"d":"75.10"},{"v":0.22258446947243635,"d":"22%"},"Successful","2021-02-03",{"$nulls":3},"K"]
[135,"2018-07-04",null,"ASHOKLEY","Accu",{"$f":"127.5-5.53","v":121.97},null,null,{"v":170,"d":"170.00"},"Open",null,null,"Open",{"$nulls":4},"V"]
[136,"2018-07-13",null,"FCONSUMER","Accu",{"v":46.5,"d":"46.50"},null,17,{"v":59,"d":"59.00"},"Loss of Rs.29.50/-",{"$f":"H245-F245","v":{"v":-29.5,"d":"-29.50"}},{"$f":"K245/F245","v":{"v":-0.6344086021505376,"d":"-63.44%"}},"Unsuccessful","2020-02-26",{"$nulls":3},"V"]
[137,"2018-10-23",null,"JKPAPER","Accu",{"v":156.5,"d":"156.50"},null,null,{"v":191,"d":"191.00"},"Open",null,null,"Open",{"$nulls":4},"V"]
[138,"2018-12-05",null,"CCL","Accu",{"v":259.5,"d":"259.50"},null,null,{"v":321,"d":"321.00"},"Open",null,null,"Open",{"$nulls":4},"V"]
[139,"2018-12-05",null,"VARROC ","Accu",715,null,445,{"v":840,"d":"840.00"},"Loss of Rs.270/-",{"$f":"H248-F248","v":{"v":-270,"d":"-270.00"}},{"$f":"K248/F248","v":{"v":-0.3776223776223776,"d":"-37.76%"}},"Unsuccessful","2019-12-01",{"$nulls":3},"V"]
[140,"2019-01-04",null,"MGL","Accu",875,null,1165,{"v":1185,"d":"1185.00"},"Profit of Rs.290/-",{"v":290,"d":"290.00"},{"v":0.3314285714285714,"d":"33.14%"},"Successful","2020-01-17",{"$nulls":3},"V"]
[141,"2019-04-04",null,"COCHINSHIP","Accu",{"$f":"387-14.63","v":372.37},null,490,{"v":490,"d":"490.00"},"Target Achieved ",117.63,{"v":0.3158954803018503,"d":"31.59%"},"Successful","2020-01-20",{"$nulls":3},"V"]
[142,"2019-04-23",null,"MAHINDCIE ","Buy",220,null,127.5,{"v":284,"d":"284.00"},"Loss of Rs.92.50/-",{"v":-92.5,"d":"-92.50"},{"v":-0.42045454545454547,"d":"-42.05%"},"Unsuccessful","2020-03-06",{"$nulls":3},"V"]
[143,"2019-06-06",null,"RADICO","Buy",332.8,null,405,{"v":419,"d":"419.00"},"Profit of Rs.72.20/-",{"$f":"H252-F252","v":{"v":72.19999999999999,"d":"72.20"}},{"$f":"K252/F252","v":{"v":0.21694711538461534,"d":"21.69%"}},"Successful","2020-01-30",{"$nulls":3},"K"]
[144,"2019-06-25",null,"M&MFIN","Accu",386,null,{"v":395,"d":"395.00"},{"v":452,"d":"452.00"},"Profit of Rs.9/-",{"$f":"H253-F253","v":{"v":9,"d":"9.00"}},{"$f":"K253/F253","v":{"v":0.023316062176165803,"d":"2%"}},"Neutral","2020-02-07",{"$nulls":3},"K"]
[145,"2019-08-30",null,"INDHOTEL","Accu","135-140",null,null,{"v":190,"d":"190.00"},"Open",null,null,"Open",{"$nulls":4},"V"]
[146,"2019-09-23",null,"KNRCON","Accu",235,null,295,{"v":296,"d":"296.00"},"Profit of Rs.60/-",{"$f":"H255-F255","v":{"v":60,"d":"60.00"}},{"$f":"K255/F255","v":{"v":0.2553191489361702,"d":"25.53%"}},"Successful","2020-01-14",{"$nulls":3},"K"]
[147,"2019-10-14",null,"KEC$","Accu",277.5,null,333,{"v":333,"d":"333.00"},"Profit of Rs.55.50/-",{"$f":"H256-F256","v":{"v":55.5,"d":"55.50"}},{"$f":"K256/F256","v":{"v":0.2,"d":"20.00%"}},"Successful","2020-01-16",{"$nulls":3},"V"]
[148,"2019-10-14",null,"MGL$","Accu",930,null,1165,{"v":1200,"d":"1200.00"},"Profit of Rs.235/-",{"$f":"H257-F257","v":{"v":235,"d":"235.00"}},{"$f":"K257/F257","v":{"v":0.25268817204301075,"d":"25.27%"}},"Successful","2020-01-17",{"$nulls":3},"K"]
[149,"2019-10-15",null,"JKPAPER$","Accu",{"v":111,"d":"111.00"},null,null,{"v":141,"d":"141.00"},"Open",null,null,"Open",{"$nulls":4},"K"]
[150,"2019-10-15",null,"RADICO$","Accu",{"v":296,"d":"296.00"},null,370,{"v":370,"d":"370.00"},"Target Achieved ",{"$f":"H259-F259","v":{"v":74,"d":"74.00"}},{"$f":"K259/F259","v":{"v":0.25,"d":"25.00%"}},"Successful","2020-01-23",{"$nulls":3},"K"]
[151,"2019-10-16",null,"MOLDTKPAC$","Accu",{"v":300,"d":"300.00"},null,382.5,{"v":344,"d":"344.00"},"Profit of Rs.82.5",{"v":82.5,"d":"82.50"},{"v":0.275,"d":"27.50%"},"Successful","2021-02-11",{"$nulls":3},"K"]
[152,"2020-01-02",null,"PSPPROJECT","Accu","490-500",null,null,{"v":590,"d":"590.00"},"Open",null,null,"Open",{"$nulls":4},"K"]
[153,"2020-05-15",null,"BEL","Accu",{"v":67.5,"d":"67.50"},null,86,{"v":86,"d":"86.00"},"Profit of Rs.18.50/-",{"$f":"H262-F262","v":{"v":18.5,"d":"18.50"}},{"$f":"K262/F262","v":{"v":0.2740740740740741,"d":"27.41%"}},"Successful","2020-06-26",{"$nulls":3},"K"]
[154,"2020-07-23",null,"RITES","Accu","244-249",null,null,{"v":296,"d":"296.00"},"Open",{"$nulls":7},"K"]
[155,"2020-09-18",null,"IEX","Accu",206,null,248,{"v":248,"d":"248.00"},"Target Achieved ",{"$f":"H264-F264","v":{"v":42,"d":"42.00"}},{"$f":"K264/F264","v":{"v":0.20388349514563106,"d":"20.39%"}},"Successful","2021-01-18",{"$nulls":3},"K"]
[156,"2020-11-05",null,"IEX","Accu",182.5,null,248,{"v":248,"d":"248.00"},"Target Achieved ",{"v":65.5,"d":"65.50"},{"v":0.3589041095890411,"d":"35.89%"},"Successful","2021-01-18",{"$nulls":3},"K"]
[157,"2020-11-05",null,"CCL","Accu","245-250",null,null,{"v":320,"d":"320.00"},"Open",{"$nulls":7},"K"]
[158,"2020-11-05",null,"POLYCAB","Accu",{"v":925,"d":"925.00"},null,1095,{"v":1093,"d":"1093.00"},"Profit of Rs.170/-",{"$f":"H267-F267","v":{"v":170,"d":"170.00"}},{"$f":"K267/F267","v":{"v":0.1837837837837838,"d":"18.38%"}},"Successful","2021-01-05",{"$nulls":3},"K"]
[159,"2020-11-05",null,"COCHINSHIP","Accu","330-335",null,null,{"v":406,"d":"406.00"},"Open",{"$nulls":7},"K"]
[160,"2020-11-06",null,"RITES","Accu","237.5-242.5",null,null,{"v":290,"d":"290.00"},"Open",{"$nulls":7},"K"]
[161,"2020-12-22",null,"MIDHANI","Accu","187-193",null,null,{"v":239,"d":"239.00"},"Open",{"$nulls":7},"K"]
[]
[]
[]
[]
[null,"Re-initiated $"]